BEGIN:VCALENDAR
VERSION:2.0
PRODID:-//Clear Creek County Library District - ECPv6.15.16//NONSGML v1.0//EN
CALSCALE:GREGORIAN
METHOD:PUBLISH
X-WR-CALNAME:Clear Creek County Library District
X-ORIGINAL-URL:https://cccld.org
X-WR-CALDESC:Events for Clear Creek County Library District
REFRESH-INTERVAL;VALUE=DURATION:PT1H
X-Robots-Tag:noindex
X-PUBLISHED-TTL:PT1H
BEGIN:VTIMEZONE
TZID:America/Denver
BEGIN:DAYLIGHT
TZOFFSETFROM:-0700
TZOFFSETTO:-0600
TZNAME:MDT
DTSTART:20180311T090000
END:DAYLIGHT
BEGIN:STANDARD
TZOFFSETFROM:-0600
TZOFFSETTO:-0700
TZNAME:MST
DTSTART:20181104T080000
END:STANDARD
BEGIN:DAYLIGHT
TZOFFSETFROM:-0700
TZOFFSETTO:-0600
TZNAME:MDT
DTSTART:20190310T090000
END:DAYLIGHT
BEGIN:STANDARD
TZOFFSETFROM:-0600
TZOFFSETTO:-0700
TZNAME:MST
DTSTART:20191103T080000
END:STANDARD
BEGIN:DAYLIGHT
TZOFFSETFROM:-0700
TZOFFSETTO:-0600
TZNAME:MDT
DTSTART:20200308T090000
END:DAYLIGHT
BEGIN:STANDARD
TZOFFSETFROM:-0600
TZOFFSETTO:-0700
TZNAME:MST
DTSTART:20201101T080000
END:STANDARD
END:VTIMEZONE
BEGIN:VEVENT
DTSTART;VALUE=DATE:20190112
DTEND;VALUE=DATE:20190113
DTSTAMP:20260421T233836
CREATED:20190111T210324Z
LAST-MODIFIED:20190111T210324Z
UID:10004258-1547251200-1547337599@cccld.org
SUMMARY:MS GBBall Summit Tournament @ Summit MS - NO BUS (TIMES TBD)
DESCRIPTION:
URL:https://cccld.org/event/ms-gbball-summit-tournament-summit-ms-no-bus-times-tbd/
END:VEVENT
BEGIN:VEVENT
DTSTART;TZID=America/Denver:20190112T090000
DTEND;TZID=America/Denver:20190112T110000
DTSTAMP:20260421T233836
CREATED:20190111T210324Z
LAST-MODIFIED:20190111T210324Z
UID:10004262-1547283600-1547290800@cccld.org
SUMMARY:HS Wrestling Lyons Tournament @ Lyons - Weigh In 7AM (Wrestle 9AM)
DESCRIPTION:
URL:https://cccld.org/event/hs-wrestling-lyons-tournament-lyons-weigh-in-7am-wrestle-9am/
END:VEVENT
BEGIN:VEVENT
DTSTART;TZID=America/Denver:20190112T110000
DTEND;TZID=America/Denver:20190112T113000
DTSTAMP:20260421T233836
CREATED:20190111T210324Z
LAST-MODIFIED:20190111T210324Z
UID:10004264-1547290800-1547292600@cccld.org
SUMMARY:HS Ski Nordic @ Spring Gulch Carbondale - BUS TBD (Race 11AM)
DESCRIPTION:
URL:https://cccld.org/event/hs-ski-nordic-spring-gulch-carbondale-bus-tbd-race-11am/
END:VEVENT
BEGIN:VEVENT
DTSTART;TZID=America/Denver:20190112T110000
DTEND;TZID=America/Denver:20190112T113000
DTSTAMP:20260421T233836
CREATED:20190111T210324Z
LAST-MODIFIED:20190111T210324Z
UID:10004266-1547290800-1547292600@cccld.org
SUMMARY:MS Ski Nordic @ Spring Gulch Carbondale - BUS TBD (11:00AM Race)
DESCRIPTION:
URL:https://cccld.org/event/ms-ski-nordic-spring-gulch-carbondale-bus-tbd-1100am-race/
END:VEVENT
END:VCALENDAR