BEGIN:VCALENDAR
VERSION:2.0
PRODID:-//Clear Creek County Library District - ECPv6.15.16//NONSGML v1.0//EN
CALSCALE:GREGORIAN
METHOD:PUBLISH
X-WR-CALNAME:Clear Creek County Library District
X-ORIGINAL-URL:https://cccld.org
X-WR-CALDESC:Events for Clear Creek County Library District
REFRESH-INTERVAL;VALUE=DURATION:PT1H
X-Robots-Tag:noindex
X-PUBLISHED-TTL:PT1H
BEGIN:VTIMEZONE
TZID:America/Denver
BEGIN:DAYLIGHT
TZOFFSETFROM:-0700
TZOFFSETTO:-0600
TZNAME:MDT
DTSTART:20180311T090000
END:DAYLIGHT
BEGIN:STANDARD
TZOFFSETFROM:-0600
TZOFFSETTO:-0700
TZNAME:MST
DTSTART:20181104T080000
END:STANDARD
BEGIN:DAYLIGHT
TZOFFSETFROM:-0700
TZOFFSETTO:-0600
TZNAME:MDT
DTSTART:20190310T090000
END:DAYLIGHT
BEGIN:STANDARD
TZOFFSETFROM:-0600
TZOFFSETTO:-0700
TZNAME:MST
DTSTART:20191103T080000
END:STANDARD
BEGIN:DAYLIGHT
TZOFFSETFROM:-0700
TZOFFSETTO:-0600
TZNAME:MDT
DTSTART:20200308T090000
END:DAYLIGHT
BEGIN:STANDARD
TZOFFSETFROM:-0600
TZOFFSETTO:-0700
TZNAME:MST
DTSTART:20201101T080000
END:STANDARD
END:VTIMEZONE
BEGIN:VEVENT
DTSTART;TZID=America/Denver:20190119T093000
DTEND;TZID=America/Denver:20190119T113000
DTSTAMP:20260421T233836
CREATED:20190111T210326Z
LAST-MODIFIED:20190114T181641Z
UID:10004279-1547890200-1547897400@cccld.org
SUMMARY:HS Wrestling Strasburg Tournament @ Strasburg - Weigh In 7:30AM (Wrestle 9:30AM)
DESCRIPTION:
URL:https://cccld.org/event/hs-wrestling-strasburg-tournament-strasburg-weigh-in-730am-wrestle-930am/
CATEGORIES:Community Events
END:VEVENT
BEGIN:VEVENT
DTSTART;TZID=America/Denver:20190119T110000
DTEND;TZID=America/Denver:20190119T113000
DTSTAMP:20260421T233836
CREATED:20190111T210326Z
LAST-MODIFIED:20190114T181641Z
UID:10004280-1547895600-1547897400@cccld.org
SUMMARY:HS Ski Nordic @ Minturn - BUS TBD (Race 11AM)
DESCRIPTION:
URL:https://cccld.org/event/hs-ski-nordic-minturn-bus-tbd-race-11am/
CATEGORIES:Community Events
END:VEVENT
BEGIN:VEVENT
DTSTART;TZID=America/Denver:20190119T110000
DTEND;TZID=America/Denver:20190119T113000
DTSTAMP:20260421T233836
CREATED:20190111T210327Z
LAST-MODIFIED:20190114T181641Z
UID:10004281-1547895600-1547897400@cccld.org
SUMMARY:MS Ski Nordic @ Minturn - BUS TBD (11:00AM Race)
DESCRIPTION:
URL:https://cccld.org/event/ms-ski-nordic-minturn-bus-tbd-1100am-race/
CATEGORIES:Community Events
END:VEVENT
END:VCALENDAR