BEGIN:VCALENDAR
VERSION:2.0
PRODID:-//Clear Creek County Library District - ECPv6.15.16//NONSGML v1.0//EN
CALSCALE:GREGORIAN
METHOD:PUBLISH
X-WR-CALNAME:Clear Creek County Library District
X-ORIGINAL-URL:https://cccld.org
X-WR-CALDESC:Events for Clear Creek County Library District
REFRESH-INTERVAL;VALUE=DURATION:PT1H
X-Robots-Tag:noindex
X-PUBLISHED-TTL:PT1H
BEGIN:VTIMEZONE
TZID:America/Denver
BEGIN:DAYLIGHT
TZOFFSETFROM:-0700
TZOFFSETTO:-0600
TZNAME:MDT
DTSTART:20180311T090000
END:DAYLIGHT
BEGIN:STANDARD
TZOFFSETFROM:-0600
TZOFFSETTO:-0700
TZNAME:MST
DTSTART:20181104T080000
END:STANDARD
BEGIN:DAYLIGHT
TZOFFSETFROM:-0700
TZOFFSETTO:-0600
TZNAME:MDT
DTSTART:20190310T090000
END:DAYLIGHT
BEGIN:STANDARD
TZOFFSETFROM:-0600
TZOFFSETTO:-0700
TZNAME:MST
DTSTART:20191103T080000
END:STANDARD
BEGIN:DAYLIGHT
TZOFFSETFROM:-0700
TZOFFSETTO:-0600
TZNAME:MDT
DTSTART:20200308T090000
END:DAYLIGHT
BEGIN:STANDARD
TZOFFSETFROM:-0600
TZOFFSETTO:-0700
TZNAME:MST
DTSTART:20201101T080000
END:STANDARD
END:VTIMEZONE
BEGIN:VEVENT
DTSTART;TZID=America/Denver:20190125T090000
DTEND;TZID=America/Denver:20190125T093000
DTSTAMP:20260421T233836
CREATED:20190111T210328Z
LAST-MODIFIED:20190125T213412Z
UID:10003890-1548406800-1548408600@cccld.org
SUMMARY:HS Ski Alpine @ Ski Cooper - Bus @ 6AM (Race 9AM)
DESCRIPTION:
URL:https://cccld.org/event/hs-ski-alpine-ski-cooper-bus-6am-race-9am/
CATEGORIES:Community Events
END:VEVENT
BEGIN:VEVENT
DTSTART;TZID=America/Denver:20190125T090000
DTEND;TZID=America/Denver:20190125T093000
DTSTAMP:20260421T233836
CREATED:20190111T210329Z
LAST-MODIFIED:20190125T213412Z
UID:10003891-1548406800-1548408600@cccld.org
SUMMARY:MS Ski Alpine @ Keystone - NO BUS (9:00AM Race)
DESCRIPTION:
URL:https://cccld.org/event/ms-ski-alpine-keystone-or-vail-no-bus-900am-race-2/
CATEGORIES:Community Events
END:VEVENT
BEGIN:VEVENT
DTSTART;TZID=America/Denver:20190125T160000
DTEND;TZID=America/Denver:20190125T203000
DTSTAMP:20260421T233836
CREATED:20190111T210329Z
LAST-MODIFIED:20190125T213412Z
UID:10003892-1548432000-1548448200@cccld.org
SUMMARY:HS BBBall vs Lyons @ CCHS PTH (C 7:00\, JV 4:00. V 5:30)
DESCRIPTION:
URL:https://cccld.org/event/hs-bbball-vs-lyons-cchs-pth-c-700-jv-400-v-530/
CATEGORIES:Community Events
END:VEVENT
BEGIN:VEVENT
DTSTART;TZID=America/Denver:20190125T173000
DTEND;TZID=America/Denver:20190125T203000
DTSTAMP:20260421T233836
CREATED:20190111T210329Z
LAST-MODIFIED:20190125T213412Z
UID:10004282-1548437400-1548448200@cccld.org
SUMMARY:HS GBBall vs Lyons @ CCHS PTH (JV 5:30\, V 7:00)
DESCRIPTION:
URL:https://cccld.org/event/hs-gbball-vs-lyons-cchs-pth-jv-530-v-700/
CATEGORIES:Community Events
END:VEVENT
END:VCALENDAR