BEGIN:VCALENDAR
VERSION:2.0
PRODID:-//Clear Creek County Library District - ECPv6.15.16//NONSGML v1.0//EN
CALSCALE:GREGORIAN
METHOD:PUBLISH
X-ORIGINAL-URL:https://cccld.org
X-WR-CALDESC:Events for Clear Creek County Library District
REFRESH-INTERVAL;VALUE=DURATION:PT1H
X-Robots-Tag:noindex
X-PUBLISHED-TTL:PT1H
BEGIN:VTIMEZONE
TZID:America/Denver
BEGIN:DAYLIGHT
TZOFFSETFROM:-0700
TZOFFSETTO:-0600
TZNAME:MDT
DTSTART:20180311T090000
END:DAYLIGHT
BEGIN:STANDARD
TZOFFSETFROM:-0600
TZOFFSETTO:-0700
TZNAME:MST
DTSTART:20181104T080000
END:STANDARD
BEGIN:DAYLIGHT
TZOFFSETFROM:-0700
TZOFFSETTO:-0600
TZNAME:MDT
DTSTART:20190310T090000
END:DAYLIGHT
BEGIN:STANDARD
TZOFFSETFROM:-0600
TZOFFSETTO:-0700
TZNAME:MST
DTSTART:20191103T080000
END:STANDARD
BEGIN:DAYLIGHT
TZOFFSETFROM:-0700
TZOFFSETTO:-0600
TZNAME:MDT
DTSTART:20200308T090000
END:DAYLIGHT
BEGIN:STANDARD
TZOFFSETFROM:-0600
TZOFFSETTO:-0700
TZNAME:MST
DTSTART:20201101T080000
END:STANDARD
END:VTIMEZONE
BEGIN:VEVENT
DTSTART;VALUE=DATE:20190201
DTEND;VALUE=DATE:20190202
DTSTAMP:20260421T223634
CREATED:20190111T210753Z
LAST-MODIFIED:20190128T164801Z
UID:10004331-1548979200-1549065599@cccld.org
SUMMARY:First Friday Movie
DESCRIPTION:
URL:https://cccld.org/event/first-friday-movie/
CATEGORIES:Library Events
END:VEVENT
BEGIN:VEVENT
DTSTART;TZID=America/Denver:20190201T090000
DTEND;TZID=America/Denver:20190201T093000
DTSTAMP:20260421T223634
CREATED:20190111T210331Z
LAST-MODIFIED:20190125T213413Z
UID:10004310-1549011600-1549013400@cccld.org
SUMMARY:HS Ski Alpine @ Winter Park - Bus @ 6:30AM (Race 9AM)
DESCRIPTION:
URL:https://cccld.org/event/hs-ski-alpine-winter-park-bus-630am-race-9am-2/
CATEGORIES:Community Events
END:VEVENT
BEGIN:VEVENT
DTSTART;TZID=America/Denver:20190201T090000
DTEND;TZID=America/Denver:20190201T093000
DTSTAMP:20260421T223634
CREATED:20190111T210332Z
LAST-MODIFIED:20190125T213413Z
UID:10004311-1549011600-1549013400@cccld.org
SUMMARY:MS Ski Alpine @ Eldora - NO BUS (9:00AM Race)
DESCRIPTION:
URL:https://cccld.org/event/ms-ski-alpine-eldora-no-bus-900am-race/
CATEGORIES:Community Events
END:VEVENT
BEGIN:VEVENT
DTSTART;TZID=America/Denver:20190201T161500
DTEND;TZID=America/Denver:20190201T184500
DTSTAMP:20260421T223634
CREATED:20190111T210332Z
LAST-MODIFIED:20190125T213413Z
UID:10003893-1549037700-1549046700@cccld.org
SUMMARY:MS GBBall vs The Academy @ The Academy - Bus @ 2:30 (B 4:15\, A 5:15)
DESCRIPTION:
URL:https://cccld.org/event/ms-gbball-vs-the-academy-the-academy-bus-230-b-415-a-515/
CATEGORIES:Community Events
END:VEVENT
BEGIN:VEVENT
DTSTART;TZID=America/Denver:20190201T170000
DTEND;TZID=America/Denver:20190201T190000
DTSTAMP:20260421T223634
CREATED:20190129T182841Z
LAST-MODIFIED:20190129T182841Z
UID:10004226-1549040400-1549047600@cccld.org
SUMMARY:Movie Night: Beauty and the Beast
DESCRIPTION:Enjoy a free\, family-friendly movie on the big screen at your library! Satisfy your cravings with snacks and freshly-popped popcorn available for sale at our mini concessions stand.
URL:https://cccld.org/event/movie-night-beauty-and-the-beast/
LOCATION:Old School House\, 809 Taos St\, Georgetown\, CO\, United States
CATEGORIES:Library Events
GEO:39.707368;-105.695645
X-APPLE-STRUCTURED-LOCATION;VALUE=URI;X-ADDRESS=Old School House 809 Taos St Georgetown CO United States;X-APPLE-RADIUS=500;X-TITLE=809 Taos St:geo:-105.695645,39.707368
END:VEVENT
BEGIN:VEVENT
DTSTART;TZID=America/Denver:20190201T173000
DTEND;TZID=America/Denver:20190201T203000
DTSTAMP:20260421T223634
CREATED:20190111T210332Z
LAST-MODIFIED:20190125T213413Z
UID:10003895-1549042200-1549053000@cccld.org
SUMMARY:HS BBBall vs Twin Peaks @ CCHS (JV 5:30\, V 7:00)
DESCRIPTION:
URL:https://cccld.org/event/hs-bbball-vs-twin-peaks-cchs-jv-530-v-700/
CATEGORIES:Community Events
END:VEVENT
BEGIN:VEVENT
DTSTART;TZID=America/Denver:20190201T173000
DTEND;TZID=America/Denver:20190201T203000
DTSTAMP:20260421T223634
CREATED:20190111T210332Z
LAST-MODIFIED:20190125T213413Z
UID:10003913-1549042200-1549053000@cccld.org
SUMMARY:HS GBBall vs Twin Peaks @ CCHS PTH (JV 7:00\, V 5:30)
DESCRIPTION:
URL:https://cccld.org/event/hs-gbball-vs-twin-peaks-cchs-pth-jv-700-v-530/
CATEGORIES:Community Events
END:VEVENT
END:VCALENDAR