BEGIN:VCALENDAR
VERSION:2.0
PRODID:-//Clear Creek County Library District - ECPv6.15.16//NONSGML v1.0//EN
CALSCALE:GREGORIAN
METHOD:PUBLISH
X-ORIGINAL-URL:https://cccld.org
X-WR-CALDESC:Events for Clear Creek County Library District
REFRESH-INTERVAL;VALUE=DURATION:PT1H
X-Robots-Tag:noindex
X-PUBLISHED-TTL:PT1H
BEGIN:VTIMEZONE
TZID:America/Denver
BEGIN:DAYLIGHT
TZOFFSETFROM:-0700
TZOFFSETTO:-0600
TZNAME:MDT
DTSTART:20180311T090000
END:DAYLIGHT
BEGIN:STANDARD
TZOFFSETFROM:-0600
TZOFFSETTO:-0700
TZNAME:MST
DTSTART:20181104T080000
END:STANDARD
BEGIN:DAYLIGHT
TZOFFSETFROM:-0700
TZOFFSETTO:-0600
TZNAME:MDT
DTSTART:20190310T090000
END:DAYLIGHT
BEGIN:STANDARD
TZOFFSETFROM:-0600
TZOFFSETTO:-0700
TZNAME:MST
DTSTART:20191103T080000
END:STANDARD
BEGIN:DAYLIGHT
TZOFFSETFROM:-0700
TZOFFSETTO:-0600
TZNAME:MDT
DTSTART:20200308T090000
END:DAYLIGHT
BEGIN:STANDARD
TZOFFSETFROM:-0600
TZOFFSETTO:-0700
TZNAME:MST
DTSTART:20201101T080000
END:STANDARD
END:VTIMEZONE
BEGIN:VEVENT
DTSTART;VALUE=DATE:20190202
DTEND;VALUE=DATE:20190203
DTSTAMP:20260421T223635
CREATED:20190124T200112Z
LAST-MODIFIED:20190227T180057Z
UID:10004347-1549065600-1549151999@cccld.org
SUMMARY:Valentine cookies
DESCRIPTION:
URL:https://cccld.org/event/valentine-cookies/
CATEGORIES:Community Events
END:VEVENT
BEGIN:VEVENT
DTSTART;TZID=America/Denver:20190202T090000
DTEND;TZID=America/Denver:20190202T110000
DTSTAMP:20260421T223635
CREATED:20190111T210333Z
LAST-MODIFIED:20190125T213414Z
UID:10003931-1549098000-1549105200@cccld.org
SUMMARY:HS Wrestling vs Gilpin @ Gilpin HS - Weigh In 7AM (Wrestle 9AM)
DESCRIPTION:
URL:https://cccld.org/event/hs-wrestling-vs-gilpin-gilpin-hs-weigh-in-7am-wrestle-9am/
CATEGORIES:Community Events
END:VEVENT
BEGIN:VEVENT
DTSTART;TZID=America/Denver:20190202T100000
DTEND;TZID=America/Denver:20190202T140000
DTSTAMP:20260421T223635
CREATED:20190124T200349Z
LAST-MODIFIED:20190125T213414Z
UID:10004352-1549101600-1549116000@cccld.org
SUMMARY:HS BBall vs Denver Academy @ Denver Academy - NO BUS (JV 10:00AM\, V 12:30 PM)
DESCRIPTION:
URL:https://cccld.org/event/hs-bball-vs-denver-academy-denver-academy-no-bus-jv-1000am-v-1230-pm/
CATEGORIES:Community Events
END:VEVENT
BEGIN:VEVENT
DTSTART;TZID=America/Denver:20190202T110000
DTEND;TZID=America/Denver:20190202T113000
DTSTAMP:20260421T223635
CREATED:20190111T210333Z
LAST-MODIFIED:20190125T213414Z
UID:10003945-1549105200-1549107000@cccld.org
SUMMARY:HS Ski Nordic @ Aspen - BUS TBD (Race 11AM)
DESCRIPTION:
URL:https://cccld.org/event/hs-ski-nordic-aspen-bus-tbd-race-11am/
CATEGORIES:Community Events
END:VEVENT
BEGIN:VEVENT
DTSTART;TZID=America/Denver:20190202T110000
DTEND;TZID=America/Denver:20190202T113000
DTSTAMP:20260421T223635
CREATED:20190111T210333Z
LAST-MODIFIED:20190125T213414Z
UID:10004184-1549105200-1549107000@cccld.org
SUMMARY:MS Ski Nordic @ Aspen - BUS TBD (11:00AM Race)
DESCRIPTION:
URL:https://cccld.org/event/ms-ski-nordic-aspen-bus-tbd-1100am-race/
CATEGORIES:Community Events
END:VEVENT
BEGIN:VEVENT
DTSTART;TZID=America/Denver:20190202T113000
DTEND;TZID=America/Denver:20190202T123000
DTSTAMP:20260421T223635
CREATED:20190124T200349Z
LAST-MODIFIED:20190125T213414Z
UID:10004354-1549107000-1549110600@cccld.org
SUMMARY:HS GBB vs Denver Academy @ Denver Academy - NO BUS (JV Only 11:30AM)
DESCRIPTION:
URL:https://cccld.org/event/hs-gbb-vs-denver-academy-denver-academy-no-bus-jv-only-1130am/
CATEGORIES:Community Events
END:VEVENT
END:VCALENDAR