BEGIN:VCALENDAR
VERSION:2.0
PRODID:-//Clear Creek County Library District - ECPv6.15.16//NONSGML v1.0//EN
CALSCALE:GREGORIAN
METHOD:PUBLISH
X-ORIGINAL-URL:https://cccld.org
X-WR-CALDESC:Events for Clear Creek County Library District
REFRESH-INTERVAL;VALUE=DURATION:PT1H
X-Robots-Tag:noindex
X-PUBLISHED-TTL:PT1H
BEGIN:VTIMEZONE
TZID:America/Denver
BEGIN:DAYLIGHT
TZOFFSETFROM:-0700
TZOFFSETTO:-0600
TZNAME:MDT
DTSTART:20180311T090000
END:DAYLIGHT
BEGIN:STANDARD
TZOFFSETFROM:-0600
TZOFFSETTO:-0700
TZNAME:MST
DTSTART:20181104T080000
END:STANDARD
BEGIN:DAYLIGHT
TZOFFSETFROM:-0700
TZOFFSETTO:-0600
TZNAME:MDT
DTSTART:20190310T090000
END:DAYLIGHT
BEGIN:STANDARD
TZOFFSETFROM:-0600
TZOFFSETTO:-0700
TZNAME:MST
DTSTART:20191103T080000
END:STANDARD
BEGIN:DAYLIGHT
TZOFFSETFROM:-0700
TZOFFSETTO:-0600
TZNAME:MDT
DTSTART:20200308T090000
END:DAYLIGHT
BEGIN:STANDARD
TZOFFSETFROM:-0600
TZOFFSETTO:-0700
TZNAME:MST
DTSTART:20201101T080000
END:STANDARD
END:VTIMEZONE
BEGIN:VEVENT
DTSTART;TZID=America/Denver:20190205T130000
DTEND;TZID=America/Denver:20190205T140000
DTSTAMP:20260421T223243
CREATED:20190129T193103Z
LAST-MODIFIED:20190129T193103Z
UID:10004424-1549371600-1549375200@cccld.org
SUMMARY:Computer Basics
DESCRIPTION:
URL:https://cccld.org/event/computer-basics/
LOCATION:Idaho Springs Public Library\, 219 14th Avenue\, Idaho Springs\, CO\, 80452\, United States
CATEGORIES:Library Events
GEO:39.742052;-105.5183552
X-APPLE-STRUCTURED-LOCATION;VALUE=URI;X-ADDRESS=Idaho Springs Public Library 219 14th Avenue Idaho Springs CO 80452 United States;X-APPLE-RADIUS=500;X-TITLE=219 14th Avenue:geo:-105.5183552,39.742052
END:VEVENT
BEGIN:VEVENT
DTSTART;TZID=America/Denver:20190205T150000
DTEND;TZID=America/Denver:20190205T180000
DTSTAMP:20260421T223243
CREATED:20190111T210333Z
LAST-MODIFIED:20190125T213414Z
UID:10004193-1549378800-1549389600@cccld.org
SUMMARY:HS GBBall vs Longmont Christian @ Longmont Christian - Bus @ 1:15 (JV 3:00\, V 6:00)
DESCRIPTION:
URL:https://cccld.org/event/hs-gbball-vs-longmont-christian-longmont-christian-bus-115-jv-300-v-600/
CATEGORIES:Community Events
END:VEVENT
BEGIN:VEVENT
DTSTART;TZID=America/Denver:20190205T153000
DTEND;TZID=America/Denver:20190205T163000
DTSTAMP:20260421T223243
CREATED:20190129T193407Z
LAST-MODIFIED:20190129T193407Z
UID:10004427-1549380600-1549384200@cccld.org
SUMMARY:Crafternoon at the Library
DESCRIPTION:Zombify your stuffies for the Zombie Dance on Valentine’s Day!
URL:https://cccld.org/event/crafternoon-at-the-library/
LOCATION:Idaho Springs Public Library\, 219 14th Avenue\, Idaho Springs\, CO\, 80452\, United States
CATEGORIES:Library Events
GEO:39.742052;-105.5183552
X-APPLE-STRUCTURED-LOCATION;VALUE=URI;X-ADDRESS=Idaho Springs Public Library 219 14th Avenue Idaho Springs CO 80452 United States;X-APPLE-RADIUS=500;X-TITLE=219 14th Avenue:geo:-105.5183552,39.742052
END:VEVENT
BEGIN:VEVENT
DTSTART;TZID=America/Denver:20190205T161500
DTEND;TZID=America/Denver:20190205T184500
DTSTAMP:20260421T223243
CREATED:20190111T210334Z
LAST-MODIFIED:20190125T213414Z
UID:10004194-1549383300-1549392300@cccld.org
SUMMARY:MS GBBall vs Jefferson @ CCMS (B 4:15\, A 5:15)
DESCRIPTION:
URL:https://cccld.org/event/ms-gbball-vs-jefferson-ccms-b-415-a-515/
CATEGORIES:Community Events
END:VEVENT
BEGIN:VEVENT
DTSTART;TZID=America/Denver:20190205T163000
DTEND;TZID=America/Denver:20190205T203000
DTSTAMP:20260421T223243
CREATED:20190111T210334Z
LAST-MODIFIED:20190125T213415Z
UID:10004204-1549384200-1549398600@cccld.org
SUMMARY:HS BBBall vs Longmont Christian @ Longmont Christian - Bus @ 1:15 (JV 4:30\, V 7:30)
DESCRIPTION:
URL:https://cccld.org/event/hs-bbball-vs-longmont-christian-longmont-christian-bus-115-jv-430-v-730/
CATEGORIES:Community Events
END:VEVENT
END:VCALENDAR