BEGIN:VCALENDAR
VERSION:2.0
PRODID:-//Clear Creek County Library District - ECPv6.15.16//NONSGML v1.0//EN
CALSCALE:GREGORIAN
METHOD:PUBLISH
X-WR-CALNAME:Clear Creek County Library District
X-ORIGINAL-URL:https://cccld.org
X-WR-CALDESC:Events for Clear Creek County Library District
REFRESH-INTERVAL;VALUE=DURATION:PT1H
X-Robots-Tag:noindex
X-PUBLISHED-TTL:PT1H
BEGIN:VTIMEZONE
TZID:America/Denver
BEGIN:DAYLIGHT
TZOFFSETFROM:-0700
TZOFFSETTO:-0600
TZNAME:MDT
DTSTART:20180311T090000
END:DAYLIGHT
BEGIN:STANDARD
TZOFFSETFROM:-0600
TZOFFSETTO:-0700
TZNAME:MST
DTSTART:20181104T080000
END:STANDARD
BEGIN:DAYLIGHT
TZOFFSETFROM:-0700
TZOFFSETTO:-0600
TZNAME:MDT
DTSTART:20190310T090000
END:DAYLIGHT
BEGIN:STANDARD
TZOFFSETFROM:-0600
TZOFFSETTO:-0700
TZNAME:MST
DTSTART:20191103T080000
END:STANDARD
BEGIN:DAYLIGHT
TZOFFSETFROM:-0700
TZOFFSETTO:-0600
TZNAME:MDT
DTSTART:20200308T090000
END:DAYLIGHT
BEGIN:STANDARD
TZOFFSETFROM:-0600
TZOFFSETTO:-0700
TZNAME:MST
DTSTART:20201101T080000
END:STANDARD
END:VTIMEZONE
BEGIN:VEVENT
DTSTART;TZID=America/Denver:20190208T090000
DTEND;TZID=America/Denver:20190208T093000
DTSTAMP:20260421T223131
CREATED:20190111T210335Z
LAST-MODIFIED:20190125T213415Z
UID:10004313-1549616400-1549618200@cccld.org
SUMMARY:MS Ski Alpine Finals @ Ski Cooper - Bus @ 6:30AM (9:00AM Race)
DESCRIPTION:
URL:https://cccld.org/event/ms-ski-alpine-finals-ski-cooper-bus-630am-900am-race/
CATEGORIES:Community Events
END:VEVENT
BEGIN:VEVENT
DTSTART;TZID=America/Denver:20190208T160000
DTEND;TZID=America/Denver:20190209T183000
DTSTAMP:20260421T223131
CREATED:20190111T210335Z
LAST-MODIFIED:20190125T213415Z
UID:10004315-1549641600-1549737000@cccld.org
SUMMARY:HS Wrestling Regional Tournament @ Sterling (Friday Weigh In 2PM\, Wrestle 4PM)(Saturday Weigh In 8AM\, Wrestle 9:30AM & 5PM)
DESCRIPTION:
URL:https://cccld.org/event/hs-wrestling-regional-tournament-sterling-friday-weigh-in-2pm-wrestle-4pmsaturday-weigh-in-8am-wrestle-930am-5pm/
CATEGORIES:Community Events
END:VEVENT
BEGIN:VEVENT
DTSTART;TZID=America/Denver:20190208T161500
DTEND;TZID=America/Denver:20190208T184500
DTSTAMP:20260421T223131
CREATED:20190111T210335Z
LAST-MODIFIED:20190114T181648Z
UID:10004316-1549642500-1549651500@cccld.org
SUMMARY:MS GBBall vs Ft Logan Northgate @ CCMS (B 4:15\, A 5:15)
DESCRIPTION:
URL:https://cccld.org/event/ms-gbball-vs-ft-logan-northgate-ccms-b-415-a-515/
CATEGORIES:Community Events
END:VEVENT
BEGIN:VEVENT
DTSTART;TZID=America/Denver:20190208T170000
DTEND;TZID=America/Denver:20190208T190000
DTSTAMP:20260421T223131
CREATED:20190129T183320Z
LAST-MODIFIED:20190211T171910Z
UID:10004228-1549645200-1549652400@cccld.org
SUMMARY:Movie Night: Beauty and the Beast
DESCRIPTION:Enjoy a free\, family-free movie on the big screen at your library! Satisfy your cravings with snacks and freshly-popped popcorn available for sale at our mini concessions stand.
URL:https://cccld.org/event/movie-night-beauty-and-the-beast-2/
LOCATION:Idaho Springs Public Library\, 219 14th Avenue\, Idaho Springs\, CO\, 80452\, United States
CATEGORIES:Library Events
GEO:39.742052;-105.5183552
X-APPLE-STRUCTURED-LOCATION;VALUE=URI;X-ADDRESS=Idaho Springs Public Library 219 14th Avenue Idaho Springs CO 80452 United States;X-APPLE-RADIUS=500;X-TITLE=219 14th Avenue:geo:-105.5183552,39.742052
END:VEVENT
BEGIN:VEVENT
DTSTART;TZID=America/Denver:20190208T173000
DTEND;TZID=America/Denver:20190208T220000
DTSTAMP:20260421T223131
CREATED:20190111T210336Z
LAST-MODIFIED:20190125T213415Z
UID:10004317-1549647000-1549663200@cccld.org
SUMMARY:HS BBBall vs Heritage Christian @ Heritage Christian - Bus @ 1:45 (C 4:00\, JV 5:00\, V 8:00)
DESCRIPTION:
URL:https://cccld.org/event/hs-bbball-vs-heritage-christian-heritage-christian-bus-145-jv-530-v-830/
CATEGORIES:Community Events
END:VEVENT
BEGIN:VEVENT
DTSTART;TZID=America/Denver:20190208T183000
DTEND;TZID=America/Denver:20190208T203000
DTSTAMP:20260421T223131
CREATED:20190111T210335Z
LAST-MODIFIED:20190125T213415Z
UID:10004314-1549650600-1549657800@cccld.org
SUMMARY:HS GBBall vs Heritage Christian @ Heritage Christian - Bus @ 1:45 (V 6:30)
DESCRIPTION:
URL:https://cccld.org/event/hs-gbball-vs-heritage-christian-heritage-christian-bus-145-jv-400-v-700/
CATEGORIES:Community Events
END:VEVENT
END:VCALENDAR