BEGIN:VCALENDAR
VERSION:2.0
PRODID:-//Clear Creek County Library District - ECPv6.15.16//NONSGML v1.0//EN
CALSCALE:GREGORIAN
METHOD:PUBLISH
X-WR-CALNAME:Clear Creek County Library District
X-ORIGINAL-URL:https://cccld.org
X-WR-CALDESC:Events for Clear Creek County Library District
REFRESH-INTERVAL;VALUE=DURATION:PT1H
X-Robots-Tag:noindex
X-PUBLISHED-TTL:PT1H
BEGIN:VTIMEZONE
TZID:America/Denver
BEGIN:DAYLIGHT
TZOFFSETFROM:-0700
TZOFFSETTO:-0600
TZNAME:MDT
DTSTART:20180311T090000
END:DAYLIGHT
BEGIN:STANDARD
TZOFFSETFROM:-0600
TZOFFSETTO:-0700
TZNAME:MST
DTSTART:20181104T080000
END:STANDARD
BEGIN:DAYLIGHT
TZOFFSETFROM:-0700
TZOFFSETTO:-0600
TZNAME:MDT
DTSTART:20190310T090000
END:DAYLIGHT
BEGIN:STANDARD
TZOFFSETFROM:-0600
TZOFFSETTO:-0700
TZNAME:MST
DTSTART:20191103T080000
END:STANDARD
BEGIN:DAYLIGHT
TZOFFSETFROM:-0700
TZOFFSETTO:-0600
TZNAME:MDT
DTSTART:20200308T090000
END:DAYLIGHT
BEGIN:STANDARD
TZOFFSETFROM:-0600
TZOFFSETTO:-0700
TZNAME:MST
DTSTART:20201101T080000
END:STANDARD
END:VTIMEZONE
BEGIN:VEVENT
DTSTART;VALUE=DATE:20190214
DTEND;VALUE=DATE:20190217
DTSTAMP:20260421T223130
CREATED:20190124T200351Z
LAST-MODIFIED:20190125T213416Z
UID:10004355-1550102400-1550361599@cccld.org
SUMMARY:HS Wrestling State Tournament @ Pepsi Center - Times TBD
DESCRIPTION:
URL:https://cccld.org/event/hs-wrestling-state-tournament-pepsi-center-times-tbd/
CATEGORIES:Community Events
END:VEVENT
BEGIN:VEVENT
DTSTART;TZID=America/Denver:20190214T110000
DTEND;TZID=America/Denver:20190214T133000
DTSTAMP:20260421T223130
CREATED:20190129T194130Z
LAST-MODIFIED:20190129T194130Z
UID:10004429-1550142000-1550151000@cccld.org
SUMMARY:JTML Friends Soup Lunch
DESCRIPTION:Join the Friends of the Georgetown Library for their annual soup lunch so they can say THANK YOU to their community.
URL:https://cccld.org/event/jtml-friends-soup-lunch/
LOCATION:John Tomay Memorial Library\, 605 6th Street\, Georgetown\, CO\, 80444\, United States
CATEGORIES:Library Events
GEO:39.7061997;-105.6974142
X-APPLE-STRUCTURED-LOCATION;VALUE=URI;X-ADDRESS=John Tomay Memorial Library 605 6th Street Georgetown CO 80444 United States;X-APPLE-RADIUS=500;X-TITLE=605 6th Street:geo:-105.6974142,39.7061997
END:VEVENT
BEGIN:VEVENT
DTSTART;TZID=America/Denver:20190214T170000
DTEND;TZID=America/Denver:20190214T190000
DTSTAMP:20260421T223130
CREATED:20190129T184149Z
LAST-MODIFIED:20190129T184149Z
UID:10004239-1550163600-1550170800@cccld.org
SUMMARY:Zombie Dance
DESCRIPTION:
URL:https://cccld.org/event/zombie-dance/
LOCATION:Idaho Springs Public Library\, 219 14th Avenue\, Idaho Springs\, CO\, 80452\, United States
CATEGORIES:Library Events
GEO:39.742052;-105.5183552
X-APPLE-STRUCTURED-LOCATION;VALUE=URI;X-ADDRESS=Idaho Springs Public Library 219 14th Avenue Idaho Springs CO 80452 United States;X-APPLE-RADIUS=500;X-TITLE=219 14th Avenue:geo:-105.5183552,39.742052
END:VEVENT
BEGIN:VEVENT
DTSTART;TZID=America/Denver:20190214T173000
DTEND;TZID=America/Denver:20190214T203000
DTSTAMP:20260421T223130
CREATED:20190124T200351Z
LAST-MODIFIED:20190125T213416Z
UID:10004356-1550165400-1550176200@cccld.org
SUMMARY:HS BBBall vs Dayspring Christian @ CCHS (JV 5:30\, V 7:00)
DESCRIPTION:
URL:https://cccld.org/event/hs-bbball-vs-dayspring-christian-cchs-jv-530-v-700/
CATEGORIES:Community Events
END:VEVENT
BEGIN:VEVENT
DTSTART;TZID=America/Denver:20190214T173000
DTEND;TZID=America/Denver:20190214T203000
DTSTAMP:20260421T223130
CREATED:20190124T200351Z
LAST-MODIFIED:20190125T213416Z
UID:10004357-1550165400-1550176200@cccld.org
SUMMARY:HS GBBall vs Daysprings Christian @ CCHS (JV 7:00\, V 5:30)
DESCRIPTION:
URL:https://cccld.org/event/hs-gbball-vs-daysprings-christian-cchs-jv-700-v-530/
CATEGORIES:Community Events
END:VEVENT
END:VCALENDAR