BEGIN:VCALENDAR
VERSION:2.0
PRODID:-//Clear Creek County Library District - ECPv6.15.16//NONSGML v1.0//EN
CALSCALE:GREGORIAN
METHOD:PUBLISH
X-WR-CALNAME:Clear Creek County Library District
X-ORIGINAL-URL:https://cccld.org
X-WR-CALDESC:Events for Clear Creek County Library District
REFRESH-INTERVAL;VALUE=DURATION:PT1H
X-Robots-Tag:noindex
X-PUBLISHED-TTL:PT1H
BEGIN:VTIMEZONE
TZID:America/Denver
BEGIN:DAYLIGHT
TZOFFSETFROM:-0700
TZOFFSETTO:-0600
TZNAME:MDT
DTSTART:20180311T090000
END:DAYLIGHT
BEGIN:STANDARD
TZOFFSETFROM:-0600
TZOFFSETTO:-0700
TZNAME:MST
DTSTART:20181104T080000
END:STANDARD
BEGIN:DAYLIGHT
TZOFFSETFROM:-0700
TZOFFSETTO:-0600
TZNAME:MDT
DTSTART:20190310T090000
END:DAYLIGHT
BEGIN:STANDARD
TZOFFSETFROM:-0600
TZOFFSETTO:-0700
TZNAME:MST
DTSTART:20191103T080000
END:STANDARD
BEGIN:DAYLIGHT
TZOFFSETFROM:-0700
TZOFFSETTO:-0600
TZNAME:MDT
DTSTART:20200308T090000
END:DAYLIGHT
BEGIN:STANDARD
TZOFFSETFROM:-0600
TZOFFSETTO:-0700
TZNAME:MST
DTSTART:20201101T080000
END:STANDARD
END:VTIMEZONE
BEGIN:VEVENT
DTSTART;TZID=America/Denver:20190314T160000
DTEND;TZID=America/Denver:20190314T180000
DTSTAMP:20260421T213651
CREATED:20190226T232211Z
LAST-MODIFIED:20190314T144311Z
UID:10004275-1552579200-1552586400@cccld.org
SUMMARY:HS Baseball vs Grand Valley @ CCHS (V 4:00)
DESCRIPTION:
URL:https://cccld.org/event/hs-baseball-vs-grand-valley-cchs-v-400/
CATEGORIES:Community Events
END:VEVENT
BEGIN:VEVENT
DTSTART;TZID=America/Denver:20190314T160000
DTEND;TZID=America/Denver:20190314T180000
DTSTAMP:20260421T213651
CREATED:20190226T232211Z
LAST-MODIFIED:20190314T144311Z
UID:10004273-1552579200-1552586400@cccld.org
SUMMARY:HS Soccer vs Grand Valley @ CCHS (4:00PM Game)
DESCRIPTION:
URL:https://cccld.org/event/hs-soccer-vs-grand-valley-cchs-400pm-game/
CATEGORIES:Community Events
END:VEVENT
BEGIN:VEVENT
DTSTART;TZID=America/Denver:20190314T163000
DTEND;TZID=America/Denver:20190314T183000
DTSTAMP:20260421T213651
CREATED:20190226T232211Z
LAST-MODIFIED:20190314T144311Z
UID:10004444-1552581000-1552588200@cccld.org
SUMMARY:HS LAX vs Englewood @ Englewood - Bus @ 2:45 (4:40 Game)
DESCRIPTION:
URL:https://cccld.org/event/hs-lax-vs-englewood-englewood-bus-245-440-game/
CATEGORIES:Community Events
END:VEVENT
BEGIN:VEVENT
DTSTART;TZID=America/Denver:20190314T173000
DTEND;TZID=America/Denver:20190314T173000
DTSTAMP:20260421T213651
CREATED:20190129T185609Z
LAST-MODIFIED:20190225T213553Z
UID:10004391-1552584600-1552584600@cccld.org
SUMMARY:Adult Craft
DESCRIPTION:Do you love to craft? Or are you craft-curious? Get creative and connect with other crafty patrons at our monthly craft workshops! No experience is necessary and all workshops are free\, but registration is required for each session. Please email holly@cccld.org to sign up. \nMarch craft: Pinwheel Wreaths
URL:https://cccld.org/event/adult-craft-2/
LOCATION:John Tomay Memorial Library\, 605 6th Street\, Georgetown\, CO\, 80444\, United States
CATEGORIES:Adults,Library Events
GEO:39.7061997;-105.6974142
X-APPLE-STRUCTURED-LOCATION;VALUE=URI;X-ADDRESS=John Tomay Memorial Library 605 6th Street Georgetown CO 80444 United States;X-APPLE-RADIUS=500;X-TITLE=605 6th Street:geo:-105.6974142,39.7061997
END:VEVENT
END:VCALENDAR