BEGIN:VCALENDAR
VERSION:2.0
PRODID:-//Clear Creek County Library District - ECPv6.15.16//NONSGML v1.0//EN
CALSCALE:GREGORIAN
METHOD:PUBLISH
X-ORIGINAL-URL:https://cccld.org
X-WR-CALDESC:Events for Clear Creek County Library District
REFRESH-INTERVAL;VALUE=DURATION:PT1H
X-Robots-Tag:noindex
X-PUBLISHED-TTL:PT1H
BEGIN:VTIMEZONE
TZID:America/Denver
BEGIN:DAYLIGHT
TZOFFSETFROM:-0700
TZOFFSETTO:-0600
TZNAME:MDT
DTSTART:20180311T090000
END:DAYLIGHT
BEGIN:STANDARD
TZOFFSETFROM:-0600
TZOFFSETTO:-0700
TZNAME:MST
DTSTART:20181104T080000
END:STANDARD
BEGIN:DAYLIGHT
TZOFFSETFROM:-0700
TZOFFSETTO:-0600
TZNAME:MDT
DTSTART:20190310T090000
END:DAYLIGHT
BEGIN:STANDARD
TZOFFSETFROM:-0600
TZOFFSETTO:-0700
TZNAME:MST
DTSTART:20191103T080000
END:STANDARD
BEGIN:DAYLIGHT
TZOFFSETFROM:-0700
TZOFFSETTO:-0600
TZNAME:MDT
DTSTART:20200308T090000
END:DAYLIGHT
BEGIN:STANDARD
TZOFFSETFROM:-0600
TZOFFSETTO:-0700
TZNAME:MST
DTSTART:20201101T080000
END:STANDARD
END:VTIMEZONE
BEGIN:VEVENT
DTSTART;VALUE=DATE:20190407
DTEND;VALUE=DATE:20190414
DTSTAMP:20260421T202421
CREATED:20190329T155820Z
LAST-MODIFIED:20190329T155820Z
UID:10004320-1554595200-1555199999@cccld.org
SUMMARY:National Library Week
DESCRIPTION:April 7-13 is National Library Week\, an annual celebration highlighting the roles libraries\, librarians\, and library workers play in transforming lives and strengthening communities. \nStop by the Idaho Springs Public Library or the John Tomay Memorial Library for coffee and treats all week.
URL:https://cccld.org/event/national-library-week/
END:VEVENT
BEGIN:VEVENT
DTSTART;TZID=America/Denver:20190413T090000
DTEND;TZID=America/Denver:20190413T110000
DTSTAMP:20260421T202421
CREATED:20190314T144312Z
LAST-MODIFIED:20190413T160811Z
UID:10004580-1555146000-1555153200@cccld.org
SUMMARY:HS Track vs Denver Christian @ Denver Christian - NO BUS (9:00 Start)
DESCRIPTION:
URL:https://cccld.org/event/hs-track-vs-denver-christian-denver-christian-no-bus-900-start/
CATEGORIES:Community Events
END:VEVENT
BEGIN:VEVENT
DTSTART;TZID=America/Denver:20190413T110000
DTEND;TZID=America/Denver:20190413T140000
DTSTAMP:20260421T202421
CREATED:20190314T144312Z
LAST-MODIFIED:20190413T160811Z
UID:10004581-1555153200-1555164000@cccld.org
SUMMARY:HS Soccer vs Machebeuf @ Machebeuf - NO BUS (V 11:00AM\, JV 12:30)
DESCRIPTION:
URL:https://cccld.org/event/hs-soccer-vs-machebeuf-machebeuf-no-bus-1100am-game/
CATEGORIES:Community Events
END:VEVENT
BEGIN:VEVENT
DTSTART;TZID=America/Denver:20190413T110000
DTEND;TZID=America/Denver:20190413T150000
DTSTAMP:20260421T202421
CREATED:20190314T144312Z
LAST-MODIFIED:20190413T160811Z
UID:10004583-1555153200-1555167600@cccld.org
SUMMARY:HS Baseball vs Highland @ Highland - Overnight (V 11:00\, JV 1:00)
DESCRIPTION:
URL:https://cccld.org/event/hs-baseball-vs-highland-highland-overnight-v-1100-jv-100/
CATEGORIES:Community Events
END:VEVENT
END:VCALENDAR