BEGIN:VCALENDAR
VERSION:2.0
PRODID:-//Clear Creek County Library District - ECPv6.15.16//NONSGML v1.0//EN
CALSCALE:GREGORIAN
METHOD:PUBLISH
X-ORIGINAL-URL:https://cccld.org
X-WR-CALDESC:Events for Clear Creek County Library District
REFRESH-INTERVAL;VALUE=DURATION:PT1H
X-Robots-Tag:noindex
X-PUBLISHED-TTL:PT1H
BEGIN:VTIMEZONE
TZID:America/Denver
BEGIN:DAYLIGHT
TZOFFSETFROM:-0700
TZOFFSETTO:-0600
TZNAME:MDT
DTSTART:20180311T090000
END:DAYLIGHT
BEGIN:STANDARD
TZOFFSETFROM:-0600
TZOFFSETTO:-0700
TZNAME:MST
DTSTART:20181104T080000
END:STANDARD
BEGIN:DAYLIGHT
TZOFFSETFROM:-0700
TZOFFSETTO:-0600
TZNAME:MDT
DTSTART:20190310T090000
END:DAYLIGHT
BEGIN:STANDARD
TZOFFSETFROM:-0600
TZOFFSETTO:-0700
TZNAME:MST
DTSTART:20191103T080000
END:STANDARD
BEGIN:DAYLIGHT
TZOFFSETFROM:-0700
TZOFFSETTO:-0600
TZNAME:MDT
DTSTART:20200308T090000
END:DAYLIGHT
BEGIN:STANDARD
TZOFFSETFROM:-0600
TZOFFSETTO:-0700
TZNAME:MST
DTSTART:20201101T080000
END:STANDARD
END:VTIMEZONE
BEGIN:VEVENT
DTSTART;TZID=America/Denver:20190416T111500
DTEND;TZID=America/Denver:20190416T111500
DTSTAMP:20260421T202422
CREATED:20190403T221341Z
LAST-MODIFIED:20190403T221341Z
UID:10004654-1555413300-1555413300@cccld.org
SUMMARY:ISPL Storytime
DESCRIPTION:Join us at the Idaho Springs Public Library for stories\, fun activities\, and snacks each week. Connect with other families and your library!
URL:https://cccld.org/event/ispl-storytime-2/
LOCATION:Idaho Springs Public Library\, 219 14th Avenue\, Idaho Springs\, CO\, 80452\, United States
CATEGORIES:Kids,Library Events
GEO:39.742052;-105.5183552
X-APPLE-STRUCTURED-LOCATION;VALUE=URI;X-ADDRESS=Idaho Springs Public Library 219 14th Avenue Idaho Springs CO 80452 United States;X-APPLE-RADIUS=500;X-TITLE=219 14th Avenue:geo:-105.5183552,39.742052
END:VEVENT
BEGIN:VEVENT
DTSTART;TZID=America/Denver:20190416T130000
DTEND;TZID=America/Denver:20190416T130000
DTSTAMP:20260421T202422
CREATED:20190403T225312Z
LAST-MODIFIED:20190403T225312Z
UID:10004682-1555419600-1555419600@cccld.org
SUMMARY:ISPL Tech Time: Computer Basics
DESCRIPTION:Learn how to write a letter\, search the internet\, check the news\, find stock tips\, set up email\, and more.
URL:https://cccld.org/event/ispl-tech-time-computer-basics-3/
LOCATION:Idaho Springs Public Library\, 219 14th Avenue\, Idaho Springs\, CO\, 80452\, United States
CATEGORIES:Library Events
GEO:39.742052;-105.5183552
X-APPLE-STRUCTURED-LOCATION;VALUE=URI;X-ADDRESS=Idaho Springs Public Library 219 14th Avenue Idaho Springs CO 80452 United States;X-APPLE-RADIUS=500;X-TITLE=219 14th Avenue:geo:-105.5183552,39.742052
END:VEVENT
BEGIN:VEVENT
DTSTART;TZID=America/Denver:20190416T140000
DTEND;TZID=America/Denver:20190416T160000
DTSTAMP:20260421T202422
CREATED:20190317T145818Z
LAST-MODIFIED:20190416T162822Z
UID:10004295-1555423200-1555430400@cccld.org
SUMMARY:HS Track Frontier league @ CCHS (2:00 Start)
DESCRIPTION:
URL:https://cccld.org/event/hs-track-frontier-league-cchs-200-start/
CATEGORIES:Community Events
END:VEVENT
BEGIN:VEVENT
DTSTART;TZID=America/Denver:20190416T153000
DTEND;TZID=America/Denver:20190416T173000
DTSTAMP:20260421T202422
CREATED:20190317T145818Z
LAST-MODIFIED:20190416T162822Z
UID:10004301-1555428600-1555435800@cccld.org
SUMMARY:HS Baseball vs Denver Academy @ Denver Academy - Bus @  (V 3:30)
DESCRIPTION:
URL:https://cccld.org/event/hs-baseball-vs-denver-academy-cchs-v-330/
CATEGORIES:Community Events
END:VEVENT
BEGIN:VEVENT
DTSTART;TZID=America/Denver:20190416T153000
DTEND;TZID=America/Denver:20190416T173000
DTSTAMP:20260421T202422
CREATED:20190317T145818Z
LAST-MODIFIED:20190416T162822Z
UID:10004297-1555428600-1555435800@cccld.org
SUMMARY:MS Baseball vs Kent Denver @ Kent Denver - Bus @ 1:30 (3:30 Game)
DESCRIPTION:
URL:https://cccld.org/event/ms-baseball-vs-kent-denver-kent-denver-bus-130-330-game/
CATEGORIES:Community Events
END:VEVENT
BEGIN:VEVENT
DTSTART;TZID=America/Denver:20190416T153000
DTEND;TZID=America/Denver:20190416T173000
DTSTAMP:20260421T202422
CREATED:20190317T145818Z
LAST-MODIFIED:20190416T162822Z
UID:10004299-1555428600-1555435800@cccld.org
SUMMARY:MS Soccer vs Kent Denver @ Kent Denver - Bus @ 1:30 (B 3:30\, A 4:30)
DESCRIPTION:
URL:https://cccld.org/event/ms-soccer-vs-kent-denver-kent-denver-bus-130-b-330-a-430/
CATEGORIES:Community Events
END:VEVENT
BEGIN:VEVENT
DTSTART;TZID=America/Denver:20190416T163000
DTEND;TZID=America/Denver:20190416T183000
DTSTAMP:20260421T202422
CREATED:20190317T145818Z
LAST-MODIFIED:20190417T163257Z
UID:10004303-1555432200-1555439400@cccld.org
SUMMARY:HS LAX vs JF Kennedy @ JF Kennedy - Bus @ 2:25 (4:30 Game)
DESCRIPTION:
URL:https://cccld.org/event/hs-lax-vs-jf-kennedy-jf-kennedy-bus-225-430-game/
CATEGORIES:Community Events
END:VEVENT
BEGIN:VEVENT
DTSTART;TZID=America/Denver:20190416T180000
DTEND;TZID=America/Denver:20190416T180000
DTSTAMP:20260421T202422
CREATED:20190328T204714Z
LAST-MODIFIED:20190403T205947Z
UID:10004624-1555437600-1555437600@cccld.org
SUMMARY:District Board Meeting
DESCRIPTION:
URL:https://cccld.org/event/district-board-meeting/
LOCATION:Idaho Springs Public Library\, 219 14th Avenue\, Idaho Springs\, CO\, 80452\, United States
CATEGORIES:Library Events
GEO:39.742052;-105.5183552
X-APPLE-STRUCTURED-LOCATION;VALUE=URI;X-ADDRESS=Idaho Springs Public Library 219 14th Avenue Idaho Springs CO 80452 United States;X-APPLE-RADIUS=500;X-TITLE=219 14th Avenue:geo:-105.5183552,39.742052
END:VEVENT
END:VCALENDAR