BEGIN:VCALENDAR
VERSION:2.0
PRODID:-//Clear Creek County Library District - ECPv6.15.16//NONSGML v1.0//EN
CALSCALE:GREGORIAN
METHOD:PUBLISH
X-WR-CALNAME:Clear Creek County Library District
X-ORIGINAL-URL:https://cccld.org
X-WR-CALDESC:Events for Clear Creek County Library District
REFRESH-INTERVAL;VALUE=DURATION:PT1H
X-Robots-Tag:noindex
X-PUBLISHED-TTL:PT1H
BEGIN:VTIMEZONE
TZID:America/Denver
BEGIN:DAYLIGHT
TZOFFSETFROM:-0700
TZOFFSETTO:-0600
TZNAME:MDT
DTSTART:20180311T090000
END:DAYLIGHT
BEGIN:STANDARD
TZOFFSETFROM:-0600
TZOFFSETTO:-0700
TZNAME:MST
DTSTART:20181104T080000
END:STANDARD
BEGIN:DAYLIGHT
TZOFFSETFROM:-0700
TZOFFSETTO:-0600
TZNAME:MDT
DTSTART:20190310T090000
END:DAYLIGHT
BEGIN:STANDARD
TZOFFSETFROM:-0600
TZOFFSETTO:-0700
TZNAME:MST
DTSTART:20191103T080000
END:STANDARD
BEGIN:DAYLIGHT
TZOFFSETFROM:-0700
TZOFFSETTO:-0600
TZNAME:MDT
DTSTART:20200308T090000
END:DAYLIGHT
BEGIN:STANDARD
TZOFFSETFROM:-0600
TZOFFSETTO:-0700
TZNAME:MST
DTSTART:20201101T080000
END:STANDARD
END:VTIMEZONE
BEGIN:VEVENT
DTSTART;VALUE=DATE:20190419
DTEND;VALUE=DATE:20190420
DTSTAMP:20260421T202347
CREATED:20190320T161114Z
LAST-MODIFIED:20190419T173915Z
UID:10004591-1555632000-1555718399@cccld.org
SUMMARY:Nathan McKuen concert
DESCRIPTION:
URL:https://cccld.org/event/nathan-mckuen-concert/
CATEGORIES:Community Events
END:VEVENT
BEGIN:VEVENT
DTSTART;TZID=America/Denver:20190419T130000
DTEND;TZID=America/Denver:20190419T143000
DTSTAMP:20260421T202347
CREATED:20190404T152420Z
LAST-MODIFIED:20190419T163916Z
UID:10004368-1555678800-1555684200@cccld.org
SUMMARY:HS Baseball vs Dawson School @ CCHS (1:00 Game)
DESCRIPTION:
URL:https://cccld.org/event/hs-baseball-vs-dawson-school-cchs-100-game/
CATEGORIES:Community Events
END:VEVENT
BEGIN:VEVENT
DTSTART;TZID=America/Denver:20190419T133000
DTEND;TZID=America/Denver:20190419T133000
DTSTAMP:20260421T202347
CREATED:20190129T191054Z
LAST-MODIFIED:20190321T182354Z
UID:10004418-1555680600-1555680600@cccld.org
SUMMARY:Easter Egg Workshop
DESCRIPTION:How do you like your eggs? Sparkly? Striped? Plaid or polka-dotted? Bring your imagination to our Easter Egg Workshop\, and bedazzle Easter eggs to suit your every fancy!
URL:https://cccld.org/event/easter-egg-workshop/
LOCATION:Georgetown Community Center\, 613 6th Street\, Georgetown\, CO\, 80444\, United States
CATEGORIES:Kids,Library Events
GEO:39.7062277;-105.6977809
X-APPLE-STRUCTURED-LOCATION;VALUE=URI;X-ADDRESS=Georgetown Community Center 613 6th Street Georgetown CO 80444 United States;X-APPLE-RADIUS=500;X-TITLE=613 6th Street:geo:-105.6977809,39.7062277
END:VEVENT
BEGIN:VEVENT
DTSTART;TZID=America/Denver:20190419T153000
DTEND;TZID=America/Denver:20190419T173000
DTSTAMP:20260421T202347
CREATED:20190323T145825Z
LAST-MODIFIED:20190419T163916Z
UID:10004602-1555687800-1555695000@cccld.org
SUMMARY:HS Basbeall vs Gilpin @ CCHS (3:30 Game)
DESCRIPTION:
URL:https://cccld.org/event/hs-basbeall-vs-gilpin-cchs-330-game/
CATEGORIES:Community Events
END:VEVENT
END:VCALENDAR