BEGIN:VCALENDAR
VERSION:2.0
PRODID:-//Clear Creek County Library District - ECPv6.15.16//NONSGML v1.0//EN
CALSCALE:GREGORIAN
METHOD:PUBLISH
X-ORIGINAL-URL:https://cccld.org
X-WR-CALDESC:Events for Clear Creek County Library District
REFRESH-INTERVAL;VALUE=DURATION:PT1H
X-Robots-Tag:noindex
X-PUBLISHED-TTL:PT1H
BEGIN:VTIMEZONE
TZID:America/Denver
BEGIN:DAYLIGHT
TZOFFSETFROM:-0700
TZOFFSETTO:-0600
TZNAME:MDT
DTSTART:20180311T090000
END:DAYLIGHT
BEGIN:STANDARD
TZOFFSETFROM:-0600
TZOFFSETTO:-0700
TZNAME:MST
DTSTART:20181104T080000
END:STANDARD
BEGIN:DAYLIGHT
TZOFFSETFROM:-0700
TZOFFSETTO:-0600
TZNAME:MDT
DTSTART:20190310T090000
END:DAYLIGHT
BEGIN:STANDARD
TZOFFSETFROM:-0600
TZOFFSETTO:-0700
TZNAME:MST
DTSTART:20191103T080000
END:STANDARD
BEGIN:DAYLIGHT
TZOFFSETFROM:-0700
TZOFFSETTO:-0600
TZNAME:MDT
DTSTART:20200308T090000
END:DAYLIGHT
BEGIN:STANDARD
TZOFFSETFROM:-0600
TZOFFSETTO:-0700
TZNAME:MST
DTSTART:20201101T080000
END:STANDARD
END:VTIMEZONE
BEGIN:VEVENT
DTSTART;TZID=America/Denver:20190425T154500
DTEND;TZID=America/Denver:20190425T154500
DTSTAMP:20260421T202422
CREATED:20190403T220205Z
LAST-MODIFIED:20190403T220205Z
UID:10004646-1556207100-1556207100@cccld.org
SUMMARY:Niños Learning Español
DESCRIPTION:Learn basic\, conversational Spanish with our very own Señora Maria.
URL:https://cccld.org/event/ninos-learning-espanol-4/
LOCATION:John Tomay Memorial Library\, 605 6th Street\, Georgetown\, CO\, 80444\, United States
CATEGORIES:Kids,Library Events
GEO:39.7061997;-105.6974142
X-APPLE-STRUCTURED-LOCATION;VALUE=URI;X-ADDRESS=John Tomay Memorial Library 605 6th Street Georgetown CO 80444 United States;X-APPLE-RADIUS=500;X-TITLE=605 6th Street:geo:-105.6974142,39.7061997
END:VEVENT
BEGIN:VEVENT
DTSTART;TZID=America/Denver:20190425T160000
DTEND;TZID=America/Denver:20190425T170000
DTSTAMP:20260421T202422
CREATED:20190413T160812Z
LAST-MODIFIED:20190425T171436Z
UID:10004714-1556208000-1556211600@cccld.org
SUMMARY:HS LAX vs Summit JV @ CCHS (JV 4:00)
DESCRIPTION:
URL:https://cccld.org/event/hs-lax-vs-summit-jv-cchs-jv-400/
CATEGORIES:Community Events
END:VEVENT
BEGIN:VEVENT
DTSTART;TZID=America/Denver:20190425T170000
DTEND;TZID=America/Denver:20190425T170000
DTSTAMP:20260421T202422
CREATED:20190403T214225Z
LAST-MODIFIED:20190411T162735Z
UID:10004638-1556211600-1556211600@cccld.org
SUMMARY:Georgetown Library Association and Building Advisory Committee Meeting
DESCRIPTION:Quarterly meeting of the Georgetown Library Association and the Georgetown Building Advisory Committee. Find the schedule\, agendas\, and minutes here.
URL:https://cccld.org/event/georgetown-library-association-and-building-advisory-committee-meeting/
LOCATION:Old School House\, 809 Taos St\, Georgetown\, CO\, United States
CATEGORIES:Library Events
GEO:39.707368;-105.695645
X-APPLE-STRUCTURED-LOCATION;VALUE=URI;X-ADDRESS=Old School House 809 Taos St Georgetown CO United States;X-APPLE-RADIUS=500;X-TITLE=809 Taos St:geo:-105.695645,39.707368
END:VEVENT
BEGIN:VEVENT
DTSTART;TZID=America/Denver:20190425T173000
DTEND;TZID=America/Denver:20190425T173000
DTSTAMP:20260421T202422
CREATED:20190129T190709Z
LAST-MODIFIED:20190411T164152Z
UID:10004407-1556213400-1556213400@cccld.org
SUMMARY:JTML Adult Craft
DESCRIPTION:Do you love to craft? Or are you craft-curious? Get creative and connect with other crafty patrons at our monthly craft workshops! No experience is necessary and all workshops are free\, but registration is required for each session. Please email holly@cccld.org to sign up. \nApril craft: Beaded Necklaces
URL:https://cccld.org/event/adult-craft-4/
LOCATION:John Tomay Memorial Library\, 605 6th Street\, Georgetown\, CO\, 80444\, United States
CATEGORIES:Adults,Library Events
GEO:39.7061997;-105.6974142
X-APPLE-STRUCTURED-LOCATION;VALUE=URI;X-ADDRESS=John Tomay Memorial Library 605 6th Street Georgetown CO 80444 United States;X-APPLE-RADIUS=500;X-TITLE=605 6th Street:geo:-105.6974142,39.7061997
END:VEVENT
END:VCALENDAR