BEGIN:VCALENDAR
VERSION:2.0
PRODID:-//Clear Creek County Library District - ECPv6.15.16//NONSGML v1.0//EN
CALSCALE:GREGORIAN
METHOD:PUBLISH
X-ORIGINAL-URL:https://cccld.org
X-WR-CALDESC:Events for Clear Creek County Library District
REFRESH-INTERVAL;VALUE=DURATION:PT1H
X-Robots-Tag:noindex
X-PUBLISHED-TTL:PT1H
BEGIN:VTIMEZONE
TZID:America/Denver
BEGIN:DAYLIGHT
TZOFFSETFROM:-0700
TZOFFSETTO:-0600
TZNAME:MDT
DTSTART:20180311T090000
END:DAYLIGHT
BEGIN:STANDARD
TZOFFSETFROM:-0600
TZOFFSETTO:-0700
TZNAME:MST
DTSTART:20181104T080000
END:STANDARD
BEGIN:DAYLIGHT
TZOFFSETFROM:-0700
TZOFFSETTO:-0600
TZNAME:MDT
DTSTART:20190310T090000
END:DAYLIGHT
BEGIN:STANDARD
TZOFFSETFROM:-0600
TZOFFSETTO:-0700
TZNAME:MST
DTSTART:20191103T080000
END:STANDARD
BEGIN:DAYLIGHT
TZOFFSETFROM:-0700
TZOFFSETTO:-0600
TZNAME:MDT
DTSTART:20200308T090000
END:DAYLIGHT
BEGIN:STANDARD
TZOFFSETFROM:-0600
TZOFFSETTO:-0700
TZNAME:MST
DTSTART:20201101T080000
END:STANDARD
END:VTIMEZONE
BEGIN:VEVENT
DTSTART;TZID=America/Denver:20190430T111500
DTEND;TZID=America/Denver:20190430T111500
DTSTAMP:20260421T190639
CREATED:20190403T222227Z
LAST-MODIFIED:20190403T222227Z
UID:10004656-1556622900-1556622900@cccld.org
SUMMARY:ISPL Storytime
DESCRIPTION:Join us at the Idaho Springs Public Library for stories\, fun activities\, and snacks each week. Connect with other families and your library!
URL:https://cccld.org/event/ispl-storytime-4/
LOCATION:Idaho Springs Public Library\, 219 14th Avenue\, Idaho Springs\, CO\, 80452\, United States
CATEGORIES:Kids,Library Events
GEO:39.742052;-105.5183552
X-APPLE-STRUCTURED-LOCATION;VALUE=URI;X-ADDRESS=Idaho Springs Public Library 219 14th Avenue Idaho Springs CO 80452 United States;X-APPLE-RADIUS=500;X-TITLE=219 14th Avenue:geo:-105.5183552,39.742052
END:VEVENT
BEGIN:VEVENT
DTSTART;TZID=America/Denver:20190430T130000
DTEND;TZID=America/Denver:20190430T130000
DTSTAMP:20260421T190639
CREATED:20190403T230004Z
LAST-MODIFIED:20190403T230004Z
UID:10004362-1556629200-1556629200@cccld.org
SUMMARY:ISPL Tech Time: Computer Basics
DESCRIPTION:Learn how to write a letter\, search the internet\, check the news\, find stock tips\, set up email\, and more.
URL:https://cccld.org/event/ispl-tech-time-computer-basics-5/
LOCATION:Idaho Springs Public Library\, 219 14th Avenue\, Idaho Springs\, CO\, 80452\, United States
CATEGORIES:Library Events
GEO:39.742052;-105.5183552
X-APPLE-STRUCTURED-LOCATION;VALUE=URI;X-ADDRESS=Idaho Springs Public Library 219 14th Avenue Idaho Springs CO 80452 United States;X-APPLE-RADIUS=500;X-TITLE=219 14th Avenue:geo:-105.5183552,39.742052
END:VEVENT
BEGIN:VEVENT
DTSTART;TZID=America/Denver:20190430T153000
DTEND;TZID=America/Denver:20190430T153000
DTSTAMP:20260421T190639
CREATED:20190129T191851Z
LAST-MODIFIED:20190401T161152Z
UID:10004421-1556638200-1556638200@cccld.org
SUMMARY:Día de los Niños
DESCRIPTION:Día is a nationally recognized initiative that emphasizes the importance of literacy for all children form all backgrounds. It is a daily commitment to linking children and their families to diverse books\, languages\, and cultures. Día is also known as El día de los niños or El día de los libros (Children’s Day or Book Day).
URL:https://cccld.org/event/dia-de-los-ninos/
LOCATION:Idaho Springs Public Library\, 219 14th Avenue\, Idaho Springs\, CO\, 80452\, United States
CATEGORIES:Kids,Library Events
GEO:39.742052;-105.5183552
X-APPLE-STRUCTURED-LOCATION;VALUE=URI;X-ADDRESS=Idaho Springs Public Library 219 14th Avenue Idaho Springs CO 80452 United States;X-APPLE-RADIUS=500;X-TITLE=219 14th Avenue:geo:-105.5183552,39.742052
END:VEVENT
BEGIN:VEVENT
DTSTART;TZID=America/Denver:20190430T153000
DTEND;TZID=America/Denver:20190430T173000
DTSTAMP:20260421T190639
CREATED:20190331T151459Z
LAST-MODIFIED:20190429T174323Z
UID:10004344-1556638200-1556645400@cccld.org
SUMMARY:MS Baseball vs The Academy @ The Academy - Bus @ 1:30 (3:30 Game)
DESCRIPTION:
URL:https://cccld.org/event/ms-baseball-vs-the-academy-the-academy-bus-130-330-game/
CATEGORIES:Community Events
END:VEVENT
BEGIN:VEVENT
DTSTART;TZID=America/Denver:20190430T160000
DTEND;TZID=America/Denver:20190430T180000
DTSTAMP:20260421T190639
CREATED:20190331T151500Z
LAST-MODIFIED:20190429T174323Z
UID:10004349-1556640000-1556647200@cccld.org
SUMMARY:HS LAX vs St. Mary's @ CCHS (4:00 Game)
DESCRIPTION:
URL:https://cccld.org/event/hs-lax-vs-st-marys-cchs-400-game/
CATEGORIES:Community Events
END:VEVENT
BEGIN:VEVENT
DTSTART;TZID=America/Denver:20190430T160000
DTEND;TZID=America/Denver:20190430T180000
DTSTAMP:20260421T190639
CREATED:20190331T151500Z
LAST-MODIFIED:20190429T174323Z
UID:10004346-1556640000-1556647200@cccld.org
SUMMARY:HS Soccer vs Rocky Mountain Lutheran @ Dick's Sporting Goods Park - Bus @ 2:00 (4:00PM Game)
DESCRIPTION:
URL:https://cccld.org/event/hs-soccer-vs-rocky-mountain-lutheran-dicks-sporting-goods-park-bus-200-400pm-game/
CATEGORIES:Community Events
END:VEVENT
BEGIN:VEVENT
DTSTART;TZID=America/Denver:20190430T160000
DTEND;TZID=America/Denver:20190430T190000
DTSTAMP:20260421T190639
CREATED:20190411T155412Z
LAST-MODIFIED:20190429T174323Z
UID:10004702-1556640000-1556650800@cccld.org
SUMMARY:HS Baseball vs The Academy @ CCHS (4:00 Game)
DESCRIPTION:
URL:https://cccld.org/event/hs-baseball-vs-the-academy-cchs-400-game/
CATEGORIES:Community Events
END:VEVENT
END:VCALENDAR