BEGIN:VCALENDAR
VERSION:2.0
PRODID:-//Clear Creek County Library District - ECPv6.15.16//NONSGML v1.0//EN
CALSCALE:GREGORIAN
METHOD:PUBLISH
X-WR-CALNAME:Clear Creek County Library District
X-ORIGINAL-URL:https://cccld.org
X-WR-CALDESC:Events for Clear Creek County Library District
REFRESH-INTERVAL;VALUE=DURATION:PT1H
X-Robots-Tag:noindex
X-PUBLISHED-TTL:PT1H
BEGIN:VTIMEZONE
TZID:America/Denver
BEGIN:DAYLIGHT
TZOFFSETFROM:-0700
TZOFFSETTO:-0600
TZNAME:MDT
DTSTART:20180311T090000
END:DAYLIGHT
BEGIN:STANDARD
TZOFFSETFROM:-0600
TZOFFSETTO:-0700
TZNAME:MST
DTSTART:20181104T080000
END:STANDARD
BEGIN:DAYLIGHT
TZOFFSETFROM:-0700
TZOFFSETTO:-0600
TZNAME:MDT
DTSTART:20190310T090000
END:DAYLIGHT
BEGIN:STANDARD
TZOFFSETFROM:-0600
TZOFFSETTO:-0700
TZNAME:MST
DTSTART:20191103T080000
END:STANDARD
BEGIN:DAYLIGHT
TZOFFSETFROM:-0700
TZOFFSETTO:-0600
TZNAME:MDT
DTSTART:20200308T090000
END:DAYLIGHT
BEGIN:STANDARD
TZOFFSETFROM:-0600
TZOFFSETTO:-0700
TZNAME:MST
DTSTART:20201101T080000
END:STANDARD
END:VTIMEZONE
BEGIN:VEVENT
DTSTART;TZID=America/Denver:20190502T153000
DTEND;TZID=America/Denver:20190502T193000
DTSTAMP:20260421T190646
CREATED:20190403T152330Z
LAST-MODIFIED:20190403T152330Z
UID:10004342-1556811000-1556825400@cccld.org
SUMMARY:HS Baseball vs Middle Park @ Middle Park - Bus @ 1:00 (V 3:30\, JV 5:30)
DESCRIPTION:
URL:https://cccld.org/event/hs-baseball-vs-middle-park-middle-park-bus-100-v-330-jv-530/
CATEGORIES:Community Events
END:VEVENT
BEGIN:VEVENT
DTSTART;TZID=America/Denver:20190502T153000
DTEND;TZID=America/Denver:20190502T193000
DTSTAMP:20260421T190646
CREATED:20190404T152421Z
LAST-MODIFIED:20190404T152421Z
UID:10004372-1556811000-1556825400@cccld.org
SUMMARY:HS Baseball vs Middle Park @ Middle Park - Bus @ 1:00 (V 3:30\, JV 5:30)
DESCRIPTION:
URL:https://cccld.org/event/hs-baseball-vs-middle-park-middle-park-bus-100-v-330-jv-530-2/
CATEGORIES:Community Events
END:VEVENT
BEGIN:VEVENT
DTSTART;TZID=America/Denver:20190502T153000
DTEND;TZID=America/Denver:20190502T193000
DTSTAMP:20260421T190646
CREATED:20190405T153808Z
LAST-MODIFIED:20190503T175849Z
UID:10004374-1556811000-1556825400@cccld.org
SUMMARY:HS Baseball vs Middle Park @ Middle Park - Bus @ 1:00 (V 3:30\, JV 5:30)
DESCRIPTION:
URL:https://cccld.org/event/hs-baseball-vs-middle-park-middle-park-bus-100-v-330-jv-530-3/
CATEGORIES:Community Events
END:VEVENT
BEGIN:VEVENT
DTSTART;TZID=America/Denver:20190502T154500
DTEND;TZID=America/Denver:20190502T154500
DTSTAMP:20260421T190646
CREATED:20190403T220428Z
LAST-MODIFIED:20190403T220428Z
UID:10004649-1556811900-1556811900@cccld.org
SUMMARY:Niños Learning Español
DESCRIPTION:Learn basic\, conversational Spanish with our very own Señora Maria.
URL:https://cccld.org/event/ninos-learning-espanol-5/
LOCATION:John Tomay Memorial Library\, 605 6th Street\, Georgetown\, CO\, 80444\, United States
CATEGORIES:Kids,Library Events
GEO:39.7061997;-105.6974142
X-APPLE-STRUCTURED-LOCATION;VALUE=URI;X-ADDRESS=John Tomay Memorial Library 605 6th Street Georgetown CO 80444 United States;X-APPLE-RADIUS=500;X-TITLE=605 6th Street:geo:-105.6974142,39.7061997
END:VEVENT
BEGIN:VEVENT
DTSTART;TZID=America/Denver:20190502T154500
DTEND;TZID=America/Denver:20190502T184500
DTSTAMP:20260421T190646
CREATED:20190403T152330Z
LAST-MODIFIED:20190503T175849Z
UID:10004339-1556811900-1556822700@cccld.org
SUMMARY:MS Track @ Granby - Bus @ 1:15 (3:45 Start)
DESCRIPTION:
URL:https://cccld.org/event/ms-track-granby-bus-1245-300-start/
CATEGORIES:Community Events
END:VEVENT
BEGIN:VEVENT
DTSTART;TZID=America/Denver:20190502T160000
DTEND;TZID=America/Denver:20190502T180000
DTSTAMP:20260421T190646
CREATED:20190405T153808Z
LAST-MODIFIED:20190405T153808Z
UID:10004376-1556812800-1556820000@cccld.org
SUMMARY:HS Soccer vs Alameda @ CCHS (4:00PM Game)
DESCRIPTION:
URL:https://cccld.org/event/hs-soccer-vs-alameda-cchs-400pm-game/
CATEGORIES:Community Events
END:VEVENT
BEGIN:VEVENT
DTSTART;TZID=America/Denver:20190502T160000
DTEND;TZID=America/Denver:20190502T180000
DTSTAMP:20260421T190646
CREATED:20190406T153843Z
LAST-MODIFIED:20190503T175849Z
UID:10004379-1556812800-1556820000@cccld.org
SUMMARY:HS Soccer vs Alameda @ CCHS (4:00PM Game)
DESCRIPTION:
URL:https://cccld.org/event/hs-soccer-vs-alameda-cchs-400pm-game-2/
CATEGORIES:Community Events
END:VEVENT
BEGIN:VEVENT
DTSTART;TZID=America/Denver:20190502T161500
DTEND;TZID=America/Denver:20190502T181500
DTSTAMP:20260421T190646
CREATED:20190406T153843Z
LAST-MODIFIED:20190406T153843Z
UID:10004382-1556813700-1556820900@cccld.org
SUMMARY:MS Baseball vs Ft Logan Northgate @ CCMS (4:15 Game)
DESCRIPTION:
URL:https://cccld.org/event/ms-baseball-vs-ft-logan-northgate-ccms-415-game/
CATEGORIES:Community Events
END:VEVENT
BEGIN:VEVENT
DTSTART;TZID=America/Denver:20190502T161500
DTEND;TZID=America/Denver:20190502T181500
DTSTAMP:20260421T190646
CREATED:20190407T153810Z
LAST-MODIFIED:20190501T174705Z
UID:10004698-1556813700-1556820900@cccld.org
SUMMARY:MS Baseball vs Ft Logan Northgate @ CCMS (4:15 Game)
DESCRIPTION:
URL:https://cccld.org/event/ms-baseball-vs-ft-logan-northgate-ccms-415-game-2/
CATEGORIES:Community Events
END:VEVENT
BEGIN:VEVENT
DTSTART;TZID=America/Denver:20190502T171500
DTEND;TZID=America/Denver:20190502T191500
DTSTAMP:20260421T190646
CREATED:20190424T171616Z
LAST-MODIFIED:20190503T175849Z
UID:10004737-1556817300-1556824500@cccld.org
SUMMARY:HS LAX vs JFK @ JFK - Bus @ 3:30 (5:15 Game)
DESCRIPTION:
URL:https://cccld.org/event/hs-lax-vs-jfk-jfk-bus-330-515-game/
CATEGORIES:Community Events
END:VEVENT
END:VCALENDAR