BEGIN:VCALENDAR
VERSION:2.0
PRODID:-//Clear Creek County Library District - ECPv6.15.16//NONSGML v1.0//EN
CALSCALE:GREGORIAN
METHOD:PUBLISH
X-ORIGINAL-URL:https://cccld.org
X-WR-CALDESC:Events for Clear Creek County Library District
REFRESH-INTERVAL;VALUE=DURATION:PT1H
X-Robots-Tag:noindex
X-PUBLISHED-TTL:PT1H
BEGIN:VTIMEZONE
TZID:America/Denver
BEGIN:DAYLIGHT
TZOFFSETFROM:-0700
TZOFFSETTO:-0600
TZNAME:MDT
DTSTART:20180311T090000
END:DAYLIGHT
BEGIN:STANDARD
TZOFFSETFROM:-0600
TZOFFSETTO:-0700
TZNAME:MST
DTSTART:20181104T080000
END:STANDARD
BEGIN:DAYLIGHT
TZOFFSETFROM:-0700
TZOFFSETTO:-0600
TZNAME:MDT
DTSTART:20190310T090000
END:DAYLIGHT
BEGIN:STANDARD
TZOFFSETFROM:-0600
TZOFFSETTO:-0700
TZNAME:MST
DTSTART:20191103T080000
END:STANDARD
BEGIN:DAYLIGHT
TZOFFSETFROM:-0700
TZOFFSETTO:-0600
TZNAME:MDT
DTSTART:20200308T090000
END:DAYLIGHT
BEGIN:STANDARD
TZOFFSETFROM:-0600
TZOFFSETTO:-0700
TZNAME:MST
DTSTART:20201101T080000
END:STANDARD
END:VTIMEZONE
BEGIN:VEVENT
DTSTART;VALUE=DATE:20190507
DTEND;VALUE=DATE:20190508
DTSTAMP:20260421T190638
CREATED:20190411T155412Z
LAST-MODIFIED:20190506T180035Z
UID:10004703-1557187200-1557273599@cccld.org
SUMMARY:HS Soccer 1st Round 2A Playoffs - All Info TBD
DESCRIPTION:
URL:https://cccld.org/event/hs-soccer-1st-round-2a-playoffs-all-info-tbd-2/
CATEGORIES:Community Events
END:VEVENT
BEGIN:VEVENT
DTSTART;TZID=America/Denver:20190507T000100
DTEND;TZID=America/Denver:20190507T235900
DTSTAMP:20260421T190638
CREATED:20190410T155318Z
LAST-MODIFIED:20190410T155318Z
UID:10004386-1557187260-1557273540@cccld.org
SUMMARY:HS Soccer 1st Round 2A Playoffs - All Info TBD
DESCRIPTION:
URL:https://cccld.org/event/hs-soccer-1st-round-2a-playoffs-all-info-tbd/
CATEGORIES:Community Events
END:VEVENT
BEGIN:VEVENT
DTSTART;TZID=America/Denver:20190507T111500
DTEND;TZID=America/Denver:20190507T111500
DTSTAMP:20260421T190638
CREATED:20190403T222322Z
LAST-MODIFIED:20190403T222322Z
UID:10004657-1557227700-1557227700@cccld.org
SUMMARY:ISPL Storytime
DESCRIPTION:Join us at the Idaho Springs Public Library for stories\, fun activities\, and snacks each week. Connect with other families and your library!
URL:https://cccld.org/event/ispl-storytime-5/
LOCATION:Idaho Springs Public Library\, 219 14th Avenue\, Idaho Springs\, CO\, 80452\, United States
CATEGORIES:Kids,Library Events
GEO:39.742052;-105.5183552
X-APPLE-STRUCTURED-LOCATION;VALUE=URI;X-ADDRESS=Idaho Springs Public Library 219 14th Avenue Idaho Springs CO 80452 United States;X-APPLE-RADIUS=500;X-TITLE=219 14th Avenue:geo:-105.5183552,39.742052
END:VEVENT
BEGIN:VEVENT
DTSTART;TZID=America/Denver:20190507T133000
DTEND;TZID=America/Denver:20190507T160000
DTSTAMP:20260421T190638
CREATED:20190411T155413Z
LAST-MODIFIED:20190507T180035Z
UID:10004704-1557235800-1557244800@cccld.org
SUMMARY:HS Baseball 2A District Tourn vs Byers @ Denver Christian HS - Bus @ 12:00 (Game 1:30)
DESCRIPTION:
URL:https://cccld.org/event/hs-baseball-2a-district-tourn-high-seed-time-bus-tbd/
CATEGORIES:Community Events
END:VEVENT
BEGIN:VEVENT
DTSTART;TZID=America/Denver:20190507T161500
DTEND;TZID=America/Denver:20190507T171500
DTSTAMP:20260421T190638
CREATED:20190401T151600Z
LAST-MODIFIED:20190506T180035Z
UID:10004634-1557245700-1557249300@cccld.org
SUMMARY:MS Soccer vs Ft Logan Northgate @ CCMS (A Only 4:15)
DESCRIPTION:
URL:https://cccld.org/event/ms-soccer-vs-ft-logan-northgate-ccms-a-only-415/
CATEGORIES:Community Events
END:VEVENT
END:VCALENDAR