BEGIN:VCALENDAR
VERSION:2.0
PRODID:-//Clear Creek County Library District - ECPv6.15.16//NONSGML v1.0//EN
CALSCALE:GREGORIAN
METHOD:PUBLISH
X-WR-CALNAME:Clear Creek County Library District
X-ORIGINAL-URL:https://cccld.org
X-WR-CALDESC:Events for Clear Creek County Library District
REFRESH-INTERVAL;VALUE=DURATION:PT1H
X-Robots-Tag:noindex
X-PUBLISHED-TTL:PT1H
BEGIN:VTIMEZONE
TZID:America/Denver
BEGIN:DAYLIGHT
TZOFFSETFROM:-0700
TZOFFSETTO:-0600
TZNAME:MDT
DTSTART:20180311T090000
END:DAYLIGHT
BEGIN:STANDARD
TZOFFSETFROM:-0600
TZOFFSETTO:-0700
TZNAME:MST
DTSTART:20181104T080000
END:STANDARD
BEGIN:DAYLIGHT
TZOFFSETFROM:-0700
TZOFFSETTO:-0600
TZNAME:MDT
DTSTART:20190310T090000
END:DAYLIGHT
BEGIN:STANDARD
TZOFFSETFROM:-0600
TZOFFSETTO:-0700
TZNAME:MST
DTSTART:20191103T080000
END:STANDARD
BEGIN:DAYLIGHT
TZOFFSETFROM:-0700
TZOFFSETTO:-0600
TZNAME:MDT
DTSTART:20200308T090000
END:DAYLIGHT
BEGIN:STANDARD
TZOFFSETFROM:-0600
TZOFFSETTO:-0700
TZNAME:MST
DTSTART:20201101T080000
END:STANDARD
END:VTIMEZONE
BEGIN:VEVENT
DTSTART;TZID=America/Denver:20190511T000100
DTEND;TZID=America/Denver:20190511T235900
DTSTAMP:20260421T190644
CREATED:20190414T162608Z
LAST-MODIFIED:20190414T162608Z
UID:10004726-1557532860-1557619140@cccld.org
SUMMARY:HS Baseball 2A District Tourn @ High Seed - TIME & BUS TBD)
DESCRIPTION:
URL:https://cccld.org/event/hs-baseball-2a-district-tourn-high-seed-time-bus-tbd-2/
CATEGORIES:Community Events
END:VEVENT
BEGIN:VEVENT
DTSTART;TZID=America/Denver:20190511T000100
DTEND;TZID=America/Denver:20190511T235900
DTSTAMP:20260421T190644
CREATED:20190415T162629Z
LAST-MODIFIED:20190415T162629Z
UID:10004727-1557532860-1557619140@cccld.org
SUMMARY:HS Baseball 2A District Tourn @ High Seed - TIME & BUS TBD)
DESCRIPTION:
URL:https://cccld.org/event/hs-baseball-2a-district-tourn-high-seed-time-bus-tbd-3/
CATEGORIES:Community Events
END:VEVENT
BEGIN:VEVENT
DTSTART;TZID=America/Denver:20190511T100000
DTEND;TZID=America/Denver:20190511T120000
DTSTAMP:20260421T190644
CREATED:20190416T162825Z
LAST-MODIFIED:20190510T181344Z
UID:10004728-1557568800-1557576000@cccld.org
SUMMARY:HS Baseball vs Front Range Christian @ Denver Christian - NO BUS (10:00 Game)
DESCRIPTION:
URL:https://cccld.org/event/hs-baseball-2a-district-tourn-high-seed-time-bus-tbd-4/
CATEGORIES:Community Events
END:VEVENT
END:VCALENDAR