BEGIN:VCALENDAR
VERSION:2.0
PRODID:-//Clear Creek County Library District - ECPv6.15.16//NONSGML v1.0//EN
CALSCALE:GREGORIAN
METHOD:PUBLISH
X-ORIGINAL-URL:https://cccld.org
X-WR-CALDESC:Events for Clear Creek County Library District
REFRESH-INTERVAL;VALUE=DURATION:PT1H
X-Robots-Tag:noindex
X-PUBLISHED-TTL:PT1H
BEGIN:VTIMEZONE
TZID:America/Denver
BEGIN:DAYLIGHT
TZOFFSETFROM:-0700
TZOFFSETTO:-0600
TZNAME:MDT
DTSTART:20180311T090000
END:DAYLIGHT
BEGIN:STANDARD
TZOFFSETFROM:-0600
TZOFFSETTO:-0700
TZNAME:MST
DTSTART:20181104T080000
END:STANDARD
BEGIN:DAYLIGHT
TZOFFSETFROM:-0700
TZOFFSETTO:-0600
TZNAME:MDT
DTSTART:20190310T090000
END:DAYLIGHT
BEGIN:STANDARD
TZOFFSETFROM:-0600
TZOFFSETTO:-0700
TZNAME:MST
DTSTART:20191103T080000
END:STANDARD
BEGIN:DAYLIGHT
TZOFFSETFROM:-0700
TZOFFSETTO:-0600
TZNAME:MDT
DTSTART:20200308T090000
END:DAYLIGHT
BEGIN:STANDARD
TZOFFSETFROM:-0600
TZOFFSETTO:-0700
TZNAME:MST
DTSTART:20201101T080000
END:STANDARD
END:VTIMEZONE
BEGIN:VEVENT
DTSTART;TZID=America/Denver:20190515T111500
DTEND;TZID=America/Denver:20190515T111500
DTSTAMP:20260421T190713
CREATED:20190424T215221Z
LAST-MODIFIED:20190424T215221Z
UID:10004749-1557918900-1557918900@cccld.org
SUMMARY:JTML Storytime
DESCRIPTION:Join us at the John Tomay Memorial Library for stories\, fun activities\, and snacks each week. Connect with other families and your library! \nThis will be the last storytime before summer.
URL:https://cccld.org/event/jtml-storytime-6/
LOCATION:John Tomay Memorial Library\, 605 6th Street\, Georgetown\, CO\, 80444\, United States
CATEGORIES:Library Events
GEO:39.7061997;-105.6974142
X-APPLE-STRUCTURED-LOCATION;VALUE=URI;X-ADDRESS=John Tomay Memorial Library 605 6th Street Georgetown CO 80444 United States;X-APPLE-RADIUS=500;X-TITLE=605 6th Street:geo:-105.6974142,39.7061997
END:VEVENT
BEGIN:VEVENT
DTSTART;TZID=America/Denver:20190515T153000
DTEND;TZID=America/Denver:20190515T170000
DTSTAMP:20260421T190713
CREATED:20190403T223600Z
LAST-MODIFIED:20190403T223600Z
UID:10004678-1557934200-1557939600@cccld.org
SUMMARY:After-School Homework Help
DESCRIPTION:Students of all ages can get help with their homework from 3:30 – 5 pm on Wednesdays at the Idaho Springs Public Library. Volunteer tutors will be available to help with homework\, reading\, or other school activities.
URL:https://cccld.org/event/after-school-homework-help-7/
LOCATION:Idaho Springs Public Library\, 219 14th Avenue\, Idaho Springs\, CO\, 80452\, United States
CATEGORIES:Kids,Library Events
GEO:39.742052;-105.5183552
X-APPLE-STRUCTURED-LOCATION;VALUE=URI;X-ADDRESS=Idaho Springs Public Library 219 14th Avenue Idaho Springs CO 80452 United States;X-APPLE-RADIUS=500;X-TITLE=219 14th Avenue:geo:-105.5183552,39.742052
END:VEVENT
BEGIN:VEVENT
DTSTART;TZID=America/Denver:20190515T154000
DTEND;TZID=America/Denver:20190515T154000
DTSTAMP:20260421T190713
CREATED:20190424T215751Z
LAST-MODIFIED:20190424T215751Z
UID:10004751-1557934800-1557934800@cccld.org
SUMMARY:JTML League of the Beastly Dreadfuls Book Club
DESCRIPTION:Join the League of Beastly Dreadfuls Book Club at the John Tomay Memorial Library! There are snacks\, crafts\, and games each week. \nThis will be the last meeting of the school year.
URL:https://cccld.org/event/jtml-league-of-the-beastly-dreadfuls-book-club-5/
LOCATION:John Tomay Memorial Library\, 605 6th Street\, Georgetown\, CO\, 80444\, United States
CATEGORIES:Kids,Library Events
GEO:39.7061997;-105.6974142
X-APPLE-STRUCTURED-LOCATION;VALUE=URI;X-ADDRESS=John Tomay Memorial Library 605 6th Street Georgetown CO 80444 United States;X-APPLE-RADIUS=500;X-TITLE=605 6th Street:geo:-105.6974142,39.7061997
END:VEVENT
BEGIN:VEVENT
DTSTART;TZID=America/Denver:20190515T160000
DTEND;TZID=America/Denver:20190515T160000
DTSTAMP:20260421T190713
CREATED:20190329T155154Z
LAST-MODIFIED:20190509T175515Z
UID:10004631-1557936000-1557936000@cccld.org
SUMMARY:Friends of the Georgetown Library Meeting
DESCRIPTION:
URL:https://cccld.org/event/friends-of-the-georgetown-library-meeting/
LOCATION:John Tomay Memorial Library\, 605 6th Street\, Georgetown\, CO\, 80444\, United States
CATEGORIES:Library Events
GEO:39.7061997;-105.6974142
X-APPLE-STRUCTURED-LOCATION;VALUE=URI;X-ADDRESS=John Tomay Memorial Library 605 6th Street Georgetown CO 80444 United States;X-APPLE-RADIUS=500;X-TITLE=605 6th Street:geo:-105.6974142,39.7061997
END:VEVENT
END:VCALENDAR