BEGIN:VCALENDAR
VERSION:2.0
PRODID:-//Clear Creek County Library District - ECPv6.15.16//NONSGML v1.0//EN
CALSCALE:GREGORIAN
METHOD:PUBLISH
X-WR-CALNAME:Clear Creek County Library District
X-ORIGINAL-URL:https://cccld.org
X-WR-CALDESC:Events for Clear Creek County Library District
REFRESH-INTERVAL;VALUE=DURATION:PT1H
X-Robots-Tag:noindex
X-PUBLISHED-TTL:PT1H
BEGIN:VTIMEZONE
TZID:America/Denver
BEGIN:DAYLIGHT
TZOFFSETFROM:-0700
TZOFFSETTO:-0600
TZNAME:MDT
DTSTART:20180311T090000
END:DAYLIGHT
BEGIN:STANDARD
TZOFFSETFROM:-0600
TZOFFSETTO:-0700
TZNAME:MST
DTSTART:20181104T080000
END:STANDARD
BEGIN:DAYLIGHT
TZOFFSETFROM:-0700
TZOFFSETTO:-0600
TZNAME:MDT
DTSTART:20190310T090000
END:DAYLIGHT
BEGIN:STANDARD
TZOFFSETFROM:-0600
TZOFFSETTO:-0700
TZNAME:MST
DTSTART:20191103T080000
END:STANDARD
BEGIN:DAYLIGHT
TZOFFSETFROM:-0700
TZOFFSETTO:-0600
TZNAME:MDT
DTSTART:20200308T090000
END:DAYLIGHT
BEGIN:STANDARD
TZOFFSETFROM:-0600
TZOFFSETTO:-0700
TZNAME:MST
DTSTART:20201101T080000
END:STANDARD
END:VTIMEZONE
BEGIN:VEVENT
DTSTART;VALUE=DATE:20190820
DTEND;VALUE=DATE:20190821
DTSTAMP:20260421T142529
CREATED:20190721T191555Z
LAST-MODIFIED:20190820T203057Z
UID:10004952-1566259200-1566345599@cccld.org
SUMMARY:MS FB First Practice
DESCRIPTION:
URL:https://cccld.org/event/ms-fb-first-practice/
CATEGORIES:Community Events
END:VEVENT
BEGIN:VEVENT
DTSTART;VALUE=DATE:20190820
DTEND;VALUE=DATE:20190821
DTSTAMP:20260421T142529
CREATED:20190721T191555Z
LAST-MODIFIED:20190820T203057Z
UID:10004954-1566259200-1566345599@cccld.org
SUMMARY:MS VB Practice Starts @ CCMS
DESCRIPTION:
URL:https://cccld.org/event/ms-vb-practice-starts-ccms/
CATEGORIES:Community Events
END:VEVENT
BEGIN:VEVENT
DTSTART;VALUE=DATE:20190820
DTEND;VALUE=DATE:20190821
DTSTAMP:20260421T142529
CREATED:20190721T191555Z
LAST-MODIFIED:20190820T203057Z
UID:10004953-1566259200-1566345599@cccld.org
SUMMARY:MS XC First Practice
DESCRIPTION:
URL:https://cccld.org/event/ms-xc-first-practice/
CATEGORIES:Community Events
END:VEVENT
BEGIN:VEVENT
DTSTART;TZID=America/Denver:20190820T153000
DTEND;TZID=America/Denver:20190820T170000
DTSTAMP:20260421T142529
CREATED:20190721T191555Z
LAST-MODIFIED:20190820T203057Z
UID:10004955-1566315000-1566320400@cccld.org
SUMMARY:MS VB First Practice
DESCRIPTION:
URL:https://cccld.org/event/ms-vb-first-practice/
CATEGORIES:Community Events
END:VEVENT
BEGIN:VEVENT
DTSTART;TZID=America/Denver:20190820T180000
DTEND;TZID=America/Denver:20190820T180000
DTSTAMP:20260421T142529
CREATED:20190328T204925Z
LAST-MODIFIED:20190815T213049Z
UID:10004627-1566324000-1566324000@cccld.org
SUMMARY:District Board Meeting
DESCRIPTION:Find the meeting schedule\, agendas\, and minutes here.
URL:https://cccld.org/event/district-board-meeting-4/
LOCATION:Idaho Springs Public Library\, 219 14th Avenue\, Idaho Springs\, CO\, 80452\, United States
CATEGORIES:Library Events
GEO:39.742052;-105.5183552
X-APPLE-STRUCTURED-LOCATION;VALUE=URI;X-ADDRESS=Idaho Springs Public Library 219 14th Avenue Idaho Springs CO 80452 United States;X-APPLE-RADIUS=500;X-TITLE=219 14th Avenue:geo:-105.5183552,39.742052
END:VEVENT
END:VCALENDAR