BEGIN:VCALENDAR
VERSION:2.0
PRODID:-//Clear Creek County Library District - ECPv6.15.16//NONSGML v1.0//EN
CALSCALE:GREGORIAN
METHOD:PUBLISH
X-WR-CALNAME:Clear Creek County Library District
X-ORIGINAL-URL:https://cccld.org
X-WR-CALDESC:Events for Clear Creek County Library District
REFRESH-INTERVAL;VALUE=DURATION:PT1H
X-Robots-Tag:noindex
X-PUBLISHED-TTL:PT1H
BEGIN:VTIMEZONE
TZID:America/Denver
BEGIN:DAYLIGHT
TZOFFSETFROM:-0700
TZOFFSETTO:-0600
TZNAME:MDT
DTSTART:20180311T090000
END:DAYLIGHT
BEGIN:STANDARD
TZOFFSETFROM:-0600
TZOFFSETTO:-0700
TZNAME:MST
DTSTART:20181104T080000
END:STANDARD
BEGIN:DAYLIGHT
TZOFFSETFROM:-0700
TZOFFSETTO:-0600
TZNAME:MDT
DTSTART:20190310T090000
END:DAYLIGHT
BEGIN:STANDARD
TZOFFSETFROM:-0600
TZOFFSETTO:-0700
TZNAME:MST
DTSTART:20191103T080000
END:STANDARD
BEGIN:DAYLIGHT
TZOFFSETFROM:-0700
TZOFFSETTO:-0600
TZNAME:MDT
DTSTART:20200308T090000
END:DAYLIGHT
BEGIN:STANDARD
TZOFFSETFROM:-0600
TZOFFSETTO:-0700
TZNAME:MST
DTSTART:20201101T080000
END:STANDARD
END:VTIMEZONE
BEGIN:VEVENT
DTSTART;TZID=America/Denver:20190906T133000
DTEND;TZID=America/Denver:20190906T193000
DTSTAMP:20260421T131416
CREATED:20190807T200218Z
LAST-MODIFIED:20190907T213023Z
UID:10005016-1567776600-1567798200@cccld.org
SUMMARY:HS VB W. Grand Tourn. @ Kremmling - 9:30 BUS (1:30/4:30 V only Peyton/Calhan)
DESCRIPTION:
URL:https://cccld.org/event/hs-vb-w-grand-tourn-kremmling-845-am-bus-tbd/
CATEGORIES:Community Events
END:VEVENT
BEGIN:VEVENT
DTSTART;TZID=America/Denver:20190906T163000
DTEND;TZID=America/Denver:20190906T193000
DTSTAMP:20260421T131416
CREATED:20190802T200011Z
LAST-MODIFIED:20190907T213023Z
UID:10005008-1567787400-1567798200@cccld.org
SUMMARY:MS XC Slavens Invitational (660 E Iliff Ave\, Harvard Gulch Park- 2:14 BUS (4:30)
DESCRIPTION:
URL:https://cccld.org/event/ms-xc-lake-county-invit-cms-leadville-no-bus-1145/
CATEGORIES:Community Events
END:VEVENT
BEGIN:VEVENT
DTSTART;TZID=America/Denver:20190906T163000
DTEND;TZID=America/Denver:20190906T193000
DTSTAMP:20260421T131416
CREATED:20190820T203059Z
LAST-MODIFIED:20190821T202911Z
UID:10005030-1567787400-1567798200@cccld.org
SUMMARY:MS XC Slavens Invitational (Harvard Gulch Park) 2:15 BUS (4:30)
DESCRIPTION:
URL:https://cccld.org/event/ms-xc-slavens-invitational-harvard-gulch-park-215-bus-430/
CATEGORIES:Community Events
END:VEVENT
BEGIN:VEVENT
DTSTART;TZID=America/Denver:20190906T170000
DTEND;TZID=America/Denver:20190906T170000
DTSTAMP:20260421T131416
CREATED:20190729T203414Z
LAST-MODIFIED:20190729T203414Z
UID:10004994-1567789200-1567789200@cccld.org
SUMMARY:JTML Movie Night
DESCRIPTION:Enjoy a free\, family-friendly movie on the big screen at your library! Satisfy your cravings with snacks and freshly-popped popcorn available for sale at our mini concessions stand.
URL:https://cccld.org/event/jtml-movie-night-2/
LOCATION:Old School House\, 809 Taos St\, Georgetown\, CO\, United States
CATEGORIES:Adults,Community Events,Kids,Library Events
GEO:39.707368;-105.695645
X-APPLE-STRUCTURED-LOCATION;VALUE=URI;X-ADDRESS=Old School House 809 Taos St Georgetown CO United States;X-APPLE-RADIUS=500;X-TITLE=809 Taos St:geo:-105.695645,39.707368
END:VEVENT
BEGIN:VEVENT
DTSTART;TZID=America/Denver:20190906T190000
DTEND;TZID=America/Denver:20190906T220000
DTSTAMP:20260421T131416
CREATED:20190808T200202Z
LAST-MODIFIED:20190907T213023Z
UID:10005022-1567796400-1567807200@cccld.org
SUMMARY:HS FB vs Hotchkiss @ Idaho Srings (7:00)
DESCRIPTION:
URL:https://cccld.org/event/hs-fb-vs-hotchkiss-idaho-srings-700/
CATEGORIES:Community Events
END:VEVENT
END:VCALENDAR