BEGIN:VCALENDAR
VERSION:2.0
PRODID:-//Clear Creek County Library District - ECPv6.15.16//NONSGML v1.0//EN
CALSCALE:GREGORIAN
METHOD:PUBLISH
X-WR-CALNAME:Clear Creek County Library District
X-ORIGINAL-URL:https://cccld.org
X-WR-CALDESC:Events for Clear Creek County Library District
REFRESH-INTERVAL;VALUE=DURATION:PT1H
X-Robots-Tag:noindex
X-PUBLISHED-TTL:PT1H
BEGIN:VTIMEZONE
TZID:America/Denver
BEGIN:DAYLIGHT
TZOFFSETFROM:-0700
TZOFFSETTO:-0600
TZNAME:MDT
DTSTART:20180311T090000
END:DAYLIGHT
BEGIN:STANDARD
TZOFFSETFROM:-0600
TZOFFSETTO:-0700
TZNAME:MST
DTSTART:20181104T080000
END:STANDARD
BEGIN:DAYLIGHT
TZOFFSETFROM:-0700
TZOFFSETTO:-0600
TZNAME:MDT
DTSTART:20190310T090000
END:DAYLIGHT
BEGIN:STANDARD
TZOFFSETFROM:-0600
TZOFFSETTO:-0700
TZNAME:MST
DTSTART:20191103T080000
END:STANDARD
BEGIN:DAYLIGHT
TZOFFSETFROM:-0700
TZOFFSETTO:-0600
TZNAME:MDT
DTSTART:20200308T090000
END:DAYLIGHT
BEGIN:STANDARD
TZOFFSETFROM:-0600
TZOFFSETTO:-0700
TZNAME:MST
DTSTART:20201101T080000
END:STANDARD
END:VTIMEZONE
BEGIN:VEVENT
DTSTART;TZID=America/Denver:20190910T111500
DTEND;TZID=America/Denver:20190910T111500
DTSTAMP:20260421T131415
CREATED:20190816T181015Z
LAST-MODIFIED:20190816T181015Z
UID:10004514-1568114100-1568114100@cccld.org
SUMMARY:ISPL Storytime
DESCRIPTION:
URL:https://cccld.org/event/ispl-storytime-7/2019-09-10/
LOCATION:Idaho Springs Public Library\, 219 14th Avenue\, Idaho Springs\, CO\, 80452\, United States
CATEGORIES:Kids,Library Events
GEO:39.742052;-105.5183552
X-APPLE-STRUCTURED-LOCATION;VALUE=URI;X-ADDRESS=Idaho Springs Public Library 219 14th Avenue Idaho Springs CO 80452 United States;X-APPLE-RADIUS=500;X-TITLE=219 14th Avenue:geo:-105.5183552,39.742052
END:VEVENT
BEGIN:VEVENT
DTSTART;TZID=America/Denver:20190910T130000
DTEND;TZID=America/Denver:20190910T130000
DTSTAMP:20260421T131415
CREATED:20190815T210442Z
LAST-MODIFIED:20190815T210442Z
UID:10004485-1568120400-1568120400@cccld.org
SUMMARY:ISPL Computer Basics
DESCRIPTION:Drop in for assistance with learning basic computer skills.
URL:https://cccld.org/event/ispl-computer-basics-2/2019-09-10/
LOCATION:Idaho Springs Public Library\, 219 14th Avenue\, Idaho Springs\, CO\, 80452\, United States
CATEGORIES:Adults,Library Events
GEO:39.742052;-105.5183552
X-APPLE-STRUCTURED-LOCATION;VALUE=URI;X-ADDRESS=Idaho Springs Public Library 219 14th Avenue Idaho Springs CO 80452 United States;X-APPLE-RADIUS=500;X-TITLE=219 14th Avenue:geo:-105.5183552,39.742052
END:VEVENT
BEGIN:VEVENT
DTSTART;TZID=America/Denver:20190910T151500
DTEND;TZID=America/Denver:20190910T181500
DTSTAMP:20260421T131415
CREATED:20190815T201509Z
LAST-MODIFIED:20190911T214440Z
UID:10005026-1568128500-1568139300@cccld.org
SUMMARY:HS FB vs Lyons @ Lyons - 3:45 BUS (7:00)
DESCRIPTION:
URL:https://cccld.org/event/hs-fb-vs-lyons-lyons-345-bus-700/
CATEGORIES:Community Events
END:VEVENT
BEGIN:VEVENT
DTSTART;TZID=America/Denver:20190910T160000
DTEND;TZID=America/Denver:20190910T180000
DTSTAMP:20260421T131415
CREATED:20190811T200033Z
LAST-MODIFIED:20190819T202910Z
UID:10004483-1568131200-1568138400@cccld.org
SUMMARY:MS XC Golddigger Invitational @ CCHS (4:00)
DESCRIPTION:
URL:https://cccld.org/event/ms-xc-golddigger-invitational-cchs-400/
CATEGORIES:Community Events
END:VEVENT
BEGIN:VEVENT
DTSTART;TZID=America/Denver:20190910T160000
DTEND;TZID=America/Denver:20190910T190000
DTSTAMP:20260421T131415
CREATED:20190820T203059Z
LAST-MODIFIED:20190911T214440Z
UID:10005045-1568131200-1568142000@cccld.org
SUMMARY:MS XC Golddigger Invitational (CCSH) (4:00)
DESCRIPTION:
URL:https://cccld.org/event/ms-xc-golddigger-invitational-ccsh-400/
CATEGORIES:Community Events
END:VEVENT
BEGIN:VEVENT
DTSTART;TZID=America/Denver:20190910T160000
DTEND;TZID=America/Denver:20190910T200000
DTSTAMP:20260421T131415
CREATED:20190811T200033Z
LAST-MODIFIED:20190911T214440Z
UID:10004511-1568131200-1568145600@cccld.org
SUMMARY:HS VB vs Highland @ CCHS (4:00C/5:00JV/6:00V)
DESCRIPTION:
URL:https://cccld.org/event/hs-vb-vs-highland-cchs-500-600/
CATEGORIES:Community Events
END:VEVENT
BEGIN:VEVENT
DTSTART;TZID=America/Denver:20190910T163000
DTEND;TZID=America/Denver:20190910T183000
DTSTAMP:20260421T131415
CREATED:20190811T200033Z
LAST-MODIFIED:20190911T214440Z
UID:10004495-1568133000-1568140200@cccld.org
SUMMARY:HS XC Golddigger Invit. MS w HS  @ CCHS (4:40)
DESCRIPTION:
URL:https://cccld.org/event/hs-xc-golddigger-invit-ms-w-hs-cchs-440/
CATEGORIES:Community Events
END:VEVENT
BEGIN:VEVENT
DTSTART;TZID=America/Denver:20190910T170000
DTEND;TZID=America/Denver:20190910T203000
DTSTAMP:20260421T131415
CREATED:20190811T200033Z
LAST-MODIFIED:20190911T214440Z
UID:10004489-1568134800-1568147400@cccld.org
SUMMARY:MS VB vs Gilpin @ Gilpin - 3:45 BUS (5:00 B\,A)
DESCRIPTION:
URL:https://cccld.org/event/ms-vb-vs-gilpin-gilpin-245-bus-415-cba/
CATEGORIES:Community Events
END:VEVENT
END:VCALENDAR