BEGIN:VCALENDAR
VERSION:2.0
PRODID:-//Clear Creek County Library District - ECPv6.15.16//NONSGML v1.0//EN
CALSCALE:GREGORIAN
METHOD:PUBLISH
X-WR-CALNAME:Clear Creek County Library District
X-ORIGINAL-URL:https://cccld.org
X-WR-CALDESC:Events for Clear Creek County Library District
REFRESH-INTERVAL;VALUE=DURATION:PT1H
X-Robots-Tag:noindex
X-PUBLISHED-TTL:PT1H
BEGIN:VTIMEZONE
TZID:America/Denver
BEGIN:DAYLIGHT
TZOFFSETFROM:-0700
TZOFFSETTO:-0600
TZNAME:MDT
DTSTART:20180311T090000
END:DAYLIGHT
BEGIN:STANDARD
TZOFFSETFROM:-0600
TZOFFSETTO:-0700
TZNAME:MST
DTSTART:20181104T080000
END:STANDARD
BEGIN:DAYLIGHT
TZOFFSETFROM:-0700
TZOFFSETTO:-0600
TZNAME:MDT
DTSTART:20190310T090000
END:DAYLIGHT
BEGIN:STANDARD
TZOFFSETFROM:-0600
TZOFFSETTO:-0700
TZNAME:MST
DTSTART:20191103T080000
END:STANDARD
BEGIN:DAYLIGHT
TZOFFSETFROM:-0700
TZOFFSETTO:-0600
TZNAME:MDT
DTSTART:20200308T090000
END:DAYLIGHT
BEGIN:STANDARD
TZOFFSETFROM:-0600
TZOFFSETTO:-0700
TZNAME:MST
DTSTART:20201101T080000
END:STANDARD
END:VTIMEZONE
BEGIN:VEVENT
DTSTART;TZID=America/Denver:20190913T153000
DTEND;TZID=America/Denver:20190913T173000
DTSTAMP:20260421T131414
CREATED:20190910T214508Z
LAST-MODIFIED:20190913T215955Z
UID:10004567-1568388600-1568395800@cccld.org
SUMMARY:HS FB vs Lyons @ Lyons - 3:45 BUS (7:00)
DESCRIPTION:
URL:https://cccld.org/event/hs-fb-vs-lyons-lyons-345-bus-700-2/
CATEGORIES:Community Events
END:VEVENT
BEGIN:VEVENT
DTSTART;TZID=America/Denver:20190913T153000
DTEND;TZID=America/Denver:20190913T173000
DTSTAMP:20260421T131414
CREATED:20190814T200300Z
LAST-MODIFIED:20190913T215954Z
UID:10004550-1568388600-1568395800@cccld.org
SUMMARY:HS XC Legacy Invitational (Broomfield Commons 13200 SHeridan Blvd)- 1:30 BUS (3:30)
DESCRIPTION:
URL:https://cccld.org/event/hs-xc-legacy-invitational-broomfield-commons-13200-sheridan-blvd-130-bus-330/
LOCATION:Broomfield Commons Sports Fields\, 13200 Sheridan Boulevard\, Broomfield\, CO 80020\, USA\, United States
CATEGORIES:Community Events
GEO:39.930782;-105.074287
END:VEVENT
BEGIN:VEVENT
DTSTART;TZID=America/Denver:20190913T170000
DTEND;TZID=America/Denver:20190913T170000
DTSTAMP:20260421T131414
CREATED:20190729T203729Z
LAST-MODIFIED:20190729T203729Z
UID:10004996-1568394000-1568394000@cccld.org
SUMMARY:ISPL Movie Night
DESCRIPTION:Enjoy a free\, family-friendly movie on the big screen at your library! Satisfy your cravings with snacks and freshly-popped popcorn available for sale at our mini concessions stand.
URL:https://cccld.org/event/ispl-movie-night-2/
LOCATION:Idaho Springs Public Library\, 219 14th Avenue\, Idaho Springs\, CO\, 80452\, United States
CATEGORIES:Adults,Community Events,Kids,Library Events
GEO:39.742052;-105.5183552
X-APPLE-STRUCTURED-LOCATION;VALUE=URI;X-ADDRESS=Idaho Springs Public Library 219 14th Avenue Idaho Springs CO 80452 United States;X-APPLE-RADIUS=500;X-TITLE=219 14th Avenue:geo:-105.5183552,39.742052
END:VEVENT
END:VCALENDAR