BEGIN:VCALENDAR
VERSION:2.0
PRODID:-//Clear Creek County Library District - ECPv6.15.16//NONSGML v1.0//EN
CALSCALE:GREGORIAN
METHOD:PUBLISH
X-ORIGINAL-URL:https://cccld.org
X-WR-CALDESC:Events for Clear Creek County Library District
REFRESH-INTERVAL;VALUE=DURATION:PT1H
X-Robots-Tag:noindex
X-PUBLISHED-TTL:PT1H
BEGIN:VTIMEZONE
TZID:America/Denver
BEGIN:DAYLIGHT
TZOFFSETFROM:-0700
TZOFFSETTO:-0600
TZNAME:MDT
DTSTART:20180311T090000
END:DAYLIGHT
BEGIN:STANDARD
TZOFFSETFROM:-0600
TZOFFSETTO:-0700
TZNAME:MST
DTSTART:20181104T080000
END:STANDARD
BEGIN:DAYLIGHT
TZOFFSETFROM:-0700
TZOFFSETTO:-0600
TZNAME:MDT
DTSTART:20190310T090000
END:DAYLIGHT
BEGIN:STANDARD
TZOFFSETFROM:-0600
TZOFFSETTO:-0700
TZNAME:MST
DTSTART:20191103T080000
END:STANDARD
BEGIN:DAYLIGHT
TZOFFSETFROM:-0700
TZOFFSETTO:-0600
TZNAME:MDT
DTSTART:20200308T090000
END:DAYLIGHT
BEGIN:STANDARD
TZOFFSETFROM:-0600
TZOFFSETTO:-0700
TZNAME:MST
DTSTART:20201101T080000
END:STANDARD
END:VTIMEZONE
BEGIN:VEVENT
DTSTART;TZID=America/Denver:20190914T090000
DTEND;TZID=America/Denver:20190914T110000
DTSTAMP:20260421T131551
CREATED:20190815T201509Z
LAST-MODIFIED:20190914T220014Z
UID:10005027-1568451600-1568458800@cccld.org
SUMMARY:MS XC Middle Park Invit. w HS @ Snow Mtn Ranch - NO BUS (9:15)
DESCRIPTION:
URL:https://cccld.org/event/ms-xc-middle-park-invit-w-hs-snow-mtn-ranch-no-bus-915/
CATEGORIES:Community Events
END:VEVENT
BEGIN:VEVENT
DTSTART;TZID=America/Denver:20190914T100000
DTEND;TZID=America/Denver:20190914T120000
DTSTAMP:20260421T131551
CREATED:20190815T201509Z
LAST-MODIFIED:20190914T220015Z
UID:10005028-1568455200-1568462400@cccld.org
SUMMARY:HS XC Middle Park Invit. MS w HS\, Snow Mtn Ranch - NO BUS (10:10)
DESCRIPTION:
URL:https://cccld.org/event/hs-xc-middle-park-invit-ms-w-hs-snow-mtn-ranch-no-bus-1010/
CATEGORIES:Community Events
END:VEVENT
BEGIN:VEVENT
DTSTART;TZID=America/Denver:20190914T130000
DTEND;TZID=America/Denver:20190914T170000
DTSTAMP:20260421T131551
CREATED:20190815T201509Z
LAST-MODIFIED:20190914T220015Z
UID:10004481-1568466000-1568480400@cccld.org
SUMMARY:HS Vball vs Kent Denver @ Kent Denver - NO BUS (12:00/1:00/2:00)
DESCRIPTION:
URL:https://cccld.org/event/hs-vball-vs-kent-denver-kent-denver-no-bus-jv-1100-v-1200/
CATEGORIES:Community Events
END:VEVENT
END:VCALENDAR