BEGIN:VCALENDAR
VERSION:2.0
PRODID:-//Clear Creek County Library District - ECPv6.15.16//NONSGML v1.0//EN
CALSCALE:GREGORIAN
METHOD:PUBLISH
X-WR-CALNAME:Clear Creek County Library District
X-ORIGINAL-URL:https://cccld.org
X-WR-CALDESC:Events for Clear Creek County Library District
REFRESH-INTERVAL;VALUE=DURATION:PT1H
X-Robots-Tag:noindex
X-PUBLISHED-TTL:PT1H
BEGIN:VTIMEZONE
TZID:America/Denver
BEGIN:DAYLIGHT
TZOFFSETFROM:-0700
TZOFFSETTO:-0600
TZNAME:MDT
DTSTART:20180311T090000
END:DAYLIGHT
BEGIN:STANDARD
TZOFFSETFROM:-0600
TZOFFSETTO:-0700
TZNAME:MST
DTSTART:20181104T080000
END:STANDARD
BEGIN:DAYLIGHT
TZOFFSETFROM:-0700
TZOFFSETTO:-0600
TZNAME:MDT
DTSTART:20190310T090000
END:DAYLIGHT
BEGIN:STANDARD
TZOFFSETFROM:-0600
TZOFFSETTO:-0700
TZNAME:MST
DTSTART:20191103T080000
END:STANDARD
BEGIN:DAYLIGHT
TZOFFSETFROM:-0700
TZOFFSETTO:-0600
TZNAME:MDT
DTSTART:20200308T090000
END:DAYLIGHT
BEGIN:STANDARD
TZOFFSETFROM:-0600
TZOFFSETTO:-0700
TZNAME:MST
DTSTART:20201101T080000
END:STANDARD
END:VTIMEZONE
BEGIN:VEVENT
DTSTART;TZID=America/Denver:20190917T111500
DTEND;TZID=America/Denver:20190917T111500
DTSTAMP:20260421T131418
CREATED:20190816T181015Z
LAST-MODIFIED:20190816T181015Z
UID:10004515-1568718900-1568718900@cccld.org
SUMMARY:ISPL Storytime
DESCRIPTION:
URL:https://cccld.org/event/ispl-storytime-7/2019-09-17/
LOCATION:Idaho Springs Public Library\, 219 14th Avenue\, Idaho Springs\, CO\, 80452\, United States
CATEGORIES:Kids,Library Events
GEO:39.742052;-105.5183552
X-APPLE-STRUCTURED-LOCATION;VALUE=URI;X-ADDRESS=Idaho Springs Public Library 219 14th Avenue Idaho Springs CO 80452 United States;X-APPLE-RADIUS=500;X-TITLE=219 14th Avenue:geo:-105.5183552,39.742052
END:VEVENT
BEGIN:VEVENT
DTSTART;TZID=America/Denver:20190917T130000
DTEND;TZID=America/Denver:20190917T130000
DTSTAMP:20260421T131418
CREATED:20190815T210442Z
LAST-MODIFIED:20190815T210442Z
UID:10004486-1568725200-1568725200@cccld.org
SUMMARY:ISPL Computer Basics
DESCRIPTION:Drop in for assistance with learning basic computer skills.
URL:https://cccld.org/event/ispl-computer-basics-2/2019-09-17/
LOCATION:Idaho Springs Public Library\, 219 14th Avenue\, Idaho Springs\, CO\, 80452\, United States
CATEGORIES:Adults,Library Events
GEO:39.742052;-105.5183552
X-APPLE-STRUCTURED-LOCATION;VALUE=URI;X-ADDRESS=Idaho Springs Public Library 219 14th Avenue Idaho Springs CO 80452 United States;X-APPLE-RADIUS=500;X-TITLE=219 14th Avenue:geo:-105.5183552,39.742052
END:VEVENT
BEGIN:VEVENT
DTSTART;TZID=America/Denver:20190917T160000
DTEND;TZID=America/Denver:20190917T190000
DTSTAMP:20260421T131418
CREATED:20190818T201915Z
LAST-MODIFIED:20190918T215919Z
UID:10004549-1568736000-1568746800@cccld.org
SUMMARY:MS FB vs East Grand @ East Grand - BUS 1:30 (4:00)
DESCRIPTION:
URL:https://cccld.org/event/ms-fb-vs-east-grand-east-grand-bus-130-400/
CATEGORIES:Community Events
END:VEVENT
BEGIN:VEVENT
DTSTART;TZID=America/Denver:20190917T160000
DTEND;TZID=America/Denver:20190917T193000
DTSTAMP:20260421T131418
CREATED:20190818T201915Z
LAST-MODIFIED:20190918T215919Z
UID:10004551-1568736000-1568748600@cccld.org
SUMMARY:MS VB vs East Grand @ East Grand - 1:30 BUS (4:00 /B\,A)
DESCRIPTION:
URL:https://cccld.org/event/ms-vb-vs-east-grand-east-grand-130-bus-400-cba/
CATEGORIES:Community Events
END:VEVENT
BEGIN:VEVENT
DTSTART;TZID=America/Denver:20190917T170000
DTEND;TZID=America/Denver:20190917T170000
DTSTAMP:20260421T131418
CREATED:20190328T205014Z
LAST-MODIFIED:20190328T205014Z
UID:10004628-1568739600-1568739600@cccld.org
SUMMARY:District Board Meeting
DESCRIPTION:
URL:https://cccld.org/event/district-board-meeting-5/
LOCATION:Old School House\, 809 Taos St\, Georgetown\, CO\, United States
CATEGORIES:Library Events
GEO:39.707368;-105.695645
X-APPLE-STRUCTURED-LOCATION;VALUE=URI;X-ADDRESS=Old School House 809 Taos St Georgetown CO United States;X-APPLE-RADIUS=500;X-TITLE=809 Taos St:geo:-105.695645,39.707368
END:VEVENT
BEGIN:VEVENT
DTSTART;TZID=America/Denver:20190917T170000
DTEND;TZID=America/Denver:20190917T200000
DTSTAMP:20260421T131418
CREATED:20190818T201915Z
LAST-MODIFIED:20190918T215919Z
UID:10004553-1568739600-1568750400@cccld.org
SUMMARY:HS VB vs Nederland @ Nederland - 3:15 BUS (5:00 V only)
DESCRIPTION:
URL:https://cccld.org/event/hs-vb-vs-nederland-nederland-315-bus-500-600/
CATEGORIES:Community Events
END:VEVENT
END:VCALENDAR