BEGIN:VCALENDAR
VERSION:2.0
PRODID:-//Clear Creek County Library District - ECPv6.15.16//NONSGML v1.0//EN
CALSCALE:GREGORIAN
METHOD:PUBLISH
X-ORIGINAL-URL:https://cccld.org
X-WR-CALDESC:Events for Clear Creek County Library District
REFRESH-INTERVAL;VALUE=DURATION:PT1H
X-Robots-Tag:noindex
X-PUBLISHED-TTL:PT1H
BEGIN:VTIMEZONE
TZID:America/Denver
BEGIN:DAYLIGHT
TZOFFSETFROM:-0700
TZOFFSETTO:-0600
TZNAME:MDT
DTSTART:20180311T090000
END:DAYLIGHT
BEGIN:STANDARD
TZOFFSETFROM:-0600
TZOFFSETTO:-0700
TZNAME:MST
DTSTART:20181104T080000
END:STANDARD
BEGIN:DAYLIGHT
TZOFFSETFROM:-0700
TZOFFSETTO:-0600
TZNAME:MDT
DTSTART:20190310T090000
END:DAYLIGHT
BEGIN:STANDARD
TZOFFSETFROM:-0600
TZOFFSETTO:-0700
TZNAME:MST
DTSTART:20191103T080000
END:STANDARD
BEGIN:DAYLIGHT
TZOFFSETFROM:-0700
TZOFFSETTO:-0600
TZNAME:MDT
DTSTART:20200308T090000
END:DAYLIGHT
BEGIN:STANDARD
TZOFFSETFROM:-0600
TZOFFSETTO:-0700
TZNAME:MST
DTSTART:20201101T080000
END:STANDARD
END:VTIMEZONE
BEGIN:VEVENT
DTSTART;VALUE=DATE:20190925
DTEND;VALUE=DATE:20190926
DTSTAMP:20260421T131551
CREATED:20190826T152902Z
LAST-MODIFIED:20190925T181453Z
UID:10005081-1569369600-1569455999@cccld.org
SUMMARY:Deal about Dirt
DESCRIPTION:
URL:https://cccld.org/event/deal-about-dirt/
CATEGORIES:Community Events
END:VEVENT
BEGIN:VEVENT
DTSTART;TZID=America/Denver:20190925T111500
DTEND;TZID=America/Denver:20190925T111500
DTSTAMP:20260421T131551
CREATED:20190816T181205Z
LAST-MODIFIED:20190816T181205Z
UID:10004534-1569410100-1569410100@cccld.org
SUMMARY:JTML Storytime
DESCRIPTION:
URL:https://cccld.org/event/jtml-storytime-7/2019-09-25/
LOCATION:John Tomay Memorial Library\, 605 6th Street\, Georgetown\, CO\, 80444\, United States
CATEGORIES:Kids,Library Events
GEO:39.7061997;-105.6974142
X-APPLE-STRUCTURED-LOCATION;VALUE=URI;X-ADDRESS=John Tomay Memorial Library 605 6th Street Georgetown CO 80444 United States;X-APPLE-RADIUS=500;X-TITLE=605 6th Street:geo:-105.6974142,39.7061997
END:VEVENT
BEGIN:VEVENT
DTSTART;TZID=America/Denver:20190925T130000
DTEND;TZID=America/Denver:20190925T130000
DTSTAMP:20260421T131551
CREATED:20190815T210549Z
LAST-MODIFIED:20190815T210549Z
UID:10004493-1569416400-1569416400@cccld.org
SUMMARY:JTML Computer Basics
DESCRIPTION:Drop in for assistance with learning basic computer skills.
URL:https://cccld.org/event/jtml-computer-basics-2/2019-09-25/
LOCATION:John Tomay Memorial Library\, 605 6th Street\, Georgetown\, CO\, 80444\, United States
CATEGORIES:Adults,Library Events
GEO:39.7061997;-105.6974142
X-APPLE-STRUCTURED-LOCATION;VALUE=URI;X-ADDRESS=John Tomay Memorial Library 605 6th Street Georgetown CO 80444 United States;X-APPLE-RADIUS=500;X-TITLE=605 6th Street:geo:-105.6974142,39.7061997
END:VEVENT
BEGIN:VEVENT
DTSTART;TZID=America/Denver:20190925T154500
DTEND;TZID=America/Denver:20190925T161500
DTSTAMP:20260421T131551
CREATED:20190827T204321Z
LAST-MODIFIED:20190925T221559Z
UID:10005085-1569426300-1569428100@cccld.org
SUMMARY:Team Pics - HSVB  3:45
DESCRIPTION:
URL:https://cccld.org/event/team-pics-hsvb-345/
CATEGORIES:Community Events
END:VEVENT
BEGIN:VEVENT
DTSTART;TZID=America/Denver:20190925T161000
DTEND;TZID=America/Denver:20190925T163000
DTSTAMP:20260421T131551
CREATED:20190827T204321Z
LAST-MODIFIED:20190925T221559Z
UID:10005087-1569427800-1569429000@cccld.org
SUMMARY:Team Pics - Poms 4:10
DESCRIPTION:
URL:https://cccld.org/event/team-pics-poms-410/
CATEGORIES:Community Events
END:VEVENT
BEGIN:VEVENT
DTSTART;TZID=America/Denver:20190925T163000
DTEND;TZID=America/Denver:20190925T165000
DTSTAMP:20260421T131551
CREATED:20190827T204321Z
LAST-MODIFIED:20190925T221600Z
UID:10005089-1569429000-1569430200@cccld.org
SUMMARY:Team Pics - Cheer 4:30
DESCRIPTION:
URL:https://cccld.org/event/team-pics-cheer-430/
CATEGORIES:Community Events
END:VEVENT
BEGIN:VEVENT
DTSTART;TZID=America/Denver:20190925T165000
DTEND;TZID=America/Denver:20190925T171000
DTSTAMP:20260421T131551
CREATED:20190827T204321Z
LAST-MODIFIED:20190925T221600Z
UID:10005092-1569430200-1569431400@cccld.org
SUMMARY:Team Pics - XC 4:50
DESCRIPTION:
URL:https://cccld.org/event/team-pics-xc-450/
CATEGORIES:Community Events
END:VEVENT
BEGIN:VEVENT
DTSTART;TZID=America/Denver:20190925T171000
DTEND;TZID=America/Denver:20190925T173000
DTSTAMP:20260421T131551
CREATED:20190827T204321Z
LAST-MODIFIED:20190925T221600Z
UID:10005094-1569431400-1569432600@cccld.org
SUMMARY:Team Pics - FB 5:10
DESCRIPTION:
URL:https://cccld.org/event/team-pics-fb-510/
CATEGORIES:Community Events
END:VEVENT
END:VCALENDAR