BEGIN:VCALENDAR
VERSION:2.0
PRODID:-//Clear Creek County Library District - ECPv6.15.16//NONSGML v1.0//EN
CALSCALE:GREGORIAN
METHOD:PUBLISH
X-ORIGINAL-URL:https://cccld.org
X-WR-CALDESC:Events for Clear Creek County Library District
REFRESH-INTERVAL;VALUE=DURATION:PT1H
X-Robots-Tag:noindex
X-PUBLISHED-TTL:PT1H
BEGIN:VTIMEZONE
TZID:America/Denver
BEGIN:DAYLIGHT
TZOFFSETFROM:-0700
TZOFFSETTO:-0600
TZNAME:MDT
DTSTART:20180311T090000
END:DAYLIGHT
BEGIN:STANDARD
TZOFFSETFROM:-0600
TZOFFSETTO:-0700
TZNAME:MST
DTSTART:20181104T080000
END:STANDARD
BEGIN:DAYLIGHT
TZOFFSETFROM:-0700
TZOFFSETTO:-0600
TZNAME:MDT
DTSTART:20190310T090000
END:DAYLIGHT
BEGIN:STANDARD
TZOFFSETFROM:-0600
TZOFFSETTO:-0700
TZNAME:MST
DTSTART:20191103T080000
END:STANDARD
BEGIN:DAYLIGHT
TZOFFSETFROM:-0700
TZOFFSETTO:-0600
TZNAME:MDT
DTSTART:20200308T090000
END:DAYLIGHT
BEGIN:STANDARD
TZOFFSETFROM:-0600
TZOFFSETTO:-0700
TZNAME:MST
DTSTART:20201101T080000
END:STANDARD
END:VTIMEZONE
BEGIN:VEVENT
DTSTART;VALUE=DATE:20191002
DTEND;VALUE=DATE:20191003
DTSTAMP:20260421T115344
CREATED:20190902T161817Z
LAST-MODIFIED:20191002T181459Z
UID:10004566-1569974400-1570060799@cccld.org
SUMMARY:Art of Cheese
DESCRIPTION:
URL:https://cccld.org/event/art-of-cheese/
CATEGORIES:Community Events
END:VEVENT
BEGIN:VEVENT
DTSTART;TZID=America/Denver:20191002T111500
DTEND;TZID=America/Denver:20191002T111500
DTSTAMP:20260421T115344
CREATED:20190816T181205Z
LAST-MODIFIED:20190816T181205Z
UID:10004535-1570014900-1570014900@cccld.org
SUMMARY:JTML Storytime
DESCRIPTION:
URL:https://cccld.org/event/jtml-storytime-7/2019-10-02/
LOCATION:John Tomay Memorial Library\, 605 6th Street\, Georgetown\, CO\, 80444\, United States
CATEGORIES:Kids,Library Events
GEO:39.7061997;-105.6974142
X-APPLE-STRUCTURED-LOCATION;VALUE=URI;X-ADDRESS=John Tomay Memorial Library 605 6th Street Georgetown CO 80444 United States;X-APPLE-RADIUS=500;X-TITLE=605 6th Street:geo:-105.6974142,39.7061997
END:VEVENT
BEGIN:VEVENT
DTSTART;TZID=America/Denver:20191002T160000
DTEND;TZID=America/Denver:20191002T190000
DTSTAMP:20260421T115344
CREATED:20190924T221420Z
LAST-MODIFIED:20191003T222845Z
UID:10004600-1570032000-1570042800@cccld.org
SUMMARY:MX XC @ Slavens SC Invit.- Harvard Gulch\, 660 E Iliff Ave\, Denver - 2:15 BUS (4:00 Run)
DESCRIPTION:
URL:https://cccld.org/event/mx-xc-slavens-sc-invit-harvard-gulch-660-e-iliff-ave-denver-215-bus-400-run/
CATEGORIES:Community Events
END:VEVENT
END:VCALENDAR