BEGIN:VCALENDAR
VERSION:2.0
PRODID:-//Clear Creek County Library District - ECPv6.15.16//NONSGML v1.0//EN
CALSCALE:GREGORIAN
METHOD:PUBLISH
X-ORIGINAL-URL:https://cccld.org
X-WR-CALDESC:Events for Clear Creek County Library District
REFRESH-INTERVAL;VALUE=DURATION:PT1H
X-Robots-Tag:noindex
X-PUBLISHED-TTL:PT1H
BEGIN:VTIMEZONE
TZID:America/Denver
BEGIN:DAYLIGHT
TZOFFSETFROM:-0700
TZOFFSETTO:-0600
TZNAME:MDT
DTSTART:20180311T090000
END:DAYLIGHT
BEGIN:STANDARD
TZOFFSETFROM:-0600
TZOFFSETTO:-0700
TZNAME:MST
DTSTART:20181104T080000
END:STANDARD
BEGIN:DAYLIGHT
TZOFFSETFROM:-0700
TZOFFSETTO:-0600
TZNAME:MDT
DTSTART:20190310T090000
END:DAYLIGHT
BEGIN:STANDARD
TZOFFSETFROM:-0600
TZOFFSETTO:-0700
TZNAME:MST
DTSTART:20191103T080000
END:STANDARD
BEGIN:DAYLIGHT
TZOFFSETFROM:-0700
TZOFFSETTO:-0600
TZNAME:MDT
DTSTART:20200308T090000
END:DAYLIGHT
BEGIN:STANDARD
TZOFFSETFROM:-0600
TZOFFSETTO:-0700
TZNAME:MST
DTSTART:20201101T080000
END:STANDARD
END:VTIMEZONE
BEGIN:VEVENT
DTSTART;TZID=America/Denver:20191004T140000
DTEND;TZID=America/Denver:20191004T163000
DTSTAMP:20260421T115344
CREATED:20190924T170053Z
LAST-MODIFIED:20191029T200956Z
UID:10005147-1570197600-1570206600@cccld.org
SUMMARY:Virtual Reality
DESCRIPTION:Explore the virtual gaming world! Adults and kids welcome – reserve your spot by calling the Idaho Springs Public Library at 303-567-2020.
URL:https://cccld.org/event/virtual-reality/2019-10-04/
LOCATION:Idaho Springs Public Library\, 219 14th Avenue\, Idaho Springs\, CO\, 80452\, United States
CATEGORIES:Adults,Kids,Library Events
GEO:39.742052;-105.5183552
X-APPLE-STRUCTURED-LOCATION;VALUE=URI;X-ADDRESS=Idaho Springs Public Library 219 14th Avenue Idaho Springs CO 80452 United States;X-APPLE-RADIUS=500;X-TITLE=219 14th Avenue:geo:-105.5183552,39.742052
END:VEVENT
BEGIN:VEVENT
DTSTART;TZID=America/Denver:20191004T160000
DTEND;TZID=America/Denver:20191004T190000
DTSTAMP:20260421T115344
CREATED:20190904T211341Z
LAST-MODIFIED:20191005T222821Z
UID:10004572-1570204800-1570215600@cccld.org
SUMMARY:MS FB vs Gilpin @ Idaho Springs HC (4:00)
DESCRIPTION:
URL:https://cccld.org/event/ms-fb-vs-gilpin-idaho-springs-hc-400/
CATEGORIES:Community Events
END:VEVENT
BEGIN:VEVENT
DTSTART;TZID=America/Denver:20191004T170000
DTEND;TZID=America/Denver:20191004T170000
DTSTAMP:20260421T115344
CREATED:20190924T165140Z
LAST-MODIFIED:20190924T165524Z
UID:10005143-1570208400-1570208400@cccld.org
SUMMARY:Georgetown Movie Night
DESCRIPTION:Enjoy a free\, family-friendly movie on the big screen at your library! Satisfy your cravings with snacks and freshly-popped popcorn available for sale at our mini concessions stand. \nOctober Movie: Aladdin
URL:https://cccld.org/event/georgetown-movie-night/
LOCATION:Old School House\, 809 Taos St\, Georgetown\, CO\, United States
CATEGORIES:Library Events
GEO:39.707368;-105.695645
X-APPLE-STRUCTURED-LOCATION;VALUE=URI;X-ADDRESS=Old School House 809 Taos St Georgetown CO United States;X-APPLE-RADIUS=500;X-TITLE=809 Taos St:geo:-105.695645,39.707368
END:VEVENT
BEGIN:VEVENT
DTSTART;TZID=America/Denver:20191004T190000
DTEND;TZID=America/Denver:20191004T220000
DTSTAMP:20260421T115344
CREATED:20190905T211512Z
LAST-MODIFIED:20191005T222821Z
UID:10005097-1570215600-1570226400@cccld.org
SUMMARY:HS FB vs Platte Canyon @ Idaho Springs (HC) (7:00)
DESCRIPTION:
URL:https://cccld.org/event/hs-fb-vs-platte-canyon-idaho-springs-hc-700/
CATEGORIES:Community Events
END:VEVENT
END:VCALENDAR