BEGIN:VCALENDAR
VERSION:2.0
PRODID:-//Clear Creek County Library District - ECPv6.15.16//NONSGML v1.0//EN
CALSCALE:GREGORIAN
METHOD:PUBLISH
X-WR-CALNAME:Clear Creek County Library District
X-ORIGINAL-URL:https://cccld.org
X-WR-CALDESC:Events for Clear Creek County Library District
REFRESH-INTERVAL;VALUE=DURATION:PT1H
X-Robots-Tag:noindex
X-PUBLISHED-TTL:PT1H
BEGIN:VTIMEZONE
TZID:America/Denver
BEGIN:DAYLIGHT
TZOFFSETFROM:-0700
TZOFFSETTO:-0600
TZNAME:MDT
DTSTART:20180311T090000
END:DAYLIGHT
BEGIN:STANDARD
TZOFFSETFROM:-0600
TZOFFSETTO:-0700
TZNAME:MST
DTSTART:20181104T080000
END:STANDARD
BEGIN:DAYLIGHT
TZOFFSETFROM:-0700
TZOFFSETTO:-0600
TZNAME:MDT
DTSTART:20190310T090000
END:DAYLIGHT
BEGIN:STANDARD
TZOFFSETFROM:-0600
TZOFFSETTO:-0700
TZNAME:MST
DTSTART:20191103T080000
END:STANDARD
BEGIN:DAYLIGHT
TZOFFSETFROM:-0700
TZOFFSETTO:-0600
TZNAME:MDT
DTSTART:20200308T090000
END:DAYLIGHT
BEGIN:STANDARD
TZOFFSETFROM:-0600
TZOFFSETTO:-0700
TZNAME:MST
DTSTART:20201101T080000
END:STANDARD
END:VTIMEZONE
BEGIN:VEVENT
DTSTART;VALUE=DATE:20191005
DTEND;VALUE=DATE:20191006
DTSTAMP:20260421T115336
CREATED:20190905T163952Z
LAST-MODIFIED:20191005T182833Z
UID:10005096-1570233600-1570319999@cccld.org
SUMMARY:John Denver's Georgetown
DESCRIPTION:
URL:https://cccld.org/event/john-denvers-georgetown/
CATEGORIES:Community Events
END:VEVENT
BEGIN:VEVENT
DTSTART;TZID=America/Denver:20191005T090000
DTEND;TZID=America/Denver:20191005T120000
DTSTAMP:20260421T115336
CREATED:20190924T221420Z
LAST-MODIFIED:20191005T222821Z
UID:10005154-1570266000-1570276800@cccld.org
SUMMARY:MS XC @ CO Academy Invit - 3800 S Pierce St\, Denver - NO BUS (9:00 AM Run)
DESCRIPTION:
URL:https://cccld.org/event/ms-xc-co-academy-invit-3800-s-pierce-st-denver-no-bus-900-am-run/
CATEGORIES:Community Events
END:VEVENT
BEGIN:VEVENT
DTSTART;TZID=America/Denver:20191005T090000
DTEND;TZID=America/Denver:20191005T130000
DTSTAMP:20260421T115336
CREATED:20190916T215821Z
LAST-MODIFIED:20190923T221359Z
UID:10005123-1570266000-1570280400@cccld.org
SUMMARY:MS XC Colorado Academy Invitational - NO BUS (9:00 AM)
DESCRIPTION:
URL:https://cccld.org/event/ms-xc-colorado-academy-invitational-no-bus-900-am/
CATEGORIES:Community Events
END:VEVENT
END:VCALENDAR