BEGIN:VCALENDAR
VERSION:2.0
PRODID:-//Clear Creek County Library District - ECPv6.15.16//NONSGML v1.0//EN
CALSCALE:GREGORIAN
METHOD:PUBLISH
X-WR-CALNAME:Clear Creek County Library District
X-ORIGINAL-URL:https://cccld.org
X-WR-CALDESC:Events for Clear Creek County Library District
REFRESH-INTERVAL;VALUE=DURATION:PT1H
X-Robots-Tag:noindex
X-PUBLISHED-TTL:PT1H
BEGIN:VTIMEZONE
TZID:America/Denver
BEGIN:DAYLIGHT
TZOFFSETFROM:-0700
TZOFFSETTO:-0600
TZNAME:MDT
DTSTART:20180311T090000
END:DAYLIGHT
BEGIN:STANDARD
TZOFFSETFROM:-0600
TZOFFSETTO:-0700
TZNAME:MST
DTSTART:20181104T080000
END:STANDARD
BEGIN:DAYLIGHT
TZOFFSETFROM:-0700
TZOFFSETTO:-0600
TZNAME:MDT
DTSTART:20190310T090000
END:DAYLIGHT
BEGIN:STANDARD
TZOFFSETFROM:-0600
TZOFFSETTO:-0700
TZNAME:MST
DTSTART:20191103T080000
END:STANDARD
BEGIN:DAYLIGHT
TZOFFSETFROM:-0700
TZOFFSETTO:-0600
TZNAME:MDT
DTSTART:20200308T090000
END:DAYLIGHT
BEGIN:STANDARD
TZOFFSETFROM:-0600
TZOFFSETTO:-0700
TZNAME:MST
DTSTART:20201101T080000
END:STANDARD
END:VTIMEZONE
BEGIN:VEVENT
DTSTART;TZID=America/Denver:20191008T111500
DTEND;TZID=America/Denver:20191008T111500
DTSTAMP:20260421T131305
CREATED:20190816T181015Z
LAST-MODIFIED:20190816T181015Z
UID:10004518-1570533300-1570533300@cccld.org
SUMMARY:ISPL Storytime
DESCRIPTION:
URL:https://cccld.org/event/ispl-storytime-7/2019-10-08/
LOCATION:Idaho Springs Public Library\, 219 14th Avenue\, Idaho Springs\, CO\, 80452\, United States
CATEGORIES:Kids,Library Events
GEO:39.742052;-105.5183552
X-APPLE-STRUCTURED-LOCATION;VALUE=URI;X-ADDRESS=Idaho Springs Public Library 219 14th Avenue Idaho Springs CO 80452 United States;X-APPLE-RADIUS=500;X-TITLE=219 14th Avenue:geo:-105.5183552,39.742052
END:VEVENT
BEGIN:VEVENT
DTSTART;TZID=America/Denver:20191008T160000
DTEND;TZID=America/Denver:20191008T180000
DTSTAMP:20260421T131305
CREATED:20191008T223116Z
LAST-MODIFIED:20191009T222831Z
UID:10005183-1570550400-1570557600@cccld.org
SUMMARY:MSFB VS KENT DENVER @ CCMS (4:00)
DESCRIPTION:
URL:https://cccld.org/event/msfb-vs-kent-denver-ccms-400/
CATEGORIES:Community Events
END:VEVENT
BEGIN:VEVENT
DTSTART;TZID=America/Denver:20191008T160000
DTEND;TZID=America/Denver:20191008T190000
DTSTAMP:20260421T131305
CREATED:20190908T212851Z
LAST-MODIFIED:20190924T221420Z
UID:10004557-1570550400-1570561200@cccld.org
SUMMARY:MS FB vs Ft Logan Northgate @ FLN - 2:30 BUS (4:00)
DESCRIPTION:
URL:https://cccld.org/event/ms-fb-vs-ft-logan-northgate-fln-230-bus-400/
CATEGORIES:Community Events
END:VEVENT
BEGIN:VEVENT
DTSTART;TZID=America/Denver:20191008T160000
DTEND;TZID=America/Denver:20191008T193000
DTSTAMP:20260421T131305
CREATED:20190908T212851Z
LAST-MODIFIED:20191009T222831Z
UID:10004559-1570550400-1570563000@cccld.org
SUMMARY:MS VB vs Strasburg @ CCMS (4:15/C\,B\,A)
DESCRIPTION:
URL:https://cccld.org/event/ms-vb-vs-strasburg-ccms-415-ba/
CATEGORIES:Community Events
END:VEVENT
BEGIN:VEVENT
DTSTART;TZID=America/Denver:20191008T170000
DTEND;TZID=America/Denver:20191008T200000
DTSTAMP:20260421T131305
CREATED:20190908T212852Z
LAST-MODIFIED:20191009T222831Z
UID:10004561-1570554000-1570564800@cccld.org
SUMMARY:HS VB vs Front Range Christian @ FRC - 3:15 BUS (5:00/6:00)
DESCRIPTION:
URL:https://cccld.org/event/hs-vb-vs-front-range-christian-frc-315-bus-500-600/
CATEGORIES:Community Events
END:VEVENT
END:VCALENDAR