BEGIN:VCALENDAR
VERSION:2.0
PRODID:-//Clear Creek County Library District - ECPv6.15.16//NONSGML v1.0//EN
CALSCALE:GREGORIAN
METHOD:PUBLISH
X-WR-CALNAME:Clear Creek County Library District
X-ORIGINAL-URL:https://cccld.org
X-WR-CALDESC:Events for Clear Creek County Library District
REFRESH-INTERVAL;VALUE=DURATION:PT1H
X-Robots-Tag:noindex
X-PUBLISHED-TTL:PT1H
BEGIN:VTIMEZONE
TZID:America/Denver
BEGIN:DAYLIGHT
TZOFFSETFROM:-0700
TZOFFSETTO:-0600
TZNAME:MDT
DTSTART:20180311T090000
END:DAYLIGHT
BEGIN:STANDARD
TZOFFSETFROM:-0600
TZOFFSETTO:-0700
TZNAME:MST
DTSTART:20181104T080000
END:STANDARD
BEGIN:DAYLIGHT
TZOFFSETFROM:-0700
TZOFFSETTO:-0600
TZNAME:MDT
DTSTART:20190310T090000
END:DAYLIGHT
BEGIN:STANDARD
TZOFFSETFROM:-0600
TZOFFSETTO:-0700
TZNAME:MST
DTSTART:20191103T080000
END:STANDARD
BEGIN:DAYLIGHT
TZOFFSETFROM:-0700
TZOFFSETTO:-0600
TZNAME:MDT
DTSTART:20200308T090000
END:DAYLIGHT
BEGIN:STANDARD
TZOFFSETFROM:-0600
TZOFFSETTO:-0700
TZNAME:MST
DTSTART:20201101T080000
END:STANDARD
END:VTIMEZONE
BEGIN:VEVENT
DTSTART;TZID=America/Denver:20191010T154500
DTEND;TZID=America/Denver:20191010T154500
DTSTAMP:20260421T115335
CREATED:20190815T211208Z
LAST-MODIFIED:20191122T223131Z
UID:10004501-1570722300-1570722300@cccld.org
SUMMARY:Niños Learning Español
DESCRIPTION:Learn basic\, conversational Spanish with our very own Señora Maria!
URL:https://cccld.org/event/ninos-learning-espanol-2/2019-10-10/
LOCATION:John Tomay Memorial Library\, 605 6th Street\, Georgetown\, CO\, 80444\, United States
CATEGORIES:Adults,Kids,Library Events
GEO:39.7061997;-105.6974142
X-APPLE-STRUCTURED-LOCATION;VALUE=URI;X-ADDRESS=John Tomay Memorial Library 605 6th Street Georgetown CO 80444 United States;X-APPLE-RADIUS=500;X-TITLE=605 6th Street:geo:-105.6974142,39.7061997
END:VEVENT
BEGIN:VEVENT
DTSTART;TZID=America/Denver:20191010T160000
DTEND;TZID=America/Denver:20191010T180000
DTSTAMP:20260421T115335
CREATED:20191008T223116Z
LAST-MODIFIED:20191011T224412Z
UID:10005185-1570723200-1570730400@cccld.org
SUMMARY:MSVB LEAGUE TOURN @ POSTPONED
DESCRIPTION:
URL:https://cccld.org/event/msvb-league-tourn-ccms-415-a-only/
CATEGORIES:Community Events
END:VEVENT
BEGIN:VEVENT
DTSTART;TZID=America/Denver:20191010T160000
DTEND;TZID=America/Denver:20191010T190000
DTSTAMP:20260421T115335
CREATED:20190910T214511Z
LAST-MODIFIED:20191007T222940Z
UID:10004569-1570723200-1570734000@cccld.org
SUMMARY:MS FB vs Kent Denver @ CCMS (4:15)
DESCRIPTION:
URL:https://cccld.org/event/ms-fb-vs-kent-denver-ccms-415/
CATEGORIES:Community Events
END:VEVENT
BEGIN:VEVENT
DTSTART;TZID=America/Denver:20191010T170000
DTEND;TZID=America/Denver:20191010T190000
DTSTAMP:20260421T115335
CREATED:20190910T214511Z
LAST-MODIFIED:20191007T222940Z
UID:10004571-1570726800-1570734000@cccld.org
SUMMARY:HS XC Mile High League Meet\, (Dawson School\, 10455 Dawson Dr\, Lafayette) - 2:45 BUS (5:00B/5:30G)
DESCRIPTION:
URL:https://cccld.org/event/hs-xc-mile-high-league-meet-dawson-school-10455-dawson-dr-lafayette-245-bus-500/
CATEGORIES:Community Events
END:VEVENT
BEGIN:VEVENT
DTSTART;TZID=America/Denver:20191010T173000
DTEND;TZID=America/Denver:20191010T173000
DTSTAMP:20260421T115335
CREATED:20190924T171206Z
LAST-MODIFIED:20190924T171234Z
UID:10004584-1570728600-1570728600@cccld.org
SUMMARY:Georgetown Adult Craft Night
DESCRIPTION:Do you love to craft? Or are you craft-curious? Get creative and connect with other crafty patrons at our monthly craft workshops! No experience is necessary and all workshops are free. \nJoin us for a special craft night at Cooper’s on the Creek\, where we’ll be making spooky Halloween cocktails and learning about mixology. Space is limited so register today by calling 303-569-2620 or emailing holly@cccld.org.
URL:https://cccld.org/event/georgetown-adult-craft-night/
LOCATION:Cooper’s on the Creek\, 1500 Argentine Street\, Georgetown\, CO\, 80444\, United States
CATEGORIES:Adults,Library Events
GEO:39.7154476;-105.6946412
X-APPLE-STRUCTURED-LOCATION;VALUE=URI;X-ADDRESS=Cooper’s on the Creek 1500 Argentine Street Georgetown CO 80444 United States;X-APPLE-RADIUS=500;X-TITLE=1500 Argentine Street:geo:-105.6946412,39.7154476
END:VEVENT
BEGIN:VEVENT
DTSTART;TZID=America/Denver:20191010T180000
DTEND;TZID=America/Denver:20191010T210000
DTSTAMP:20260421T115335
CREATED:20190911T214443Z
LAST-MODIFIED:20191011T224412Z
UID:10004573-1570730400-1570741200@cccld.org
SUMMARY:HS FB vs Sheridan POSTPONED TBD
DESCRIPTION:
URL:https://cccld.org/event/hs-fb-vs-sheridan-sheridan-330-bus-600/
CATEGORIES:Community Events
END:VEVENT
END:VCALENDAR