BEGIN:VCALENDAR
VERSION:2.0
PRODID:-//Clear Creek County Library District - ECPv6.15.16//NONSGML v1.0//EN
CALSCALE:GREGORIAN
METHOD:PUBLISH
X-ORIGINAL-URL:https://cccld.org
X-WR-CALDESC:Events for Clear Creek County Library District
REFRESH-INTERVAL;VALUE=DURATION:PT1H
X-Robots-Tag:noindex
X-PUBLISHED-TTL:PT1H
BEGIN:VTIMEZONE
TZID:America/Denver
BEGIN:DAYLIGHT
TZOFFSETFROM:-0700
TZOFFSETTO:-0600
TZNAME:MDT
DTSTART:20180311T090000
END:DAYLIGHT
BEGIN:STANDARD
TZOFFSETFROM:-0600
TZOFFSETTO:-0700
TZNAME:MST
DTSTART:20181104T080000
END:STANDARD
BEGIN:DAYLIGHT
TZOFFSETFROM:-0700
TZOFFSETTO:-0600
TZNAME:MDT
DTSTART:20190310T090000
END:DAYLIGHT
BEGIN:STANDARD
TZOFFSETFROM:-0600
TZOFFSETTO:-0700
TZNAME:MST
DTSTART:20191103T080000
END:STANDARD
BEGIN:DAYLIGHT
TZOFFSETFROM:-0700
TZOFFSETTO:-0600
TZNAME:MDT
DTSTART:20200308T090000
END:DAYLIGHT
BEGIN:STANDARD
TZOFFSETFROM:-0600
TZOFFSETTO:-0700
TZNAME:MST
DTSTART:20201101T080000
END:STANDARD
END:VTIMEZONE
BEGIN:VEVENT
DTSTART;TZID=America/Denver:20191101T170000
DTEND;TZID=America/Denver:20191101T190000
DTSTAMP:20260421T093239
CREATED:20191029T194723Z
LAST-MODIFIED:20191029T194723Z
UID:10004622-1572627600-1572634800@cccld.org
SUMMARY:Georgetown Movie Night
DESCRIPTION:Enjoy a free\, family-friendly movie on the big screen at your library! Satisfy your cravings with snacks and freshly-popped popcorn available for sale at our mini concessions stand. \nNovember Movie: The Lion King (live action)
URL:https://cccld.org/event/georgetown-movie-night-2/
LOCATION:Old School House\, 809 Taos St\, Georgetown\, CO\, United States
CATEGORIES:Kids,Library Events
GEO:39.707368;-105.695645
X-APPLE-STRUCTURED-LOCATION;VALUE=URI;X-ADDRESS=Old School House 809 Taos St Georgetown CO United States;X-APPLE-RADIUS=500;X-TITLE=809 Taos St:geo:-105.695645,39.707368
END:VEVENT
BEGIN:VEVENT
DTSTART;TZID=America/Denver:20191101T190000
DTEND;TZID=America/Denver:20191101T220000
DTSTAMP:20260421T093239
CREATED:20191003T222847Z
LAST-MODIFIED:20191102T231326Z
UID:10005172-1572634800-1572645600@cccld.org
SUMMARY:HS FB vs Jefferson @ Idaho Springs (7:00)
DESCRIPTION:
URL:https://cccld.org/event/hs-fb-vs-jefferson-idaho-springs-700/
CATEGORIES:Community Events
END:VEVENT
END:VCALENDAR