BEGIN:VCALENDAR
VERSION:2.0
PRODID:-//Clear Creek County Library District - ECPv6.15.16//NONSGML v1.0//EN
CALSCALE:GREGORIAN
METHOD:PUBLISH
X-WR-CALNAME:Clear Creek County Library District
X-ORIGINAL-URL:https://cccld.org
X-WR-CALDESC:Events for Clear Creek County Library District
REFRESH-INTERVAL;VALUE=DURATION:PT1H
X-Robots-Tag:noindex
X-PUBLISHED-TTL:PT1H
BEGIN:VTIMEZONE
TZID:America/Denver
BEGIN:DAYLIGHT
TZOFFSETFROM:-0700
TZOFFSETTO:-0600
TZNAME:MDT
DTSTART:20180311T090000
END:DAYLIGHT
BEGIN:STANDARD
TZOFFSETFROM:-0600
TZOFFSETTO:-0700
TZNAME:MST
DTSTART:20181104T080000
END:STANDARD
BEGIN:DAYLIGHT
TZOFFSETFROM:-0700
TZOFFSETTO:-0600
TZNAME:MDT
DTSTART:20190310T090000
END:DAYLIGHT
BEGIN:STANDARD
TZOFFSETFROM:-0600
TZOFFSETTO:-0700
TZNAME:MST
DTSTART:20191103T080000
END:STANDARD
BEGIN:DAYLIGHT
TZOFFSETFROM:-0700
TZOFFSETTO:-0600
TZNAME:MDT
DTSTART:20200308T090000
END:DAYLIGHT
BEGIN:STANDARD
TZOFFSETFROM:-0600
TZOFFSETTO:-0700
TZNAME:MST
DTSTART:20201101T080000
END:STANDARD
END:VTIMEZONE
BEGIN:VEVENT
DTSTART;TZID=America/Denver:20191102T080000
DTEND;TZID=America/Denver:20191102T160000
DTSTAMP:20260421T093225
CREATED:20191003T222847Z
LAST-MODIFIED:20191102T231326Z
UID:10005170-1572681600-1572710400@cccld.org
SUMMARY:MS BBB Summit Tourn. @ Summit MS - NO BUS (First Game @ 8:00 AM)
DESCRIPTION:
URL:https://cccld.org/event/ms-bbb-summit-tourn-summit-ms-no-bus-tbd-am/
CATEGORIES:Community Events
END:VEVENT
BEGIN:VEVENT
DTSTART;TZID=America/Denver:20191102T100000
DTEND;TZID=America/Denver:20191102T153000
DTSTAMP:20260421T093225
CREATED:20191003T222847Z
LAST-MODIFIED:20191102T231326Z
UID:10005174-1572688800-1572708600@cccld.org
SUMMARY:HS VB MHL Tourn @ CCHS Both Gyms(10:00C/11:15JV/12:30V)
DESCRIPTION:
URL:https://cccld.org/event/hs-vb-mhl-tourn-seeds-15-host-tbd-v-only/
CATEGORIES:Community Events
END:VEVENT
BEGIN:VEVENT
DTSTART;TZID=America/Denver:20191102T120000
DTEND;TZID=America/Denver:20191102T160000
DTSTAMP:20260421T093225
CREATED:20191029T195606Z
LAST-MODIFIED:20191029T195606Z
UID:10005202-1572696000-1572710400@cccld.org
SUMMARY:Pumpkin Smash
DESCRIPTION:Attend the 11th annual Pumpkin Smash in Idaho Springs! Full details on the event here. Visit the Clear Creek County Library District table for s’mores!
URL:https://cccld.org/event/pumpkin-smash/
LOCATION:Idaho Springs Baseball Fields\, 101 East Idaho Springs Road\, Idaho Springs\, CO\, 80452\, United States
CATEGORIES:Adults,Community Events,Kids,Library Events
ORGANIZER;CN="":MAILTO:lucy@cccld.org
GEO:39.741215;-105.4945049
X-APPLE-STRUCTURED-LOCATION;VALUE=URI;X-ADDRESS=Idaho Springs Baseball Fields 101 East Idaho Springs Road Idaho Springs CO 80452 United States;X-APPLE-RADIUS=500;X-TITLE=101 East Idaho Springs Road:geo:-105.4945049,39.741215
END:VEVENT
BEGIN:VEVENT
DTSTART;TZID=America/Denver:20191102T130000
DTEND;TZID=America/Denver:20191102T160000
DTSTAMP:20260421T093225
CREATED:20191031T231420Z
LAST-MODIFIED:20191102T231326Z
UID:10005239-1572699600-1572710400@cccld.org
SUMMARY:CHEER COMPETITION @ Rock Canyon (1:20)
DESCRIPTION:
URL:https://cccld.org/event/cheer-competition-rock-canyon-120/
CATEGORIES:Community Events
END:VEVENT
END:VCALENDAR