BEGIN:VCALENDAR
VERSION:2.0
PRODID:-//Clear Creek County Library District - ECPv6.15.16//NONSGML v1.0//EN
CALSCALE:GREGORIAN
METHOD:PUBLISH
X-WR-CALNAME:Clear Creek County Library District
X-ORIGINAL-URL:https://cccld.org
X-WR-CALDESC:Events for Clear Creek County Library District
REFRESH-INTERVAL;VALUE=DURATION:PT1H
X-Robots-Tag:noindex
X-PUBLISHED-TTL:PT1H
BEGIN:VTIMEZONE
TZID:America/Denver
BEGIN:DAYLIGHT
TZOFFSETFROM:-0700
TZOFFSETTO:-0600
TZNAME:MDT
DTSTART:20180311T090000
END:DAYLIGHT
BEGIN:STANDARD
TZOFFSETFROM:-0600
TZOFFSETTO:-0700
TZNAME:MST
DTSTART:20181104T080000
END:STANDARD
BEGIN:DAYLIGHT
TZOFFSETFROM:-0700
TZOFFSETTO:-0600
TZNAME:MDT
DTSTART:20190310T090000
END:DAYLIGHT
BEGIN:STANDARD
TZOFFSETFROM:-0600
TZOFFSETTO:-0700
TZNAME:MST
DTSTART:20191103T080000
END:STANDARD
BEGIN:DAYLIGHT
TZOFFSETFROM:-0700
TZOFFSETTO:-0600
TZNAME:MDT
DTSTART:20200308T090000
END:DAYLIGHT
BEGIN:STANDARD
TZOFFSETFROM:-0600
TZOFFSETTO:-0700
TZNAME:MST
DTSTART:20201101T080000
END:STANDARD
END:VTIMEZONE
BEGIN:VEVENT
DTSTART;TZID=America/Denver:20191104T163000
DTEND;TZID=America/Denver:20191104T190000
DTSTAMP:20260421T093141
CREATED:20191104T232828Z
LAST-MODIFIED:20191105T232818Z
UID:10004637-1572885000-1572894000@cccld.org
SUMMARY:VB Scrimmage vs Platte Canyon @ CCHS (4:30)
DESCRIPTION:
URL:https://cccld.org/event/vb-scrimmage-vs-platte-canyon-cchs-430-2/
CATEGORIES:Community Events
END:VEVENT
BEGIN:VEVENT
DTSTART;TZID=America/Denver:20191104T174500
DTEND;TZID=America/Denver:20191104T193000
DTSTAMP:20260421T093141
CREATED:20191005T222823Z
LAST-MODIFIED:20191104T232828Z
UID:10005180-1572889500-1572895800@cccld.org
SUMMARY:Bball Shoot Arounds
DESCRIPTION:
URL:https://cccld.org/event/bball-shoot-arounds-8/
CATEGORIES:Community Events
END:VEVENT
BEGIN:VEVENT
DTSTART;TZID=America/Denver:20191104T180000
DTEND;TZID=America/Denver:20191104T193000
DTSTAMP:20260421T093141
CREATED:20191015T224401Z
LAST-MODIFIED:20191105T232818Z
UID:10004610-1572890400-1572895800@cccld.org
SUMMARY:MS Vball Banquet
DESCRIPTION:
URL:https://cccld.org/event/ms-vball-banquet/
LOCATION:Commons
CATEGORIES:Community Events
END:VEVENT
END:VCALENDAR