BEGIN:VCALENDAR
VERSION:2.0
PRODID:-//Clear Creek County Library District - ECPv6.15.16//NONSGML v1.0//EN
CALSCALE:GREGORIAN
METHOD:PUBLISH
X-WR-CALNAME:Clear Creek County Library District
X-ORIGINAL-URL:https://cccld.org
X-WR-CALDESC:Events for Clear Creek County Library District
REFRESH-INTERVAL;VALUE=DURATION:PT1H
X-Robots-Tag:noindex
X-PUBLISHED-TTL:PT1H
BEGIN:VTIMEZONE
TZID:America/Denver
BEGIN:DAYLIGHT
TZOFFSETFROM:-0700
TZOFFSETTO:-0600
TZNAME:MDT
DTSTART:20180311T090000
END:DAYLIGHT
BEGIN:STANDARD
TZOFFSETFROM:-0600
TZOFFSETTO:-0700
TZNAME:MST
DTSTART:20181104T080000
END:STANDARD
BEGIN:DAYLIGHT
TZOFFSETFROM:-0700
TZOFFSETTO:-0600
TZNAME:MDT
DTSTART:20190310T090000
END:DAYLIGHT
BEGIN:STANDARD
TZOFFSETFROM:-0600
TZOFFSETTO:-0700
TZNAME:MST
DTSTART:20191103T080000
END:STANDARD
BEGIN:DAYLIGHT
TZOFFSETFROM:-0700
TZOFFSETTO:-0600
TZNAME:MDT
DTSTART:20200308T090000
END:DAYLIGHT
BEGIN:STANDARD
TZOFFSETFROM:-0600
TZOFFSETTO:-0700
TZNAME:MST
DTSTART:20201101T080000
END:STANDARD
END:VTIMEZONE
BEGIN:VEVENT
DTSTART;VALUE=DATE:20191120
DTEND;VALUE=DATE:20191121
DTSTAMP:20260421T093225
CREATED:20191021T185943Z
LAST-MODIFIED:20191120T211333Z
UID:10004618-1574208000-1574294399@cccld.org
SUMMARY:Holiday Centerpiece
DESCRIPTION:
URL:https://cccld.org/event/holiday-centerpiece/
CATEGORIES:Community Events
END:VEVENT
BEGIN:VEVENT
DTSTART;TZID=America/Denver:20191120T111500
DTEND;TZID=America/Denver:20191120T111500
DTSTAMP:20260421T093225
CREATED:20190816T181205Z
LAST-MODIFIED:20190816T181205Z
UID:10004542-1574248500-1574248500@cccld.org
SUMMARY:JTML Storytime
DESCRIPTION:
URL:https://cccld.org/event/jtml-storytime-7/2019-11-20/
LOCATION:John Tomay Memorial Library\, 605 6th Street\, Georgetown\, CO\, 80444\, United States
CATEGORIES:Kids,Library Events
GEO:39.7061997;-105.6974142
X-APPLE-STRUCTURED-LOCATION;VALUE=URI;X-ADDRESS=John Tomay Memorial Library 605 6th Street Georgetown CO 80444 United States;X-APPLE-RADIUS=500;X-TITLE=605 6th Street:geo:-105.6974142,39.7061997
END:VEVENT
BEGIN:VEVENT
DTSTART;TZID=America/Denver:20191120T130000
DTEND;TZID=America/Denver:20191120T150000
DTSTAMP:20260421T093225
CREATED:20191029T200530Z
LAST-MODIFIED:20191029T200530Z
UID:10005208-1574254800-1574262000@cccld.org
SUMMARY:Georgetown Computer Basics
DESCRIPTION:Drop in for assistance with learning basic computer skills.
URL:https://cccld.org/event/georgetown-computer-basics/2019-11-20/
LOCATION:John Tomay Memorial Library\, 605 6th Street\, Georgetown\, CO\, 80444\, United States
CATEGORIES:Adults,Library Events
GEO:39.7061997;-105.6974142
X-APPLE-STRUCTURED-LOCATION;VALUE=URI;X-ADDRESS=John Tomay Memorial Library 605 6th Street Georgetown CO 80444 United States;X-APPLE-RADIUS=500;X-TITLE=605 6th Street:geo:-105.6974142,39.7061997
END:VEVENT
BEGIN:VEVENT
DTSTART;TZID=America/Denver:20191120T160000
DTEND;TZID=America/Denver:20191120T170000
DTSTAMP:20260421T093225
CREATED:20191029T211241Z
LAST-MODIFIED:20191029T211241Z
UID:10005228-1574265600-1574269200@cccld.org
SUMMARY:Friends of the Georgetown Library Meeting
DESCRIPTION:
URL:https://cccld.org/event/friends-of-the-georgetown-library-meeting-3/
LOCATION:John Tomay Memorial Library\, 605 6th Street\, Georgetown\, CO\, 80444\, United States
CATEGORIES:Library Events
GEO:39.7061997;-105.6974142
X-APPLE-STRUCTURED-LOCATION;VALUE=URI;X-ADDRESS=John Tomay Memorial Library 605 6th Street Georgetown CO 80444 United States;X-APPLE-RADIUS=500;X-TITLE=605 6th Street:geo:-105.6974142,39.7061997
END:VEVENT
BEGIN:VEVENT
DTSTART;TZID=America/Denver:20191120T180000
DTEND;TZID=America/Denver:20191120T193000
DTSTAMP:20260421T093225
CREATED:20191120T141713Z
LAST-MODIFIED:20191121T143130Z
UID:10005265-1574272800-1574278200@cccld.org
SUMMARY:HS Boys Bball Parent Meeting
DESCRIPTION:
URL:https://cccld.org/event/hs-boys-bball-parent-meeting/
LOCATION:Athletic Commons
CATEGORIES:Community Events
END:VEVENT
END:VCALENDAR