BEGIN:VCALENDAR
VERSION:2.0
PRODID:-//Clear Creek County Library District - ECPv6.15.16//NONSGML v1.0//EN
CALSCALE:GREGORIAN
METHOD:PUBLISH
X-ORIGINAL-URL:https://cccld.org
X-WR-CALDESC:Events for Clear Creek County Library District
REFRESH-INTERVAL;VALUE=DURATION:PT1H
X-Robots-Tag:noindex
X-PUBLISHED-TTL:PT1H
BEGIN:VTIMEZONE
TZID:America/Denver
BEGIN:DAYLIGHT
TZOFFSETFROM:-0700
TZOFFSETTO:-0600
TZNAME:MDT
DTSTART:20180311T090000
END:DAYLIGHT
BEGIN:STANDARD
TZOFFSETFROM:-0600
TZOFFSETTO:-0700
TZNAME:MST
DTSTART:20181104T080000
END:STANDARD
BEGIN:DAYLIGHT
TZOFFSETFROM:-0700
TZOFFSETTO:-0600
TZNAME:MDT
DTSTART:20190310T090000
END:DAYLIGHT
BEGIN:STANDARD
TZOFFSETFROM:-0600
TZOFFSETTO:-0700
TZNAME:MST
DTSTART:20191103T080000
END:STANDARD
BEGIN:DAYLIGHT
TZOFFSETFROM:-0700
TZOFFSETTO:-0600
TZNAME:MDT
DTSTART:20200308T090000
END:DAYLIGHT
BEGIN:STANDARD
TZOFFSETFROM:-0600
TZOFFSETTO:-0700
TZNAME:MST
DTSTART:20201101T080000
END:STANDARD
END:VTIMEZONE
BEGIN:VEVENT
DTSTART;TZID=America/Denver:20191211T111500
DTEND;TZID=America/Denver:20191211T111500
DTSTAMP:20260421T082317
CREATED:20190816T181205Z
LAST-MODIFIED:20190816T181205Z
UID:10004545-1576062900-1576062900@cccld.org
SUMMARY:JTML Storytime
DESCRIPTION:
URL:https://cccld.org/event/jtml-storytime-7/2019-12-11/
LOCATION:John Tomay Memorial Library\, 605 6th Street\, Georgetown\, CO\, 80444\, United States
CATEGORIES:Kids,Library Events
GEO:39.7061997;-105.6974142
X-APPLE-STRUCTURED-LOCATION;VALUE=URI;X-ADDRESS=John Tomay Memorial Library 605 6th Street Georgetown CO 80444 United States;X-APPLE-RADIUS=500;X-TITLE=605 6th Street:geo:-105.6974142,39.7061997
END:VEVENT
BEGIN:VEVENT
DTSTART;TZID=America/Denver:20191211T111500
DTEND;TZID=America/Denver:20191211T153000
DTSTAMP:20260421T082317
CREATED:20191206T162834Z
LAST-MODIFIED:20191211T162841Z
UID:10005290-1576062900-1576078200@cccld.org
SUMMARY:SKI Practice 11:30 BUS
DESCRIPTION:
URL:https://cccld.org/event/ski-practice-1130-bus/
CATEGORIES:Community Events
END:VEVENT
BEGIN:VEVENT
DTSTART;TZID=America/Denver:20191211T150000
DTEND;TZID=America/Denver:20191211T180000
DTSTAMP:20260421T082317
CREATED:20191112T234615Z
LAST-MODIFIED:20191212T162831Z
UID:10005245-1576076400-1576087200@cccld.org
SUMMARY:HS BBB vs Platte Canyon @ Platte Canyon (57243 US HWY 285\,Bailey) - 3:15 US (7:00 V)
DESCRIPTION:
URL:https://cccld.org/event/hs-bbb-vs-platte-canyon-platte-canyon-57243-us-hwy-285bailey-315-no-bus-530-jv-700-v/
CATEGORIES:Community Events
END:VEVENT
BEGIN:VEVENT
DTSTART;TZID=America/Denver:20191211T160000
DTEND;TZID=America/Denver:20191211T183000
DTSTAMP:20260421T082317
CREATED:20191111T234443Z
LAST-MODIFIED:20191212T162831Z
UID:10004651-1576080000-1576089000@cccld.org
SUMMARY:MSBBB vs Gilpin @ CCMS  (4:15A ONLY)
DESCRIPTION:
URL:https://cccld.org/event/msbbb-quarters-tbd-a-b-only-tbd/
CATEGORIES:Community Events
END:VEVENT
BEGIN:VEVENT
DTSTART;TZID=America/Denver:20191211T173000
DTEND;TZID=America/Denver:20191211T213000
DTSTAMP:20260421T082317
CREATED:20191112T234615Z
LAST-MODIFIED:20191212T162831Z
UID:10005246-1576085400-1576099800@cccld.org
SUMMARY:HS GBB vs Platte Canyon @ Platte Canyon HS (57243 US HWY 285\, Bailey) - 3:15 BUS (5:30 V)
DESCRIPTION:
URL:https://cccld.org/event/hs-gbb-vs-platte-canyon-platte-canyon-hs-57243-us-hwy-285-bailey-315-bus-700-jv-530-v/
CATEGORIES:Community Events
END:VEVENT
BEGIN:VEVENT
DTSTART;TZID=America/Denver:20191211T180000
DTEND;TZID=America/Denver:20191211T180000
DTSTAMP:20260421T082317
CREATED:20190328T205137Z
LAST-MODIFIED:20191115T205151Z
UID:10004630-1576087200-1576087200@cccld.org
SUMMARY:District Board Meeting
DESCRIPTION:
URL:https://cccld.org/event/district-board-meeting-7/
LOCATION:Old School House\, 809 Taos St\, Georgetown\, CO\, United States
CATEGORIES:Library Events
GEO:39.707368;-105.695645
X-APPLE-STRUCTURED-LOCATION;VALUE=URI;X-ADDRESS=Old School House 809 Taos St Georgetown CO United States;X-APPLE-RADIUS=500;X-TITLE=809 Taos St:geo:-105.695645,39.707368
END:VEVENT
END:VCALENDAR