BEGIN:VCALENDAR
VERSION:2.0
PRODID:-//Clear Creek County Library District - ECPv6.15.16//NONSGML v1.0//EN
CALSCALE:GREGORIAN
METHOD:PUBLISH
X-WR-CALNAME:Clear Creek County Library District
X-ORIGINAL-URL:https://cccld.org
X-WR-CALDESC:Events for Clear Creek County Library District
REFRESH-INTERVAL;VALUE=DURATION:PT1H
X-Robots-Tag:noindex
X-PUBLISHED-TTL:PT1H
BEGIN:VTIMEZONE
TZID:America/Denver
BEGIN:DAYLIGHT
TZOFFSETFROM:-0700
TZOFFSETTO:-0600
TZNAME:MDT
DTSTART:20180311T090000
END:DAYLIGHT
BEGIN:STANDARD
TZOFFSETFROM:-0600
TZOFFSETTO:-0700
TZNAME:MST
DTSTART:20181104T080000
END:STANDARD
BEGIN:DAYLIGHT
TZOFFSETFROM:-0700
TZOFFSETTO:-0600
TZNAME:MDT
DTSTART:20190310T090000
END:DAYLIGHT
BEGIN:STANDARD
TZOFFSETFROM:-0600
TZOFFSETTO:-0700
TZNAME:MST
DTSTART:20191103T080000
END:STANDARD
BEGIN:DAYLIGHT
TZOFFSETFROM:-0700
TZOFFSETTO:-0600
TZNAME:MDT
DTSTART:20200308T090000
END:DAYLIGHT
BEGIN:STANDARD
TZOFFSETFROM:-0600
TZOFFSETTO:-0700
TZNAME:MST
DTSTART:20201101T080000
END:STANDARD
END:VTIMEZONE
BEGIN:VEVENT
DTSTART;TZID=America/Denver:20191213T153000
DTEND;TZID=America/Denver:20191213T153000
DTSTAMP:20260421T082151
CREATED:20191122T231909Z
LAST-MODIFIED:20191203T182249Z
UID:10005272-1576251000-1576251000@cccld.org
SUMMARY:Idaho Springs Movie Night
DESCRIPTION:Enjoy a free\, family-friendly movie on the big screen at your library! Satisfy your cravings with snacks and freshly-popped popcorn available for sale at our mini concessions stand. \nPlease take note! This month\, the movie will be shown at 3:30 pm. \nDecember Movie: Angry Birds 2
URL:https://cccld.org/event/idaho-springs-movie-night-3/
LOCATION:Idaho Springs Public Library\, 219 14th Avenue\, Idaho Springs\, CO\, 80452\, United States
CATEGORIES:Kids,Library Events
GEO:39.742052;-105.5183552
X-APPLE-STRUCTURED-LOCATION;VALUE=URI;X-ADDRESS=Idaho Springs Public Library 219 14th Avenue Idaho Springs CO 80452 United States;X-APPLE-RADIUS=500;X-TITLE=219 14th Avenue:geo:-105.5183552,39.742052
END:VEVENT
BEGIN:VEVENT
DTSTART;TZID=America/Denver:20191213T160000
DTEND;TZID=America/Denver:20191213T203000
DTSTAMP:20260421T082151
CREATED:20191113T234637Z
LAST-MODIFIED:20191214T163009Z
UID:10005248-1576252800-1576269000@cccld.org
SUMMARY:HS BBB vs Bennett @ CCHS (5:30 JV/7:00 V)
DESCRIPTION:
URL:https://cccld.org/event/hs-bbb-vs-bennett-cchs-530-c-400-jv-700-v/
CATEGORIES:Community Events
END:VEVENT
BEGIN:VEVENT
DTSTART;TZID=America/Denver:20191213T173000
DTEND;TZID=America/Denver:20191213T213000
DTSTAMP:20260421T082151
CREATED:20191114T234515Z
LAST-MODIFIED:20191214T163009Z
UID:10005252-1576258200-1576272600@cccld.org
SUMMARY:HS GBB vs Bennett @ CCHS (4:00 JV/5:30 V)
DESCRIPTION:
URL:https://cccld.org/event/hs-gbb-vs-bennett-cchs-700-jv-530-v/
CATEGORIES:Community Events
END:VEVENT
END:VCALENDAR