BEGIN:VCALENDAR
VERSION:2.0
PRODID:-//Clear Creek County Library District - ECPv6.15.16//NONSGML v1.0//EN
CALSCALE:GREGORIAN
METHOD:PUBLISH
X-ORIGINAL-URL:https://cccld.org
X-WR-CALDESC:Events for Clear Creek County Library District
REFRESH-INTERVAL;VALUE=DURATION:PT1H
X-Robots-Tag:noindex
X-PUBLISHED-TTL:PT1H
BEGIN:VTIMEZONE
TZID:America/Denver
BEGIN:DAYLIGHT
TZOFFSETFROM:-0700
TZOFFSETTO:-0600
TZNAME:MDT
DTSTART:20190310T090000
END:DAYLIGHT
BEGIN:STANDARD
TZOFFSETFROM:-0600
TZOFFSETTO:-0700
TZNAME:MST
DTSTART:20191103T080000
END:STANDARD
BEGIN:DAYLIGHT
TZOFFSETFROM:-0700
TZOFFSETTO:-0600
TZNAME:MDT
DTSTART:20200308T090000
END:DAYLIGHT
BEGIN:STANDARD
TZOFFSETFROM:-0600
TZOFFSETTO:-0700
TZNAME:MST
DTSTART:20201101T080000
END:STANDARD
BEGIN:DAYLIGHT
TZOFFSETFROM:-0700
TZOFFSETTO:-0600
TZNAME:MDT
DTSTART:20210314T090000
END:DAYLIGHT
BEGIN:STANDARD
TZOFFSETFROM:-0600
TZOFFSETTO:-0700
TZNAME:MST
DTSTART:20211107T080000
END:STANDARD
END:VTIMEZONE
BEGIN:VEVENT
DTSTART;TZID=America/Denver:20200108T111500
DTEND;TZID=America/Denver:20200108T153000
DTSTAMP:20260421T071023
CREATED:20191209T162942Z
LAST-MODIFIED:20200108T172908Z
UID:10005292-1578482100-1578497400@cccld.org
SUMMARY:SKI Practice 11:30 BUS
DESCRIPTION:
URL:https://cccld.org/event/ski-practice-1130-bus-2/
CATEGORIES:Community Events
END:VEVENT
BEGIN:VEVENT
DTSTART;TZID=America/Denver:20200108T160000
DTEND;TZID=America/Denver:20200108T210000
DTSTAMP:20260421T071023
CREATED:20191209T162942Z
LAST-MODIFIED:20200109T172835Z
UID:10005293-1578499200-1578517200@cccld.org
SUMMARY:HS BBB vs Middle Park @ CCHS (4:00 JV/5:30 V)
DESCRIPTION:
URL:https://cccld.org/event/hs-bbb-vs-middle-park-cchs-700-c-400-jv-530-v/
CATEGORIES:Community Events
END:VEVENT
BEGIN:VEVENT
DTSTART;TZID=America/Denver:20200108T173000
DTEND;TZID=America/Denver:20200108T210000
DTSTAMP:20260421T071023
CREATED:20191210T162847Z
LAST-MODIFIED:20200109T172835Z
UID:10005294-1578504600-1578517200@cccld.org
SUMMARY:HS GBB vs Middle Park @ CCHS (7:00 V)
DESCRIPTION:
URL:https://cccld.org/event/hs-gbb-vs-middle-park-cchs-530-jv-700-v/
CATEGORIES:Community Events
END:VEVENT
END:VCALENDAR