BEGIN:VCALENDAR
VERSION:2.0
PRODID:-//Clear Creek County Library District - ECPv6.15.16//NONSGML v1.0//EN
CALSCALE:GREGORIAN
METHOD:PUBLISH
X-ORIGINAL-URL:https://cccld.org
X-WR-CALDESC:Events for Clear Creek County Library District
REFRESH-INTERVAL;VALUE=DURATION:PT1H
X-Robots-Tag:noindex
X-PUBLISHED-TTL:PT1H
BEGIN:VTIMEZONE
TZID:America/Denver
BEGIN:DAYLIGHT
TZOFFSETFROM:-0700
TZOFFSETTO:-0600
TZNAME:MDT
DTSTART:20190310T090000
END:DAYLIGHT
BEGIN:STANDARD
TZOFFSETFROM:-0600
TZOFFSETTO:-0700
TZNAME:MST
DTSTART:20191103T080000
END:STANDARD
BEGIN:DAYLIGHT
TZOFFSETFROM:-0700
TZOFFSETTO:-0600
TZNAME:MDT
DTSTART:20200308T090000
END:DAYLIGHT
BEGIN:STANDARD
TZOFFSETFROM:-0600
TZOFFSETTO:-0700
TZNAME:MST
DTSTART:20201101T080000
END:STANDARD
BEGIN:DAYLIGHT
TZOFFSETFROM:-0700
TZOFFSETTO:-0600
TZNAME:MDT
DTSTART:20210314T090000
END:DAYLIGHT
BEGIN:STANDARD
TZOFFSETFROM:-0600
TZOFFSETTO:-0700
TZNAME:MST
DTSTART:20211107T080000
END:STANDARD
END:VTIMEZONE
BEGIN:VEVENT
DTSTART;TZID=America/Denver:20200111T070000
DTEND;TZID=America/Denver:20200111T103000
DTSTAMP:20260421T071021
CREATED:20191212T162832Z
LAST-MODIFIED:20200111T172829Z
UID:10004663-1578726000-1578738600@cccld.org
SUMMARY:HS WR @ Evergreen - No BUS (7AM W/I\, 9:00)
DESCRIPTION:
URL:https://cccld.org/event/hs-wr-evergreen-no-bus-7am-w-i-900/
CATEGORIES:Community Events
END:VEVENT
BEGIN:VEVENT
DTSTART;TZID=America/Denver:20200111T080000
DTEND;TZID=America/Denver:20200111T170000
DTSTAMP:20260421T071021
CREATED:20191212T162832Z
LAST-MODIFIED:20200112T233813Z
UID:10004664-1578729600-1578762000@cccld.org
SUMMARY:MS GBB SUMMIT TOURN. @ SUMMIT MS- (158 School Rd\, Frisco)   NO BUS (TBD-AM)
DESCRIPTION:
URL:https://cccld.org/event/ms-gbb-summit-tourn-summit-ms-no-bus-tbd-am/
CATEGORIES:Community Events
END:VEVENT
BEGIN:VEVENT
DTSTART;TZID=America/Denver:20200111T110000
DTEND;TZID=America/Denver:20200111T153000
DTSTAMP:20260421T071021
CREATED:20191214T163011Z
LAST-MODIFIED:20200111T172829Z
UID:10004666-1578740400-1578756600@cccld.org
SUMMARY:HS/MS SKI @ Spring Gulch - NED (Nordic/CL/M 11:00AM)
DESCRIPTION:
URL:https://cccld.org/event/hs-ms-ski-spring-gulch-ned-nordic-cl-m-1100am/
CATEGORIES:Community Events
END:VEVENT
END:VCALENDAR