BEGIN:VCALENDAR
VERSION:2.0
PRODID:-//Clear Creek County Library District - ECPv6.15.16//NONSGML v1.0//EN
CALSCALE:GREGORIAN
METHOD:PUBLISH
X-WR-CALNAME:Clear Creek County Library District
X-ORIGINAL-URL:https://cccld.org
X-WR-CALDESC:Events for Clear Creek County Library District
REFRESH-INTERVAL;VALUE=DURATION:PT1H
X-Robots-Tag:noindex
X-PUBLISHED-TTL:PT1H
BEGIN:VTIMEZONE
TZID:America/Denver
BEGIN:DAYLIGHT
TZOFFSETFROM:-0700
TZOFFSETTO:-0600
TZNAME:MDT
DTSTART:20190310T090000
END:DAYLIGHT
BEGIN:STANDARD
TZOFFSETFROM:-0600
TZOFFSETTO:-0700
TZNAME:MST
DTSTART:20191103T080000
END:STANDARD
BEGIN:DAYLIGHT
TZOFFSETFROM:-0700
TZOFFSETTO:-0600
TZNAME:MDT
DTSTART:20200308T090000
END:DAYLIGHT
BEGIN:STANDARD
TZOFFSETFROM:-0600
TZOFFSETTO:-0700
TZNAME:MST
DTSTART:20201101T080000
END:STANDARD
BEGIN:DAYLIGHT
TZOFFSETFROM:-0700
TZOFFSETTO:-0600
TZNAME:MDT
DTSTART:20210314T090000
END:DAYLIGHT
BEGIN:STANDARD
TZOFFSETFROM:-0600
TZOFFSETTO:-0700
TZNAME:MST
DTSTART:20211107T080000
END:STANDARD
END:VTIMEZONE
BEGIN:VEVENT
DTSTART;TZID=America/Denver:20200115T110000
DTEND;TZID=America/Denver:20200115T153000
DTSTAMP:20260421T070744
CREATED:20191216T163106Z
LAST-MODIFIED:20200114T234526Z
UID:10005297-1579086000-1579102200@cccld.org
SUMMARY:HS/MS SKI Practice - Loveland 11:30 BUS (12:30)
DESCRIPTION:
URL:https://cccld.org/event/ms-ski-practice-loveland-1130-bus-1230/
CATEGORIES:Community Events
END:VEVENT
BEGIN:VEVENT
DTSTART;TZID=America/Denver:20200115T150000
DTEND;TZID=America/Denver:20200115T190000
DTSTAMP:20260421T070744
CREATED:20191216T163107Z
LAST-MODIFIED:20200116T001716Z
UID:10005303-1579100400-1579114800@cccld.org
SUMMARY:MS GBB vs Gilpin @ Gilpin - 3:00 BUS (4:15B\, 5:15A)
DESCRIPTION:
URL:https://cccld.org/event/ms-gbb-vs-gilpin-gilpin-300-bus-415b-515a-2/
CATEGORIES:Community Events
END:VEVENT
BEGIN:VEVENT
DTSTART;TZID=America/Denver:20200115T173000
DTEND;TZID=America/Denver:20200115T213000
DTSTAMP:20260421T070744
CREATED:20191217T162931Z
LAST-MODIFIED:20200116T001716Z
UID:10005307-1579109400-1579123800@cccld.org
SUMMARY:HS BBB vs The Academy @ CCHS (4:00 JV/7:00 V)
DESCRIPTION:
URL:https://cccld.org/event/hs-bbb-vs-the-academy-cchs-530-c-400-jv-700-v/
CATEGORIES:Community Events
END:VEVENT
BEGIN:VEVENT
DTSTART;TZID=America/Denver:20200115T173000
DTEND;TZID=America/Denver:20200115T220000
DTSTAMP:20260421T070744
CREATED:20191217T162931Z
LAST-MODIFIED:20200116T001716Z
UID:10005309-1579109400-1579125600@cccld.org
SUMMARY:HS GBB vs The Academy @ CCHS (5:30 V)
DESCRIPTION:
URL:https://cccld.org/event/hs-gbb-vs-the-academy-cchs-700-jv-530-v/
CATEGORIES:Community Events
END:VEVENT
END:VCALENDAR