BEGIN:VCALENDAR
VERSION:2.0
PRODID:-//Clear Creek County Library District - ECPv6.15.16//NONSGML v1.0//EN
CALSCALE:GREGORIAN
METHOD:PUBLISH
X-WR-CALNAME:Clear Creek County Library District
X-ORIGINAL-URL:https://cccld.org
X-WR-CALDESC:Events for Clear Creek County Library District
REFRESH-INTERVAL;VALUE=DURATION:PT1H
X-Robots-Tag:noindex
X-PUBLISHED-TTL:PT1H
BEGIN:VTIMEZONE
TZID:America/Denver
BEGIN:DAYLIGHT
TZOFFSETFROM:-0700
TZOFFSETTO:-0600
TZNAME:MDT
DTSTART:20190310T090000
END:DAYLIGHT
BEGIN:STANDARD
TZOFFSETFROM:-0600
TZOFFSETTO:-0700
TZNAME:MST
DTSTART:20191103T080000
END:STANDARD
BEGIN:DAYLIGHT
TZOFFSETFROM:-0700
TZOFFSETTO:-0600
TZNAME:MDT
DTSTART:20200308T090000
END:DAYLIGHT
BEGIN:STANDARD
TZOFFSETFROM:-0600
TZOFFSETTO:-0700
TZNAME:MST
DTSTART:20201101T080000
END:STANDARD
BEGIN:DAYLIGHT
TZOFFSETFROM:-0700
TZOFFSETTO:-0600
TZNAME:MDT
DTSTART:20210314T090000
END:DAYLIGHT
BEGIN:STANDARD
TZOFFSETFROM:-0600
TZOFFSETTO:-0700
TZNAME:MST
DTSTART:20211107T080000
END:STANDARD
END:VTIMEZONE
BEGIN:VEVENT
DTSTART;TZID=America/Denver:20200122T113000
DTEND;TZID=America/Denver:20200122T153000
DTSTAMP:20260421T070745
CREATED:20191223T171328Z
LAST-MODIFIED:20200122T145013Z
UID:10005331-1579692600-1579707000@cccld.org
SUMMARY:HS/MS SKI Practice @ Loveland 11:30AM BUS (12:30)
DESCRIPTION:
URL:https://cccld.org/event/ms-ski-practice-loveland-1130am-bus-1230/
CATEGORIES:Community Events
END:VEVENT
BEGIN:VEVENT
DTSTART;TZID=America/Denver:20200122T153000
DTEND;TZID=America/Denver:20200122T190000
DTSTAMP:20260421T070745
CREATED:20191223T171328Z
LAST-MODIFIED:20200123T145949Z
UID:10005333-1579707000-1579719600@cccld.org
SUMMARY:MS WR vs Strasburg @ Strasburg - 1:45 BUS  (4:00)
DESCRIPTION:
URL:https://cccld.org/event/ms-wr-vs-strasburg-strasburg-bus-tbd-400/
CATEGORIES:Community Events
END:VEVENT
BEGIN:VEVENT
DTSTART;TZID=America/Denver:20200122T160000
DTEND;TZID=America/Denver:20200122T183000
DTSTAMP:20260421T070745
CREATED:20191223T171328Z
LAST-MODIFIED:20200123T145949Z
UID:10004683-1579708800-1579717800@cccld.org
SUMMARY:MS GBB vs Ft Logan Northgate @ CCMS - (4:15B/5:15A)
DESCRIPTION:
URL:https://cccld.org/event/ms-gbb-vs-ft-logan-northgate-ccms-415b-515a/
CATEGORIES:Community Events
END:VEVENT
BEGIN:VEVENT
DTSTART;TZID=America/Denver:20200122T170000
DTEND;TZID=America/Denver:20200122T203000
DTSTAMP:20260421T070745
CREATED:20191224T171425Z
LAST-MODIFIED:20200123T145949Z
UID:10004695-1579712400-1579725000@cccld.org
SUMMARY:HS WR VS GILPIN\,FARVIEW\,EVER. @ GILPIN - 4:00BUS ( 5PM/WI\, 6:00)
DESCRIPTION:
URL:https://cccld.org/event/hs-wr-vs-gilpinfarviewever-gilpin-400bus-5pm-wi-600/
CATEGORIES:Community Events
END:VEVENT
END:VCALENDAR