BEGIN:VCALENDAR
VERSION:2.0
PRODID:-//Clear Creek County Library District - ECPv6.15.16//NONSGML v1.0//EN
CALSCALE:GREGORIAN
METHOD:PUBLISH
X-WR-CALNAME:Clear Creek County Library District
X-ORIGINAL-URL:https://cccld.org
X-WR-CALDESC:Events for Clear Creek County Library District
REFRESH-INTERVAL;VALUE=DURATION:PT1H
X-Robots-Tag:noindex
X-PUBLISHED-TTL:PT1H
BEGIN:VTIMEZONE
TZID:America/Denver
BEGIN:DAYLIGHT
TZOFFSETFROM:-0700
TZOFFSETTO:-0600
TZNAME:MDT
DTSTART:20190310T090000
END:DAYLIGHT
BEGIN:STANDARD
TZOFFSETFROM:-0600
TZOFFSETTO:-0700
TZNAME:MST
DTSTART:20191103T080000
END:STANDARD
BEGIN:DAYLIGHT
TZOFFSETFROM:-0700
TZOFFSETTO:-0600
TZNAME:MDT
DTSTART:20200308T090000
END:DAYLIGHT
BEGIN:STANDARD
TZOFFSETFROM:-0600
TZOFFSETTO:-0700
TZNAME:MST
DTSTART:20201101T080000
END:STANDARD
BEGIN:DAYLIGHT
TZOFFSETFROM:-0700
TZOFFSETTO:-0600
TZNAME:MDT
DTSTART:20210314T090000
END:DAYLIGHT
BEGIN:STANDARD
TZOFFSETFROM:-0600
TZOFFSETTO:-0700
TZNAME:MST
DTSTART:20211107T080000
END:STANDARD
END:VTIMEZONE
BEGIN:VEVENT
DTSTART;TZID=America/Denver:20200125T053000
DTEND;TZID=America/Denver:20200125T110000
DTSTAMP:20260421T070745
CREATED:20191226T171348Z
LAST-MODIFIED:20200106T172902Z
UID:10005341-1579930200-1579950000@cccld.org
SUMMARY:HS WR @ Kiowa - 5:30AM BUS (7:00AM/WI\, 9:00)
DESCRIPTION:
URL:https://cccld.org/event/hs-wr-kiowa-530am-bus-700am-wi-900/
CATEGORIES:Community Events
END:VEVENT
BEGIN:VEVENT
DTSTART;TZID=America/Denver:20200125T070000
DTEND;TZID=America/Denver:20200125T160000
DTSTAMP:20260421T070745
CREATED:20200124T151604Z
LAST-MODIFIED:20200125T152841Z
UID:10004735-1579935600-1579968000@cccld.org
SUMMARY:HS WR @ Custer County HS-  (WI 7:00/9:00)
DESCRIPTION:
URL:https://cccld.org/event/hs-wr-custer-county-hs-wi-700-900/
CATEGORIES:Community Events
END:VEVENT
BEGIN:VEVENT
DTSTART;TZID=America/Denver:20200125T110000
DTEND;TZID=America/Denver:20200125T163000
DTSTAMP:20260421T070745
CREATED:20191226T171348Z
LAST-MODIFIED:20200125T152841Z
UID:10005342-1579950000-1579969800@cccld.org
SUMMARY:HS/MS SKI @ Steamboat Touring Ctr - NED BUS (11:00 AM Nordic/SK\,I)
DESCRIPTION:
URL:https://cccld.org/event/hs-ms-ski-steamboat-touring-ctr-ned-bus-1100-am-nordic-ski/
CATEGORIES:Community Events
END:VEVENT
END:VCALENDAR