BEGIN:VCALENDAR
VERSION:2.0
PRODID:-//Clear Creek County Library District - ECPv6.15.16//NONSGML v1.0//EN
CALSCALE:GREGORIAN
METHOD:PUBLISH
X-ORIGINAL-URL:https://cccld.org
X-WR-CALDESC:Events for Clear Creek County Library District
REFRESH-INTERVAL;VALUE=DURATION:PT1H
X-Robots-Tag:noindex
X-PUBLISHED-TTL:PT1H
BEGIN:VTIMEZONE
TZID:America/Denver
BEGIN:DAYLIGHT
TZOFFSETFROM:-0700
TZOFFSETTO:-0600
TZNAME:MDT
DTSTART:20190310T090000
END:DAYLIGHT
BEGIN:STANDARD
TZOFFSETFROM:-0600
TZOFFSETTO:-0700
TZNAME:MST
DTSTART:20191103T080000
END:STANDARD
BEGIN:DAYLIGHT
TZOFFSETFROM:-0700
TZOFFSETTO:-0600
TZNAME:MDT
DTSTART:20200308T090000
END:DAYLIGHT
BEGIN:STANDARD
TZOFFSETFROM:-0600
TZOFFSETTO:-0700
TZNAME:MST
DTSTART:20201101T080000
END:STANDARD
BEGIN:DAYLIGHT
TZOFFSETFROM:-0700
TZOFFSETTO:-0600
TZNAME:MDT
DTSTART:20210314T090000
END:DAYLIGHT
BEGIN:STANDARD
TZOFFSETFROM:-0600
TZOFFSETTO:-0700
TZNAME:MST
DTSTART:20211107T080000
END:STANDARD
END:VTIMEZONE
BEGIN:VEVENT
DTSTART;TZID=America/Denver:20200128T153000
DTEND;TZID=America/Denver:20200128T170000
DTSTAMP:20260421T060054
CREATED:20191223T215743Z
LAST-MODIFIED:20191223T215743Z
UID:10004687-1580225400-1580230800@cccld.org
SUMMARY:Kids Spelling Bee - Idaho Springs
DESCRIPTION:Put your spelling skills to the test! Teams of two or three will battle for prizes at our after-school spelling bees. \nIf you plan to attend\, please sign up at the circulation desk or email lucy@cccld.org.
URL:https://cccld.org/event/kids-spelling-bee-idaho-springs/
LOCATION:Idaho Springs Public Library\, 219 14th Avenue\, Idaho Springs\, CO\, 80452\, United States
CATEGORIES:Kids,Library Events
GEO:39.742052;-105.5183552
X-APPLE-STRUCTURED-LOCATION;VALUE=URI;X-ADDRESS=Idaho Springs Public Library 219 14th Avenue Idaho Springs CO 80452 United States;X-APPLE-RADIUS=500;X-TITLE=219 14th Avenue:geo:-105.5183552,39.742052
END:VEVENT
BEGIN:VEVENT
DTSTART;TZID=America/Denver:20200128T160000
DTEND;TZID=America/Denver:20200128T180000
DTSTAMP:20260421T060054
CREATED:20191229T171422Z
LAST-MODIFIED:20200106T172902Z
UID:10005343-1580227200-1580234400@cccld.org
SUMMARY:MS GBB VS EAST GRAND @ E GRAND - 1:45 BUS (4:00B/5:00A)
DESCRIPTION:
URL:https://cccld.org/event/ms-gbb-vs-east-grand-e-grand-145-bus-400b-500a/
CATEGORIES:Community Events
END:VEVENT
BEGIN:VEVENT
DTSTART;TZID=America/Denver:20200128T160000
DTEND;TZID=America/Denver:20200128T210000
DTSTAMP:20260421T060054
CREATED:20191229T171422Z
LAST-MODIFIED:20200129T153520Z
UID:10005344-1580227200-1580245200@cccld.org
SUMMARY:HS BBB vs Denver Academy @ CCHS (4:00 JV/7:00 V)
DESCRIPTION:
URL:https://cccld.org/event/hs-bbb-vs-denver-academy-cchs-400-jv-700-v/
CATEGORIES:Community Events
END:VEVENT
BEGIN:VEVENT
DTSTART;TZID=America/Denver:20200128T170000
DTEND;TZID=America/Denver:20200128T193000
DTSTAMP:20260421T060054
CREATED:20200107T172833Z
LAST-MODIFIED:20200129T153520Z
UID:10005372-1580230800-1580239800@cccld.org
SUMMARY:HS GBB vs Denver Academy @ CCHS (5:30 JV Only)
DESCRIPTION:
URL:https://cccld.org/event/hs-gbb-vs-denver-academy-cchs-530-jv-only/
CATEGORIES:Community Events
END:VEVENT
END:VCALENDAR