BEGIN:VCALENDAR
VERSION:2.0
PRODID:-//Clear Creek County Library District - ECPv6.15.16//NONSGML v1.0//EN
CALSCALE:GREGORIAN
METHOD:PUBLISH
X-ORIGINAL-URL:https://cccld.org
X-WR-CALDESC:Events for Clear Creek County Library District
REFRESH-INTERVAL;VALUE=DURATION:PT1H
X-Robots-Tag:noindex
X-PUBLISHED-TTL:PT1H
BEGIN:VTIMEZONE
TZID:America/Denver
BEGIN:DAYLIGHT
TZOFFSETFROM:-0700
TZOFFSETTO:-0600
TZNAME:MDT
DTSTART:20190310T090000
END:DAYLIGHT
BEGIN:STANDARD
TZOFFSETFROM:-0600
TZOFFSETTO:-0700
TZNAME:MST
DTSTART:20191103T080000
END:STANDARD
BEGIN:DAYLIGHT
TZOFFSETFROM:-0700
TZOFFSETTO:-0600
TZNAME:MDT
DTSTART:20200308T090000
END:DAYLIGHT
BEGIN:STANDARD
TZOFFSETFROM:-0600
TZOFFSETTO:-0700
TZNAME:MST
DTSTART:20201101T080000
END:STANDARD
BEGIN:DAYLIGHT
TZOFFSETFROM:-0700
TZOFFSETTO:-0600
TZNAME:MDT
DTSTART:20210314T090000
END:DAYLIGHT
BEGIN:STANDARD
TZOFFSETFROM:-0600
TZOFFSETTO:-0700
TZNAME:MST
DTSTART:20211107T080000
END:STANDARD
END:VTIMEZONE
BEGIN:VEVENT
DTSTART;TZID=America/Denver:20200129T111500
DTEND;TZID=America/Denver:20200129T161500
DTSTAMP:20260421T060055
CREATED:20191230T171535Z
LAST-MODIFIED:20200129T153520Z
UID:10005345-1580296500-1580314500@cccld.org
SUMMARY:HS/MS SKI@ LOVELAND\, PRACTICE - 11:30BUS (12:30)
DESCRIPTION:
URL:https://cccld.org/event/ms-ski-loveland-practice-1130bus-1230/
CATEGORIES:Community Events
END:VEVENT
BEGIN:VEVENT
DTSTART;TZID=America/Denver:20200129T134500
DTEND;TZID=America/Denver:20200129T191500
DTSTAMP:20260421T060055
CREATED:20191230T171535Z
LAST-MODIFIED:20200130T154626Z
UID:10005346-1580305500-1580325300@cccld.org
SUMMARY:MS GBB vs E. Grand @ E Grand 1:45BUS (4:00B/5:00A)
DESCRIPTION:
URL:https://cccld.org/event/ms-gbb-vs-e-grand-e-grand-145bus-400b-500a/
CATEGORIES:Community Events
END:VEVENT
BEGIN:VEVENT
DTSTART;TZID=America/Denver:20200129T150000
DTEND;TZID=America/Denver:20200129T190000
DTSTAMP:20260421T060055
CREATED:20191230T171535Z
LAST-MODIFIED:20200130T154626Z
UID:10005347-1580310000-1580324400@cccld.org
SUMMARY:MS WR vs Gilpin @ Gilpin 3:00 BUS  (4:30)
DESCRIPTION:
URL:https://cccld.org/event/ms-wr-vs-gilpin-gilpin-bus-tbd-430/
CATEGORIES:Community Events
END:VEVENT
BEGIN:VEVENT
DTSTART;TZID=America/Denver:20200129T154500
DTEND;TZID=America/Denver:20200129T170000
DTSTAMP:20260421T060055
CREATED:20191223T215620Z
LAST-MODIFIED:20191223T215620Z
UID:10004685-1580312700-1580317200@cccld.org
SUMMARY:Kids Spelling Bee - Georgetown
DESCRIPTION:Put your spelling skills to the test! Teams of two or three will battle for prizes at our after-school spelling bees. \nIf you plan to attend\, please sign up at the circulation desk or email lucy@cccld.org.
URL:https://cccld.org/event/kids-spelling-bee-georgetown/
LOCATION:John Tomay Memorial Library\, 605 6th Street\, Georgetown\, CO\, 80444\, United States
CATEGORIES:Kids,Library Events
GEO:39.7061997;-105.6974142
X-APPLE-STRUCTURED-LOCATION;VALUE=URI;X-ADDRESS=John Tomay Memorial Library 605 6th Street Georgetown CO 80444 United States;X-APPLE-RADIUS=500;X-TITLE=605 6th Street:geo:-105.6974142,39.7061997
END:VEVENT
BEGIN:VEVENT
DTSTART;TZID=America/Denver:20200129T170000
DTEND;TZID=America/Denver:20200129T210000
DTSTAMP:20260421T060055
CREATED:20191231T171344Z
LAST-MODIFIED:20200130T154626Z
UID:10005348-1580317200-1580331600@cccld.org
SUMMARY:HS WR @ CCHS - (5:00 PM/WI\, 6:00)
DESCRIPTION:
URL:https://cccld.org/event/hs-wr-cchs-500-pm-wi-600/
CATEGORIES:Community Events
END:VEVENT
END:VCALENDAR