BEGIN:VCALENDAR
VERSION:2.0
PRODID:-//Clear Creek County Library District - ECPv6.15.16//NONSGML v1.0//EN
CALSCALE:GREGORIAN
METHOD:PUBLISH
X-ORIGINAL-URL:https://cccld.org
X-WR-CALDESC:Events for Clear Creek County Library District
REFRESH-INTERVAL;VALUE=DURATION:PT1H
X-Robots-Tag:noindex
X-PUBLISHED-TTL:PT1H
BEGIN:VTIMEZONE
TZID:America/Denver
BEGIN:DAYLIGHT
TZOFFSETFROM:-0700
TZOFFSETTO:-0600
TZNAME:MDT
DTSTART:20190310T090000
END:DAYLIGHT
BEGIN:STANDARD
TZOFFSETFROM:-0600
TZOFFSETTO:-0700
TZNAME:MST
DTSTART:20191103T080000
END:STANDARD
BEGIN:DAYLIGHT
TZOFFSETFROM:-0700
TZOFFSETTO:-0600
TZNAME:MDT
DTSTART:20200308T090000
END:DAYLIGHT
BEGIN:STANDARD
TZOFFSETFROM:-0600
TZOFFSETTO:-0700
TZNAME:MST
DTSTART:20201101T080000
END:STANDARD
BEGIN:DAYLIGHT
TZOFFSETFROM:-0700
TZOFFSETTO:-0600
TZNAME:MDT
DTSTART:20210314T090000
END:DAYLIGHT
BEGIN:STANDARD
TZOFFSETFROM:-0600
TZOFFSETTO:-0700
TZNAME:MST
DTSTART:20211107T080000
END:STANDARD
END:VTIMEZONE
BEGIN:VEVENT
DTSTART;TZID=America/Denver:20200213T083000
DTEND;TZID=America/Denver:20200213T163000
DTSTAMP:20260421T060053
CREATED:20200212T172259Z
LAST-MODIFIED:20200213T172851Z
UID:10004769-1581582600-1581611400@cccld.org
SUMMARY:NO MS Practices Today 2:00 Activity Bus
DESCRIPTION:
URL:https://cccld.org/event/no-ms-practices-today-200-activity-bus/
CATEGORIES:Community Events
END:VEVENT
BEGIN:VEVENT
DTSTART;TZID=America/Denver:20200213T110000
DTEND;TZID=America/Denver:20200213T133000
DTSTAMP:20260421T060053
CREATED:20200129T183002Z
LAST-MODIFIED:20200129T183002Z
UID:10005431-1581591600-1581600600@cccld.org
SUMMARY:Friends of the Georgetown Library Annual Soup Lunch
DESCRIPTION:Join the Friends of the Georgetown Library for their annual soup lunch. The event is free and all are welcome!
URL:https://cccld.org/event/friends-of-the-georgetown-library-annual-soup-lunch/
LOCATION:John Tomay Memorial Library\, 605 6th Street\, Georgetown\, CO\, 80444\, United States
CATEGORIES:Adults,Community Events,Kids,Library Events
GEO:39.7061997;-105.6974142
X-APPLE-STRUCTURED-LOCATION;VALUE=URI;X-ADDRESS=John Tomay Memorial Library 605 6th Street Georgetown CO 80444 United States;X-APPLE-RADIUS=500;X-TITLE=605 6th Street:geo:-105.6974142,39.7061997
END:VEVENT
BEGIN:VEVENT
DTSTART;TZID=America/Denver:20200213T140000
DTEND;TZID=America/Denver:20200213T150000
DTSTAMP:20260421T060053
CREATED:20200207T163044Z
LAST-MODIFIED:20200213T172851Z
UID:10005456-1581602400-1581606000@cccld.org
SUMMARY:Activity Bus - 2:00
DESCRIPTION:
URL:https://cccld.org/event/activity-bus-200/
CATEGORIES:Community Events
END:VEVENT
BEGIN:VEVENT
DTSTART;TZID=America/Denver:20200213T160000
DTEND;TZID=America/Denver:20200213T210000
DTSTAMP:20260421T060053
CREATED:20200114T234530Z
LAST-MODIFIED:20200214T173041Z
UID:10005407-1581609600-1581627600@cccld.org
SUMMARY:HS BBB vs Heritage Christian @ CCHS (Sr Nite) (PTH) (4:00 JV/7:00V)
DESCRIPTION:
URL:https://cccld.org/event/hs-bbb-vs-heritage-christian-cchs-sr-nite-pth-400-jv-700v/
CATEGORIES:Community Events
END:VEVENT
BEGIN:VEVENT
DTSTART;TZID=America/Denver:20200213T173000
DTEND;TZID=America/Denver:20200213T173000
DTSTAMP:20260421T060053
CREATED:20200114T200944Z
LAST-MODIFIED:20200114T200944Z
UID:10005403-1581615000-1581615000@cccld.org
SUMMARY:Georgetown Adult Craft Night
DESCRIPTION:Do you love to craft? Or are you craft-curious? Get creative and connect with other crafty patrons at our monthly craft workshops! No experience is necessary and all workshops are free. \nFebruary Craft – Iris Fold Valentine Cards
URL:https://cccld.org/event/georgetown-adult-craft-night-5/
LOCATION:John Tomay Memorial Library\, 605 6th Street\, Georgetown\, CO\, 80444\, United States
CATEGORIES:Adults,Library Events
GEO:39.7061997;-105.6974142
X-APPLE-STRUCTURED-LOCATION;VALUE=URI;X-ADDRESS=John Tomay Memorial Library 605 6th Street Georgetown CO 80444 United States;X-APPLE-RADIUS=500;X-TITLE=605 6th Street:geo:-105.6974142,39.7061997
END:VEVENT
BEGIN:VEVENT
DTSTART;TZID=America/Denver:20200213T173000
DTEND;TZID=America/Denver:20200213T190000
DTSTAMP:20260421T060053
CREATED:20200114T234530Z
LAST-MODIFIED:20200214T173041Z
UID:10005406-1581615000-1581620400@cccld.org
SUMMARY:HS GBB vs Heritage Christian @ CCHS (Sr. Nite) (PTH) (5:30 V)
DESCRIPTION:
URL:https://cccld.org/event/hs-gbb-vs-heritage-christian-cchs-sr-nite-pth-530-v/
CATEGORIES:Community Events
END:VEVENT
END:VCALENDAR