BEGIN:VCALENDAR
VERSION:2.0
PRODID:-//Clear Creek County Library District - ECPv6.15.16//NONSGML v1.0//EN
CALSCALE:GREGORIAN
METHOD:PUBLISH
X-WR-CALNAME:Clear Creek County Library District
X-ORIGINAL-URL:https://cccld.org
X-WR-CALDESC:Events for Clear Creek County Library District
REFRESH-INTERVAL;VALUE=DURATION:PT1H
X-Robots-Tag:noindex
X-PUBLISHED-TTL:PT1H
BEGIN:VTIMEZONE
TZID:America/Denver
BEGIN:DAYLIGHT
TZOFFSETFROM:-0700
TZOFFSETTO:-0600
TZNAME:MDT
DTSTART:20190310T090000
END:DAYLIGHT
BEGIN:STANDARD
TZOFFSETFROM:-0600
TZOFFSETTO:-0700
TZNAME:MST
DTSTART:20191103T080000
END:STANDARD
BEGIN:DAYLIGHT
TZOFFSETFROM:-0700
TZOFFSETTO:-0600
TZNAME:MDT
DTSTART:20200308T090000
END:DAYLIGHT
BEGIN:STANDARD
TZOFFSETFROM:-0600
TZOFFSETTO:-0700
TZNAME:MST
DTSTART:20201101T080000
END:STANDARD
BEGIN:DAYLIGHT
TZOFFSETFROM:-0700
TZOFFSETTO:-0600
TZNAME:MDT
DTSTART:20210314T090000
END:DAYLIGHT
BEGIN:STANDARD
TZOFFSETFROM:-0600
TZOFFSETTO:-0700
TZNAME:MST
DTSTART:20211107T080000
END:STANDARD
END:VTIMEZONE
BEGIN:VEVENT
DTSTART;TZID=America/Denver:20200219T150000
DTEND;TZID=America/Denver:20200219T200000
DTSTAMP:20260421T055925
CREATED:20200212T172300Z
LAST-MODIFIED:20200219T175945Z
UID:10004771-1582124400-1582142400@cccld.org
SUMMARY:HS BBB/GBB @ Twin Peak HS\, Longmont - 3:15 BUS (BJV 5:30/GV 5:30/BV 7:00)
DESCRIPTION:
URL:https://cccld.org/event/hs-bbb-gbb-twin-peak-hs-longmont-315-bus-bjv-530-gv-530-bv-700/
CATEGORIES:Community Events
END:VEVENT
BEGIN:VEVENT
DTSTART;TZID=America/Denver:20200219T160000
DTEND;TZID=America/Denver:20200219T183000
DTSTAMP:20260421T055925
CREATED:20200120T142903Z
LAST-MODIFIED:20200210T164445Z
UID:10005420-1582128000-1582137000@cccld.org
SUMMARY:MS GBB vs BENNETT @ BENNETT - 2:00 BUS (4:15B/5:15A)
DESCRIPTION:
URL:https://cccld.org/event/ms-gbb-vs-bennett-bennett-200-bus-415b-515a/
CATEGORIES:Community Events
END:VEVENT
BEGIN:VEVENT
DTSTART;TZID=America/Denver:20200219T160000
DTEND;TZID=America/Denver:20200219T190000
DTSTAMP:20260421T055925
CREATED:20200120T142903Z
LAST-MODIFIED:20200219T175946Z
UID:10005422-1582128000-1582138800@cccld.org
SUMMARY:MS WR E Grand\,Fitz\,Gilpin @ CCMS (4:00) Lunch Commons
DESCRIPTION:
URL:https://cccld.org/event/ms-wr-e-grandfitzgilpin-ccms-400/
CATEGORIES:Community Events
END:VEVENT
END:VCALENDAR