BEGIN:VCALENDAR
VERSION:2.0
PRODID:-//Clear Creek County Library District - ECPv6.15.16//NONSGML v1.0//EN
CALSCALE:GREGORIAN
METHOD:PUBLISH
X-WR-CALNAME:Clear Creek County Library District
X-ORIGINAL-URL:https://cccld.org
X-WR-CALDESC:Events for Clear Creek County Library District
REFRESH-INTERVAL;VALUE=DURATION:PT1H
X-Robots-Tag:noindex
X-PUBLISHED-TTL:PT1H
BEGIN:VTIMEZONE
TZID:America/Denver
BEGIN:DAYLIGHT
TZOFFSETFROM:-0700
TZOFFSETTO:-0600
TZNAME:MDT
DTSTART:20190310T090000
END:DAYLIGHT
BEGIN:STANDARD
TZOFFSETFROM:-0600
TZOFFSETTO:-0700
TZNAME:MST
DTSTART:20191103T080000
END:STANDARD
BEGIN:DAYLIGHT
TZOFFSETFROM:-0700
TZOFFSETTO:-0600
TZNAME:MDT
DTSTART:20200308T090000
END:DAYLIGHT
BEGIN:STANDARD
TZOFFSETFROM:-0600
TZOFFSETTO:-0700
TZNAME:MST
DTSTART:20201101T080000
END:STANDARD
BEGIN:DAYLIGHT
TZOFFSETFROM:-0700
TZOFFSETTO:-0600
TZNAME:MDT
DTSTART:20210314T090000
END:DAYLIGHT
BEGIN:STANDARD
TZOFFSETFROM:-0600
TZOFFSETTO:-0700
TZNAME:MST
DTSTART:20211107T080000
END:STANDARD
END:VTIMEZONE
BEGIN:VEVENT
DTSTART;TZID=America/Denver:20200402T133000
DTEND;TZID=America/Denver:20200402T170000
DTSTAMP:20260421T070721
CREATED:20200303T184342Z
LAST-MODIFIED:20200313T191515Z
UID:10005521-1585834200-1585846800@cccld.org
SUMMARY:HS Baseball vs Dawson @ Dawson - 1:45 BUS (4:00V)
DESCRIPTION:
URL:https://cccld.org/event/hs-baseball-vs-dawson-dawson-145-bus-400v/
CATEGORIES:Community Events
END:VEVENT
BEGIN:VEVENT
DTSTART;TZID=America/Denver:20200402T133000
DTEND;TZID=America/Denver:20200402T190000
DTSTAMP:20260421T070721
CREATED:20200303T184342Z
LAST-MODIFIED:20200313T191515Z
UID:10005520-1585834200-1585854000@cccld.org
SUMMARY:MS SOCC vs. Kent Denver @ Kent Den - 1:45 BUS (3:30/4:30)
DESCRIPTION:
URL:https://cccld.org/event/ms-socc-vs-kent-denver-kent-den-145-bus-330-430/
CATEGORIES:Community Events
END:VEVENT
BEGIN:VEVENT
DTSTART;TZID=America/Denver:20200402T153000
DTEND;TZID=America/Denver:20200402T180000
DTSTAMP:20260421T070721
CREATED:20200303T184342Z
LAST-MODIFIED:20200313T191515Z
UID:10004782-1585841400-1585850400@cccld.org
SUMMARY:HS LAX vs Englewood @ CCHS (4:00)
DESCRIPTION:
URL:https://cccld.org/event/hs-lax-vs-englewood-cchs-400/
CATEGORIES:Community Events
END:VEVENT
END:VCALENDAR