BEGIN:VCALENDAR
VERSION:2.0
PRODID:-//Clear Creek County Library District - ECPv6.15.16//NONSGML v1.0//EN
CALSCALE:GREGORIAN
METHOD:PUBLISH
X-WR-CALNAME:Clear Creek County Library District
X-ORIGINAL-URL:https://cccld.org
X-WR-CALDESC:Events for Clear Creek County Library District
REFRESH-INTERVAL;VALUE=DURATION:PT1H
X-Robots-Tag:noindex
X-PUBLISHED-TTL:PT1H
BEGIN:VTIMEZONE
TZID:America/Denver
BEGIN:DAYLIGHT
TZOFFSETFROM:-0700
TZOFFSETTO:-0600
TZNAME:MDT
DTSTART:20190310T090000
END:DAYLIGHT
BEGIN:STANDARD
TZOFFSETFROM:-0600
TZOFFSETTO:-0700
TZNAME:MST
DTSTART:20191103T080000
END:STANDARD
BEGIN:DAYLIGHT
TZOFFSETFROM:-0700
TZOFFSETTO:-0600
TZNAME:MDT
DTSTART:20200308T090000
END:DAYLIGHT
BEGIN:STANDARD
TZOFFSETFROM:-0600
TZOFFSETTO:-0700
TZNAME:MST
DTSTART:20201101T080000
END:STANDARD
BEGIN:DAYLIGHT
TZOFFSETFROM:-0700
TZOFFSETTO:-0600
TZNAME:MDT
DTSTART:20210314T090000
END:DAYLIGHT
BEGIN:STANDARD
TZOFFSETFROM:-0600
TZOFFSETTO:-0700
TZNAME:MST
DTSTART:20211107T080000
END:STANDARD
END:VTIMEZONE
BEGIN:VEVENT
DTSTART;TZID=America/Denver:20200403T073000
DTEND;TZID=America/Denver:20200403T123000
DTSTAMP:20260421T070720
CREATED:20200304T184355Z
LAST-MODIFIED:20200313T191515Z
UID:10004788-1585899000-1585917000@cccld.org
SUMMARY:HS TRACK vs Weld Central @ Keenesburg - 7:45AM BUS (4715 Weld Cnty\, RD 59) (10:00)
DESCRIPTION:
URL:https://cccld.org/event/hs-track-vs-weld-central-keenesburg-745am-bus-4715-weld-cnty-rd-59-1000/
CATEGORIES:Community Events
END:VEVENT
BEGIN:VEVENT
DTSTART;TZID=America/Denver:20200403T153000
DTEND;TZID=America/Denver:20200403T173000
DTSTAMP:20260421T070720
CREATED:20200304T184355Z
LAST-MODIFIED:20200313T191515Z
UID:10004790-1585927800-1585935000@cccld.org
SUMMARY:HS Soccer vs Nederland @ CCHS (4:00)
DESCRIPTION:
URL:https://cccld.org/event/hs-soccer-vs-nederland-cchs-400/
CATEGORIES:Community Events
END:VEVENT
END:VCALENDAR