BEGIN:VCALENDAR
VERSION:2.0
PRODID:-//Clear Creek County Library District - ECPv6.15.16//NONSGML v1.0//EN
CALSCALE:GREGORIAN
METHOD:PUBLISH
X-WR-CALNAME:Clear Creek County Library District
X-ORIGINAL-URL:https://cccld.org
X-WR-CALDESC:Events for Clear Creek County Library District
REFRESH-INTERVAL;VALUE=DURATION:PT1H
X-Robots-Tag:noindex
X-PUBLISHED-TTL:PT1H
BEGIN:VTIMEZONE
TZID:America/Denver
BEGIN:DAYLIGHT
TZOFFSETFROM:-0700
TZOFFSETTO:-0600
TZNAME:MDT
DTSTART:20190310T090000
END:DAYLIGHT
BEGIN:STANDARD
TZOFFSETFROM:-0600
TZOFFSETTO:-0700
TZNAME:MST
DTSTART:20191103T080000
END:STANDARD
BEGIN:DAYLIGHT
TZOFFSETFROM:-0700
TZOFFSETTO:-0600
TZNAME:MDT
DTSTART:20200308T090000
END:DAYLIGHT
BEGIN:STANDARD
TZOFFSETFROM:-0600
TZOFFSETTO:-0700
TZNAME:MST
DTSTART:20201101T080000
END:STANDARD
BEGIN:DAYLIGHT
TZOFFSETFROM:-0700
TZOFFSETTO:-0600
TZNAME:MDT
DTSTART:20210314T090000
END:DAYLIGHT
BEGIN:STANDARD
TZOFFSETFROM:-0600
TZOFFSETTO:-0700
TZNAME:MST
DTSTART:20211107T080000
END:STANDARD
END:VTIMEZONE
BEGIN:VEVENT
DTSTART;TZID=America/Denver:20200404T103000
DTEND;TZID=America/Denver:20200404T133000
DTSTAMP:20260421T070721
CREATED:20200305T185841Z
LAST-MODIFIED:20200313T191515Z
UID:10004792-1585996200-1586007000@cccld.org
SUMMARY:HS Baseball vs Longmont Christ. @ CCHS (11:00V)
DESCRIPTION:
URL:https://cccld.org/event/hs-baseball-vs-longmont-christ-cchs-1100v/
CATEGORIES:Community Events
END:VEVENT
BEGIN:VEVENT
DTSTART;TZID=America/Denver:20200404T113000
DTEND;TZID=America/Denver:20200404T130000
DTSTAMP:20260421T070721
CREATED:20200305T185841Z
LAST-MODIFIED:20200313T191515Z
UID:10004794-1585999800-1586005200@cccld.org
SUMMARY:HS LAX vs Rangeview @ Rangeview - NO BUS (11:30)
DESCRIPTION:
URL:https://cccld.org/event/hs-lax-vs-rangeview-rangeview-no-bus-1130/
CATEGORIES:Community Events
END:VEVENT
BEGIN:VEVENT
DTSTART;TZID=America/Denver:20200404T153000
DTEND;TZID=America/Denver:20200404T180000
DTSTAMP:20260421T070721
CREATED:20200305T185841Z
LAST-MODIFIED:20200313T191515Z
UID:10004795-1586014200-1586023200@cccld.org
SUMMARY:HS Soccer v Aruppe Jesuite @ CCHS (4:00)
DESCRIPTION:
URL:https://cccld.org/event/hs-soccer-v-aruppe-jesuite-cchs-400/
CATEGORIES:Community Events
END:VEVENT
BEGIN:VEVENT
DTSTART;TZID=America/Denver:20200404T173000
DTEND;TZID=America/Denver:20200404T210000
DTSTAMP:20260421T070721
CREATED:20200305T185841Z
LAST-MODIFIED:20200313T191515Z
UID:10004796-1586021400-1586034000@cccld.org
SUMMARY:HS Baseball Bingo
DESCRIPTION:
URL:https://cccld.org/event/hs-baseball-bingo/
LOCATION:Elks Lodge\, 1600 Colorado Blvd\, Idaho Springs\, CO 80452\, USA\, 1 Colorado Blvd\, United States
CATEGORIES:Community Events
GEO:39.744599;-105.532935
X-APPLE-STRUCTURED-LOCATION;VALUE=URI;X-ADDRESS=Elks Lodge 1600 Colorado Blvd Idaho Springs CO 80452 USA 1 Colorado Blvd United States;X-APPLE-RADIUS=500;X-TITLE=1 Colorado Blvd:geo:-105.532935,39.744599
END:VEVENT
END:VCALENDAR