BEGIN:VCALENDAR
VERSION:2.0
PRODID:-//Clear Creek County Library District - ECPv6.15.16//NONSGML v1.0//EN
CALSCALE:GREGORIAN
METHOD:PUBLISH
X-WR-CALNAME:Clear Creek County Library District
X-ORIGINAL-URL:https://cccld.org
X-WR-CALDESC:Events for Clear Creek County Library District
REFRESH-INTERVAL;VALUE=DURATION:PT1H
X-Robots-Tag:noindex
X-PUBLISHED-TTL:PT1H
BEGIN:VTIMEZONE
TZID:America/Denver
BEGIN:DAYLIGHT
TZOFFSETFROM:-0700
TZOFFSETTO:-0600
TZNAME:MDT
DTSTART:20190310T090000
END:DAYLIGHT
BEGIN:STANDARD
TZOFFSETFROM:-0600
TZOFFSETTO:-0700
TZNAME:MST
DTSTART:20191103T080000
END:STANDARD
BEGIN:DAYLIGHT
TZOFFSETFROM:-0700
TZOFFSETTO:-0600
TZNAME:MDT
DTSTART:20200308T090000
END:DAYLIGHT
BEGIN:STANDARD
TZOFFSETFROM:-0600
TZOFFSETTO:-0700
TZNAME:MST
DTSTART:20201101T080000
END:STANDARD
BEGIN:DAYLIGHT
TZOFFSETFROM:-0700
TZOFFSETTO:-0600
TZNAME:MDT
DTSTART:20210314T090000
END:DAYLIGHT
BEGIN:STANDARD
TZOFFSETFROM:-0600
TZOFFSETTO:-0700
TZNAME:MST
DTSTART:20211107T080000
END:STANDARD
END:VTIMEZONE
BEGIN:VEVENT
DTSTART;TZID=America/Denver:20200407T150000
DTEND;TZID=America/Denver:20200407T173000
DTSTAMP:20260421T092722
CREATED:20200308T185944Z
LAST-MODIFIED:20200315T191339Z
UID:10005523-1586271600-1586280600@cccld.org
SUMMARY:HS Soccer vs Den. Christian @ CCHS (4:00)
DESCRIPTION:
URL:https://cccld.org/event/hs-soccer-vs-den-christian-cchs-400/
CATEGORIES:Community Events
END:VEVENT
BEGIN:VEVENT
DTSTART;TZID=America/Denver:20200407T160000
DTEND;TZID=America/Denver:20200407T200000
DTSTAMP:20260421T092722
CREATED:20200308T185944Z
LAST-MODIFIED:20200315T191339Z
UID:10005524-1586275200-1586289600@cccld.org
SUMMARY:HS LAX vs Lutheran @ Luthern - 4:00 BUS (6:00)
DESCRIPTION:
URL:https://cccld.org/event/hs-lax-vs-lutheran-luthern-400-bus-600/
CATEGORIES:Community Events
END:VEVENT
END:VCALENDAR