BEGIN:VCALENDAR
VERSION:2.0
PRODID:-//Clear Creek County Library District - ECPv6.15.16//NONSGML v1.0//EN
CALSCALE:GREGORIAN
METHOD:PUBLISH
X-ORIGINAL-URL:https://cccld.org
X-WR-CALDESC:Events for Clear Creek County Library District
REFRESH-INTERVAL;VALUE=DURATION:PT1H
X-Robots-Tag:noindex
X-PUBLISHED-TTL:PT1H
BEGIN:VTIMEZONE
TZID:America/Denver
BEGIN:DAYLIGHT
TZOFFSETFROM:-0700
TZOFFSETTO:-0600
TZNAME:MDT
DTSTART:20190310T090000
END:DAYLIGHT
BEGIN:STANDARD
TZOFFSETFROM:-0600
TZOFFSETTO:-0700
TZNAME:MST
DTSTART:20191103T080000
END:STANDARD
BEGIN:DAYLIGHT
TZOFFSETFROM:-0700
TZOFFSETTO:-0600
TZNAME:MDT
DTSTART:20200308T090000
END:DAYLIGHT
BEGIN:STANDARD
TZOFFSETFROM:-0600
TZOFFSETTO:-0700
TZNAME:MST
DTSTART:20201101T080000
END:STANDARD
BEGIN:DAYLIGHT
TZOFFSETFROM:-0700
TZOFFSETTO:-0600
TZNAME:MDT
DTSTART:20210314T090000
END:DAYLIGHT
BEGIN:STANDARD
TZOFFSETFROM:-0600
TZOFFSETTO:-0700
TZNAME:MST
DTSTART:20211107T080000
END:STANDARD
END:VTIMEZONE
BEGIN:VEVENT
DTSTART;TZID=America/Denver:20200408T120000
DTEND;TZID=America/Denver:20200408T193000
DTSTAMP:20260421T082321
CREATED:20200309T185820Z
LAST-MODIFIED:20200315T191339Z
UID:10005525-1586347200-1586374200@cccld.org
SUMMARY:HS Baseball vs Flatirons Acd. @ Flatirons Acd - 12:45 BUS (3:00V/5:00JV)
DESCRIPTION:
URL:https://cccld.org/event/hs-baseball-vs-flatirons-acd-flatirons-acd-1245-bus-300v-500jv/
CATEGORIES:Community Events
END:VEVENT
BEGIN:VEVENT
DTSTART;TZID=America/Denver:20200408T161500
DTEND;TZID=America/Denver:20200408T184500
DTSTAMP:20260421T082321
CREATED:20200309T185820Z
LAST-MODIFIED:20200315T191339Z
UID:10005526-1586362500-1586371500@cccld.org
SUMMARY:MS BASE  vs Bennett @ CCMS (4:15)
DESCRIPTION:
URL:https://cccld.org/event/ms-base-vs-bennett-ccms-415/
CATEGORIES:Community Events
END:VEVENT
END:VCALENDAR